BEGIN:VCALENDAR
VERSION:2.0
PRODID:-//DVCTA - ECPv6.15.20//NONSGML v1.0//EN
CALSCALE:GREGORIAN
METHOD:PUBLISH
X-ORIGINAL-URL:https://www.dvcta.org
X-WR-CALDESC:Events for DVCTA
REFRESH-INTERVAL;VALUE=DURATION:PT1H
X-Robots-Tag:noindex
X-PUBLISHED-TTL:PT1H
BEGIN:VTIMEZONE
TZID:America/New_York
BEGIN:DAYLIGHT
TZOFFSETFROM:-0500
TZOFFSETTO:-0400
TZNAME:EDT
DTSTART:20210314T070000
END:DAYLIGHT
BEGIN:STANDARD
TZOFFSETFROM:-0400
TZOFFSETTO:-0500
TZNAME:EST
DTSTART:20211107T060000
END:STANDARD
BEGIN:DAYLIGHT
TZOFFSETFROM:-0500
TZOFFSETTO:-0400
TZNAME:EDT
DTSTART:20220313T070000
END:DAYLIGHT
BEGIN:STANDARD
TZOFFSETFROM:-0400
TZOFFSETTO:-0500
TZNAME:EST
DTSTART:20221106T060000
END:STANDARD
BEGIN:DAYLIGHT
TZOFFSETFROM:-0500
TZOFFSETTO:-0400
TZNAME:EDT
DTSTART:20230312T070000
END:DAYLIGHT
BEGIN:STANDARD
TZOFFSETFROM:-0400
TZOFFSETTO:-0500
TZNAME:EST
DTSTART:20231105T060000
END:STANDARD
BEGIN:DAYLIGHT
TZOFFSETFROM:-0500
TZOFFSETTO:-0400
TZNAME:EDT
DTSTART:20240310T070000
END:DAYLIGHT
BEGIN:STANDARD
TZOFFSETFROM:-0400
TZOFFSETTO:-0500
TZNAME:EST
DTSTART:20241103T060000
END:STANDARD
END:VTIMEZONE
BEGIN:VEVENT
DTSTART;VALUE=DATE:20230624
DTEND;VALUE=DATE:20230625
DTSTAMP:20260424T094201
CREATED:20221231T110206Z
LAST-MODIFIED:20221231T110206Z
UID:7213-1687564800-1687651199@www.dvcta.org
SUMMARY:Blue Goose CT/Dressage Schooling Show
DESCRIPTION:Schooling Show Series\nCombined Training | Dressage | Western Dressage
URL:https://www.dvcta.org/event/blue-goose-ct-dressage-schooling-show-30/
LOCATION:Blue Goose Stable\, 210 White Horse Road\, Cochranville\, PA\, 19330\, United States
CATEGORIES:DVCTA Sanctioned Schooling Show
ORGANIZER;CN="Darcy Miller":MAILTO:BlueGooseStableLLC@gmail.com
END:VEVENT
BEGIN:VEVENT
DTSTART;VALUE=DATE:20230617
DTEND;VALUE=DATE:20230618
DTSTAMP:20260424T094201
CREATED:20230116T141234Z
LAST-MODIFIED:20230116T141234Z
UID:7357-1686960000-1687046399@www.dvcta.org
SUMMARY:Thornridge Manor Schooling Show
DESCRIPTION:Schooling Show
URL:https://www.dvcta.org/event/thornridge-manor-schooling-show-19/
LOCATION:Thornridge Manor\, 12531 Manor Rd\, Glen Arm\, MD\, 21057\, United States
CATEGORIES:DVCTA Sanctioned Schooling Show
END:VEVENT
BEGIN:VEVENT
DTSTART;VALUE=DATE:20230616
DTEND;VALUE=DATE:20230617
DTSTAMP:20260424T094201
CREATED:20230116T132101Z
LAST-MODIFIED:20230116T132101Z
UID:7310-1686873600-1686959999@www.dvcta.org
SUMMARY:Second Nature Dressage Schooling Show
DESCRIPTION:Schooling Dressage Show
URL:https://www.dvcta.org/event/second-nature-dressage-schooling-show-27/
LOCATION:Second Nature Farm\, 420 Catamount Road\, Oxford\, PA\, 19363\, United States
CATEGORIES:DVCTA Sanctioned Schooling Show
END:VEVENT
BEGIN:VEVENT
DTSTART;VALUE=DATE:20230610
DTEND;VALUE=DATE:20230611
DTSTAMP:20260424T094201
CREATED:20230116T133355Z
LAST-MODIFIED:20230116T133355Z
UID:7333-1686355200-1686441599@www.dvcta.org
SUMMARY:DunMovin Dressage Schooling Show
DESCRIPTION:Dressage Schooling Show
URL:https://www.dvcta.org/event/dunmovin-dressage-schooling-show-32/
LOCATION:DunMovin Farm\, 825 Guthrie Road\, West Chester\, PA\, 19380\, United States
CATEGORIES:DVCTA Sanctioned Schooling Show
ORGANIZER;CN="Doreen Garland":MAILTO:Dunmovinenterprisesllc@gmail.com
END:VEVENT
BEGIN:VEVENT
DTSTART;VALUE=DATE:20230603
DTEND;VALUE=DATE:20230604
DTSTAMP:20260424T094201
CREATED:20230302T175836Z
LAST-MODIFIED:20230302T175836Z
UID:7470-1685750400-1685836799@www.dvcta.org
SUMMARY:On the Bit Equestrian Center Schooling Show
DESCRIPTION:Schooling Show
URL:https://www.dvcta.org/event/on-the-bit-equestrian-center-schooling-show/
LOCATION:On the Bit Equestrian Center\, 1700 State Road\, Oxford\, PA\, 19363\, United States
CATEGORIES:DVCTA Sanctioned Schooling Show
END:VEVENT
BEGIN:VEVENT
DTSTART;VALUE=DATE:20230519
DTEND;VALUE=DATE:20230520
DTSTAMP:20260424T094201
CREATED:20230116T132018Z
LAST-MODIFIED:20230116T132018Z
UID:7308-1684454400-1684540799@www.dvcta.org
SUMMARY:Second Nature Dressage Schooling Show
DESCRIPTION:Schooling Dressage Show
URL:https://www.dvcta.org/event/second-nature-dressage-schooling-show-26/
LOCATION:Second Nature Farm\, 420 Catamount Road\, Oxford\, PA\, 19363\, United States
CATEGORIES:DVCTA Sanctioned Schooling Show
END:VEVENT
BEGIN:VEVENT
DTSTART;VALUE=DATE:20230506
DTEND;VALUE=DATE:20230507
DTSTAMP:20260424T094201
CREATED:20230116T131255Z
LAST-MODIFIED:20230116T131255Z
UID:7298-1683331200-1683417599@www.dvcta.org
SUMMARY:Bally Vae Farm Schooling Show
DESCRIPTION:Schooling Show Series
URL:https://www.dvcta.org/event/bally-vae-farm-schooling-show-27/
LOCATION:Bally Vae Farm\, 369 Lewisville Road\, Lincoln University\, PA\, 19352\, United States
CATEGORIES:DVCTA Sanctioned Schooling Show
END:VEVENT
BEGIN:VEVENT
DTSTART;VALUE=DATE:20230506
DTEND;VALUE=DATE:20230507
DTSTAMP:20260424T094201
CREATED:20221231T110103Z
LAST-MODIFIED:20221231T110103Z
UID:7211-1683331200-1683417599@www.dvcta.org
SUMMARY:Blue Goose CT/Dressage Schooling Show
DESCRIPTION:Schooling Show Series\nCombined Training | Dressage | Western Dressage
URL:https://www.dvcta.org/event/blue-goose-ct-dressage-schooling-show-29/
LOCATION:Blue Goose Stable\, 210 White Horse Road\, Cochranville\, PA\, 19330\, United States
CATEGORIES:DVCTA Sanctioned Schooling Show
ORGANIZER;CN="Darcy Miller":MAILTO:BlueGooseStableLLC@gmail.com
END:VEVENT
BEGIN:VEVENT
DTSTART;VALUE=DATE:20230422
DTEND;VALUE=DATE:20230423
DTSTAMP:20260424T094201
CREATED:20230329T120517Z
LAST-MODIFIED:20230329T120517Z
UID:7520-1682121600-1682207999@www.dvcta.org
SUMMARY:Rolling Hills Ranch CT/Dressage Schooling Show
DESCRIPTION:CT/Dressage Schooling Show
URL:https://www.dvcta.org/event/rolling-hills-ranch-ct-dressage-schooling-show-9/
LOCATION:Rolling Hills Ranch\, 33 Rolling Hills Ranch Ln\, Port Deposit\, MD\, United States
CATEGORIES:DVCTA Sanctioned Schooling Show
END:VEVENT
BEGIN:VEVENT
DTSTART;VALUE=DATE:20230422
DTEND;VALUE=DATE:20230423
DTSTAMP:20260424T094201
CREATED:20230116T133217Z
LAST-MODIFIED:20230116T133217Z
UID:7329-1682121600-1682207999@www.dvcta.org
SUMMARY:DunMovin Dressage Schooling Show
DESCRIPTION:Dressage Schooling Show
URL:https://www.dvcta.org/event/dunmovin-dressage-schooling-show-30/
LOCATION:DunMovin Farm\, 825 Guthrie Road\, West Chester\, PA\, 19380\, United States
CATEGORIES:DVCTA Sanctioned Schooling Show
ORGANIZER;CN="Doreen Garland":MAILTO:Dunmovinenterprisesllc@gmail.com
END:VEVENT
BEGIN:VEVENT
DTSTART;VALUE=DATE:20230421
DTEND;VALUE=DATE:20230422
DTSTAMP:20260424T094201
CREATED:20230116T131927Z
LAST-MODIFIED:20230116T131927Z
UID:7306-1682035200-1682121599@www.dvcta.org
SUMMARY:Second Nature Dressage Schooling Show
DESCRIPTION:Schooling Dressage Show
URL:https://www.dvcta.org/event/second-nature-dressage-schooling-show-25/
LOCATION:Second Nature Farm\, 420 Catamount Road\, Oxford\, PA\, 19363\, United States
CATEGORIES:DVCTA Sanctioned Schooling Show
END:VEVENT
BEGIN:VEVENT
DTSTART;VALUE=DATE:20230415
DTEND;VALUE=DATE:20230416
DTSTAMP:20260424T094201
CREATED:20230116T141146Z
LAST-MODIFIED:20230116T141146Z
UID:7355-1681516800-1681603199@www.dvcta.org
SUMMARY:Thornridge Manor Schooling Show
DESCRIPTION:Schooling Show
URL:https://www.dvcta.org/event/thornridge-manor-schooling-show-18/
LOCATION:Thornridge Manor\, 12531 Manor Rd\, Glen Arm\, MD\, 21057\, United States
CATEGORIES:DVCTA Sanctioned Schooling Show
END:VEVENT
BEGIN:VEVENT
DTSTART;VALUE=DATE:20230408
DTEND;VALUE=DATE:20230409
DTSTAMP:20260424T094201
CREATED:20221231T110027Z
LAST-MODIFIED:20221231T110027Z
UID:7209-1680912000-1680998399@www.dvcta.org
SUMMARY:Blue Goose CT/Dressage Schooling Show
DESCRIPTION:Schooling Show Series\nCombined Training | Dressage | Western Dressage
URL:https://www.dvcta.org/event/blue-goose-ct-dressage-schooling-show-28/
LOCATION:Blue Goose Stable\, 210 White Horse Road\, Cochranville\, PA\, 19330\, United States
CATEGORIES:DVCTA Sanctioned Schooling Show
ORGANIZER;CN="Darcy Miller":MAILTO:BlueGooseStableLLC@gmail.com
END:VEVENT
BEGIN:VEVENT
DTSTART;VALUE=DATE:20230319
DTEND;VALUE=DATE:20230320
DTSTAMP:20260424T094201
CREATED:20230116T142137Z
LAST-MODIFIED:20230116T142137Z
UID:7367-1679184000-1679270399@www.dvcta.org
SUMMARY:Silver Fern Farm
DESCRIPTION:Silver Fern Farm Winter Dressage Series\nHeld at Worthmore Equestrian Center\, Worton\, MD\n\nINFORMATION: \nFacebook Page and Entries: Silver Fern Farm Winter Dressage Series
URL:https://www.dvcta.org/event/silver-fern-farm-3/
LOCATION:Worthmore Equestrian Center\, 11570 Still Pond Road\, Worton\, MD\, 21678\, United States
CATEGORIES:DVCTA Sanctioned Schooling Show
END:VEVENT
BEGIN:VEVENT
DTSTART;VALUE=DATE:20230318
DTEND;VALUE=DATE:20230319
DTSTAMP:20260424T094201
CREATED:20230116T133130Z
LAST-MODIFIED:20230116T133130Z
UID:7327-1679097600-1679183999@www.dvcta.org
SUMMARY:DunMovin Dressage Schooling Show
DESCRIPTION:Dressage Schooling Show
URL:https://www.dvcta.org/event/dunmovin-dressage-schooling-show-29/
LOCATION:DunMovin Farm\, 825 Guthrie Road\, West Chester\, PA\, 19380\, United States
CATEGORIES:DVCTA Sanctioned Schooling Show
ORGANIZER;CN="Doreen Garland":MAILTO:Dunmovinenterprisesllc@gmail.com
END:VEVENT
BEGIN:VEVENT
DTSTART;VALUE=DATE:20230312
DTEND;VALUE=DATE:20230313
DTSTAMP:20260424T094201
CREATED:20230116T135515Z
LAST-MODIFIED:20230116T135515Z
UID:7347-1678579200-1678665599@www.dvcta.org
SUMMARY:Line It Up Winter Dressage Show Series
DESCRIPTION:Line It Up Winter Dressage Show Series
URL:https://www.dvcta.org/event/line-it-up-winter-dressage-show-series-3/
LOCATION:Line It Up Farm\, 375 Coffroath Road\, Coatesville\, PA\, 19320\, United States
CATEGORIES:DVCTA Sanctioned Schooling Show
END:VEVENT
BEGIN:VEVENT
DTSTART;VALUE=DATE:20230311
DTEND;VALUE=DATE:20230312
DTSTAMP:20260424T094201
CREATED:20221231T105841Z
LAST-MODIFIED:20221231T105841Z
UID:7207-1678492800-1678579199@www.dvcta.org
SUMMARY:Blue Goose Dressage Schooling Show
DESCRIPTION:Schooling Show Series\nPrix Caprilli | Dressage | Western Dressage
URL:https://www.dvcta.org/event/blue-goose-dressage-schooling-show-6/
LOCATION:Blue Goose @ The Stables at Fox Crossing\, 501 Walter Road\, Cochranville\, PA\, 19330\, United States
CATEGORIES:DVCTA Sanctioned Schooling Show
ORGANIZER;CN="Darcy Miller":MAILTO:BlueGooseStableLLC@gmail.com
END:VEVENT
BEGIN:VEVENT
DTSTART;VALUE=DATE:20230219
DTEND;VALUE=DATE:20230220
DTSTAMP:20260424T094201
CREATED:20230116T135436Z
LAST-MODIFIED:20230116T135436Z
UID:7345-1676764800-1676851199@www.dvcta.org
SUMMARY:Line It Up Winter Dressage Show Series
DESCRIPTION:Line It Up Winter Dressage Show Series
URL:https://www.dvcta.org/event/line-it-up-winter-dressage-show-series-2/
LOCATION:Line It Up Farm\, 375 Coffroath Road\, Coatesville\, PA\, 19320\, United States
CATEGORIES:DVCTA Sanctioned Schooling Show
END:VEVENT
BEGIN:VEVENT
DTSTART;VALUE=DATE:20230218
DTEND;VALUE=DATE:20230219
DTSTAMP:20260424T094201
CREATED:20230116T133006Z
LAST-MODIFIED:20230116T133006Z
UID:7325-1676678400-1676764799@www.dvcta.org
SUMMARY:DunMovin Dressage Schooling Show
DESCRIPTION:Dressage Schooling Show
URL:https://www.dvcta.org/event/dunmovin-dressage-schooling-show-28/
LOCATION:DunMovin Farm\, 825 Guthrie Road\, West Chester\, PA\, 19380\, United States
CATEGORIES:DVCTA Sanctioned Schooling Show
ORGANIZER;CN="Doreen Garland":MAILTO:Dunmovinenterprisesllc@gmail.com
END:VEVENT
BEGIN:VEVENT
DTSTART;VALUE=DATE:20230212
DTEND;VALUE=DATE:20230213
DTSTAMP:20260424T094201
CREATED:20230116T142100Z
LAST-MODIFIED:20230116T142100Z
UID:7365-1676160000-1676246399@www.dvcta.org
SUMMARY:Silver Fern Farm
DESCRIPTION:Silver Fern Farm Winter Dressage Series\nHeld at Worthmore Equestrian Center\, Worton\, MD\n\nINFORMATION: \nFacebook Page and Entries: Silver Fern Farm Winter Dressage Series
URL:https://www.dvcta.org/event/silver-fern-farm-2/
LOCATION:Worthmore Equestrian Center\, 11570 Still Pond Road\, Worton\, MD\, 21678\, United States
CATEGORIES:DVCTA Sanctioned Schooling Show
END:VEVENT
BEGIN:VEVENT
DTSTART;VALUE=DATE:20230211
DTEND;VALUE=DATE:20230212
DTSTAMP:20260424T094201
CREATED:20221231T105754Z
LAST-MODIFIED:20221231T105754Z
UID:7205-1676073600-1676159999@www.dvcta.org
SUMMARY:Blue Goose Dressage Schooling Show
DESCRIPTION:Schooling Show Series\nPrix Caprilli | Dressage | Western Dressage
URL:https://www.dvcta.org/event/blue-goose-dressage-schooling-show-5/
LOCATION:Blue Goose @ The Stables at Fox Crossing\, 501 Walter Road\, Cochranville\, PA\, 19330\, United States
CATEGORIES:DVCTA Sanctioned Schooling Show
ORGANIZER;CN="Darcy Miller":MAILTO:BlueGooseStableLLC@gmail.com
END:VEVENT
BEGIN:VEVENT
DTSTART;VALUE=DATE:20230122
DTEND;VALUE=DATE:20230123
DTSTAMP:20260424T094201
CREATED:20230116T142025Z
LAST-MODIFIED:20230116T142025Z
UID:7363-1674345600-1674431999@www.dvcta.org
SUMMARY:Silver Fern Farm
DESCRIPTION:Silver Fern Farm Winter Dressage Series\nHeld at Worthmore Equestrian Center\, Worton\, MD\n\nINFORMATION: \nFacebook Page and Entries: Silver Fern Farm Winter Dressage Series
URL:https://www.dvcta.org/event/silver-fern-farm/
LOCATION:Worthmore Equestrian Center\, 11570 Still Pond Road\, Worton\, MD\, 21678\, United States
CATEGORIES:DVCTA Sanctioned Schooling Show
END:VEVENT
BEGIN:VEVENT
DTSTART;VALUE=DATE:20230121
DTEND;VALUE=DATE:20230122
DTSTAMP:20260424T094201
CREATED:20230116T132902Z
LAST-MODIFIED:20230116T132902Z
UID:7323-1674259200-1674345599@www.dvcta.org
SUMMARY:DunMovin Dressage Schooling Show
DESCRIPTION:Dressage Schooling Show
URL:https://www.dvcta.org/event/dunmovin-dressage-schooling-show-27/
LOCATION:DunMovin Farm\, 825 Guthrie Road\, West Chester\, PA\, 19380\, United States
CATEGORIES:DVCTA Sanctioned Schooling Show
ORGANIZER;CN="Doreen Garland":MAILTO:Dunmovinenterprisesllc@gmail.com
END:VEVENT
BEGIN:VEVENT
DTSTART;VALUE=DATE:20230115
DTEND;VALUE=DATE:20230116
DTSTAMP:20260424T094201
CREATED:20230116T135313Z
LAST-MODIFIED:20230116T135313Z
UID:7341-1673740800-1673827199@www.dvcta.org
SUMMARY:Line It Up Winter Dressage Show Series
DESCRIPTION:Line It Up Winter Dressage Show Series
URL:https://www.dvcta.org/event/line-it-up-winter-dressage-show-series/
LOCATION:Line It Up Farm\, 375 Coffroath Road\, Coatesville\, PA\, 19320\, United States
CATEGORIES:DVCTA Sanctioned Schooling Show
END:VEVENT
BEGIN:VEVENT
DTSTART;VALUE=DATE:20230107
DTEND;VALUE=DATE:20230108
DTSTAMP:20260424T094201
CREATED:20221231T105650Z
LAST-MODIFIED:20221231T105706Z
UID:7200-1673049600-1673135999@www.dvcta.org
SUMMARY:Blue Goose Dressage Schooling Show
DESCRIPTION:Schooling Show Series\nPrix Caprilli | Dressage | Western Dressage
URL:https://www.dvcta.org/event/blue-goose-ct-dressage-schooling-show-27/
LOCATION:Blue Goose @ The Stables at Fox Crossing\, 501 Walter Road\, Cochranville\, PA\, 19330\, United States
CATEGORIES:DVCTA Sanctioned Schooling Show
ORGANIZER;CN="Darcy Miller":MAILTO:BlueGooseStableLLC@gmail.com
END:VEVENT
BEGIN:VEVENT
DTSTART;VALUE=DATE:20221125
DTEND;VALUE=DATE:20221126
DTSTAMP:20260424T094201
CREATED:20220207T164941Z
LAST-MODIFIED:20220207T164941Z
UID:6446-1669334400-1669420799@www.dvcta.org
SUMMARY:Second Nature Dressage Schooling Show
DESCRIPTION:Schooling Dressage Show
URL:https://www.dvcta.org/event/second-nature-dressage-schooling-show-24/
LOCATION:Second Nature Farm\, 420 Catamount Road\, Oxford\, PA\, 19363\, United States
CATEGORIES:DVCTA Sanctioned Schooling Show
ORGANIZER;CN="Kathy King":MAILTO:kathyjking@mac.com
END:VEVENT
BEGIN:VEVENT
DTSTART;VALUE=DATE:20221119
DTEND;VALUE=DATE:20221120
DTSTAMP:20260424T094201
CREATED:20220207T160213Z
LAST-MODIFIED:20220207T160213Z
UID:6430-1668816000-1668902399@www.dvcta.org
SUMMARY:Blue Goose CT/Dressage Schooling Show
DESCRIPTION:Schooling Show Series\nCombined Training | Dressage | Western Dressage
URL:https://www.dvcta.org/event/blue-goose-ct-dressage-schooling-show-26/
LOCATION:Blue Goose Stable\, 210 White Horse Road\, Cochranville\, PA\, 19330\, United States
CATEGORIES:DVCTA Sanctioned Schooling Show
ORGANIZER;CN="Darcy Miller":MAILTO:BlueGooseStableLLC@gmail.com
END:VEVENT
BEGIN:VEVENT
DTSTART;VALUE=DATE:20221112
DTEND;VALUE=DATE:20221113
DTSTAMP:20260424T094201
CREATED:20211222T183719Z
LAST-MODIFIED:20211222T183719Z
UID:6217-1668211200-1668297599@www.dvcta.org
SUMMARY:DunMovin Dressage Schooling Show
DESCRIPTION:Dressage Schooling Show
URL:https://www.dvcta.org/event/dunmovin-dressage-schooling-show-26/
LOCATION:DunMovin Farm\, 825 Guthrie Road\, West Chester\, PA\, 19380\, United States
CATEGORIES:DVCTA Sanctioned Schooling Show
ORGANIZER;CN="Doreen Garland":MAILTO:Dunmovinenterprisesllc@gmail.com
END:VEVENT
BEGIN:VEVENT
DTSTART;VALUE=DATE:20221029
DTEND;VALUE=DATE:20221030
DTSTAMP:20260424T094201
CREATED:20220118T180858Z
LAST-MODIFIED:20220118T180858Z
UID:6343-1667001600-1667087999@www.dvcta.org
SUMMARY:Thornridge Manor Schooling Show
DESCRIPTION:Schooling Show
URL:https://www.dvcta.org/event/thornridge-manor-schooling-show-17/
LOCATION:Thornridge Manor\, 12531 Manor Rd\, Glen Arm\, MD\, 21057\, United States
CATEGORIES:DVCTA Sanctioned Schooling Show
ORGANIZER;CN="Phoebe DeVoe-Moore":MAILTO:info@thornridgemanor.com
END:VEVENT
BEGIN:VEVENT
DTSTART;VALUE=DATE:20221029
DTEND;VALUE=DATE:20221030
DTSTAMP:20260424T094201
CREATED:20211222T183528Z
LAST-MODIFIED:20211222T183528Z
UID:6215-1667001600-1667087999@www.dvcta.org
SUMMARY:DunMovin Dressage Schooling Show
DESCRIPTION:Dressage Schooling Show
URL:https://www.dvcta.org/event/dunmovin-dressage-schooling-show-25/
LOCATION:DunMovin Farm\, 825 Guthrie Road\, West Chester\, PA\, 19380\, United States
CATEGORIES:DVCTA Sanctioned Schooling Show
ORGANIZER;CN="Doreen Garland":MAILTO:Dunmovinenterprisesllc@gmail.com
END:VEVENT
END:VCALENDAR