BEGIN:VCALENDAR
VERSION:2.0
PRODID:-//DVCTA - ECPv6.15.20//NONSGML v1.0//EN
CALSCALE:GREGORIAN
METHOD:PUBLISH
X-ORIGINAL-URL:https://www.dvcta.org
X-WR-CALDESC:Events for DVCTA
REFRESH-INTERVAL;VALUE=DURATION:PT1H
X-Robots-Tag:noindex
X-PUBLISHED-TTL:PT1H
BEGIN:VTIMEZONE
TZID:UTC
BEGIN:STANDARD
TZOFFSETFROM:+0000
TZOFFSETTO:+0000
TZNAME:UTC
DTSTART:20170101T000000
END:STANDARD
END:VTIMEZONE
BEGIN:VEVENT
DTSTART;VALUE=DATE:20190824
DTEND;VALUE=DATE:20190825
DTSTAMP:20260425T160815
CREATED:20190115T225441Z
LAST-MODIFIED:20190115T225441Z
UID:3634-1566604800-1566691199@www.dvcta.org
SUMMARY:DunMovin Farm Schooling Show
DESCRIPTION:Schooling Dressage Show
URL:https://www.dvcta.org/event/dunmovin-farm-schooling-show-23/
LOCATION:DunMovin Farm\, 825 Guthrie Road\, West Chester\, PA\, 19380\, United States
CATEGORIES:DVCTA Sanctioned Schooling Show
ORGANIZER;CN="Doreen Garland":MAILTO:Dunmovinenterprisesllc@gmail.com
END:VEVENT
BEGIN:VEVENT
DTSTART;VALUE=DATE:20190816
DTEND;VALUE=DATE:20190817
DTSTAMP:20260425T160815
CREATED:20190115T224147Z
LAST-MODIFIED:20190115T224147Z
UID:3614-1565913600-1565999999@www.dvcta.org
SUMMARY:Second Nature Farm Schooling Show
DESCRIPTION:Schooling Dressage Show
URL:https://www.dvcta.org/event/second-nature-farm-schooling-show-13/
LOCATION:Second Nature Farm\, 420 Catamount Road\, Oxford\, PA\, 19363\, United States
CATEGORIES:DVCTA Sanctioned Schooling Show
ORGANIZER;CN="Kathy King":MAILTO:kathyjking@mac.com
END:VEVENT
BEGIN:VEVENT
DTSTART;VALUE=DATE:20190810
DTEND;VALUE=DATE:20190811
DTSTAMP:20260425T160815
CREATED:20190115T222326Z
LAST-MODIFIED:20190115T222326Z
UID:3596-1565395200-1565481599@www.dvcta.org
SUMMARY:Blue Goose Stable Schooling Show
DESCRIPTION:Schooling dressage and combined training show.
URL:https://www.dvcta.org/event/blue-goose-stable-schooling-show-27/
LOCATION:Blue Goose Stable\, 210 White Horse Road\, Cochranville\, PA\, 19330\, United States
CATEGORIES:DVCTA Sanctioned Schooling Show
ORGANIZER;CN="Darcy Miller":MAILTO:BlueGooseStableLLC@gmail.com
END:VEVENT
BEGIN:VEVENT
DTSTART;VALUE=DATE:20190727
DTEND;VALUE=DATE:20190728
DTSTAMP:20260425T160815
CREATED:20190115T225350Z
LAST-MODIFIED:20190115T225350Z
UID:3632-1564185600-1564271999@www.dvcta.org
SUMMARY:DunMovin Farm Schooling Show
DESCRIPTION:Schooling Dressage Show
URL:https://www.dvcta.org/event/dunmovin-farm-schooling-show-22/
LOCATION:DunMovin Farm\, 825 Guthrie Road\, West Chester\, PA\, 19380\, United States
CATEGORIES:DVCTA Sanctioned Schooling Show
ORGANIZER;CN="Doreen Garland":MAILTO:Dunmovinenterprisesllc@gmail.com
END:VEVENT
BEGIN:VEVENT
DTSTART;VALUE=DATE:20190720
DTEND;VALUE=DATE:20190721
DTSTAMP:20260425T160815
CREATED:20190115T222227Z
LAST-MODIFIED:20190115T222227Z
UID:3594-1563580800-1563667199@www.dvcta.org
SUMMARY:Blue Goose Stable Schooling Show
DESCRIPTION:Schooling dressage and combined training show.
URL:https://www.dvcta.org/event/blue-goose-stable-schooling-show-26/
LOCATION:Blue Goose Stable\, 210 White Horse Road\, Cochranville\, PA\, 19330\, United States
CATEGORIES:DVCTA Sanctioned Schooling Show
ORGANIZER;CN="Darcy Miller":MAILTO:BlueGooseStableLLC@gmail.com
END:VEVENT
BEGIN:VEVENT
DTSTART;VALUE=DATE:20190719
DTEND;VALUE=DATE:20190720
DTSTAMP:20260425T160815
CREATED:20190115T224051Z
LAST-MODIFIED:20190115T224051Z
UID:3612-1563494400-1563580799@www.dvcta.org
SUMMARY:Second Nature Farm Schooling Show
DESCRIPTION:Schooling Dressage Show
URL:https://www.dvcta.org/event/second-nature-farm-schooling-show-12/
LOCATION:Second Nature Farm\, 420 Catamount Road\, Oxford\, PA\, 19363\, United States
CATEGORIES:DVCTA Sanctioned Schooling Show
ORGANIZER;CN="Kathy King":MAILTO:kathyjking@mac.com
END:VEVENT
BEGIN:VEVENT
DTSTART;VALUE=DATE:20190713
DTEND;VALUE=DATE:20190714
DTSTAMP:20260425T160815
CREATED:20190115T232605Z
LAST-MODIFIED:20190211T210135Z
UID:3648-1562976000-1563062399@www.dvcta.org
SUMMARY:Bally Vae Farm Schooling Show
DESCRIPTION:Schooling Dressage Show
URL:https://www.dvcta.org/event/bally-vae-farm-schooling-show-9/
LOCATION:Bally Vae Farm\, 369 Lewisville Road\, Lincoln University\, PA\, 19352\, United States
CATEGORIES:DVCTA Sanctioned Schooling Show
END:VEVENT
BEGIN:VEVENT
DTSTART;VALUE=DATE:20190706
DTEND;VALUE=DATE:20190707
DTSTAMP:20260425T160815
CREATED:20190306T210803Z
LAST-MODIFIED:20190306T210803Z
UID:3716-1562371200-1562457599@www.dvcta.org
SUMMARY:Rolling Hills Ranch Schooling Show
DESCRIPTION:
URL:https://www.dvcta.org/event/rolling-hills-ranch-schooling-show-2/
LOCATION:Rolling Hills Ranch\, 33 Rolling Hills Ranch Ln\, Port Deposit\, MD\, United States
CATEGORIES:DVCTA Sanctioned Schooling Show
END:VEVENT
BEGIN:VEVENT
DTSTART;VALUE=DATE:20190622
DTEND;VALUE=DATE:20190623
DTSTAMP:20260425T160815
CREATED:20190115T222002Z
LAST-MODIFIED:20190115T222002Z
UID:3592-1561161600-1561247999@www.dvcta.org
SUMMARY:Blue Goose Stable Schooling Show
DESCRIPTION:Schooling dressage and combined training show.
URL:https://www.dvcta.org/event/blue-goose-stable-schooling-show-25/
LOCATION:Blue Goose Stable\, 210 White Horse Road\, Cochranville\, PA\, 19330\, United States
CATEGORIES:DVCTA Sanctioned Schooling Show
ORGANIZER;CN="Darcy Miller":MAILTO:BlueGooseStableLLC@gmail.com
END:VEVENT
BEGIN:VEVENT
DTSTART;VALUE=DATE:20190621
DTEND;VALUE=DATE:20190622
DTSTAMP:20260425T160815
CREATED:20190115T223957Z
LAST-MODIFIED:20190115T223957Z
UID:3610-1561075200-1561161599@www.dvcta.org
SUMMARY:Second Nature Farm Schooling Show
DESCRIPTION:Schooling Dressage Show
URL:https://www.dvcta.org/event/second-nature-farm-schooling-show-11/
LOCATION:Second Nature Farm\, 420 Catamount Road\, Oxford\, PA\, 19363\, United States
CATEGORIES:DVCTA Sanctioned Schooling Show
ORGANIZER;CN="Kathy King":MAILTO:kathyjking@mac.com
END:VEVENT
BEGIN:VEVENT
DTSTART;VALUE=DATE:20190615
DTEND;VALUE=DATE:20190616
DTSTAMP:20260425T160815
CREATED:20190115T231751Z
LAST-MODIFIED:20190115T231751Z
UID:3646-1560556800-1560643199@www.dvcta.org
SUMMARY:Bally Vae Farm Schooling Show
DESCRIPTION:Schooling Dressage Show
URL:https://www.dvcta.org/event/bally-vae-farm-schooling-show-8/
LOCATION:Bally Vae Farm\, 369 Lewisville Road\, Lincoln University\, PA\, 19352\, United States
CATEGORIES:DVCTA Sanctioned Schooling Show
END:VEVENT
BEGIN:VEVENT
DTSTART;VALUE=DATE:20190608
DTEND;VALUE=DATE:20190609
DTSTAMP:20260425T160815
CREATED:20190115T225238Z
LAST-MODIFIED:20190115T225238Z
UID:3630-1559952000-1560038399@www.dvcta.org
SUMMARY:DunMovin Farm Schooling Show
DESCRIPTION:Schooling Dressage Show
URL:https://www.dvcta.org/event/dunmovin-farm-schooling-show-21/
LOCATION:DunMovin Farm\, 825 Guthrie Road\, West Chester\, PA\, 19380\, United States
CATEGORIES:DVCTA Sanctioned Schooling Show
ORGANIZER;CN="Doreen Garland":MAILTO:Dunmovinenterprisesllc@gmail.com
END:VEVENT
BEGIN:VEVENT
DTSTART;VALUE=DATE:20190525
DTEND;VALUE=DATE:20190526
DTSTAMP:20260425T160815
CREATED:20190115T231713Z
LAST-MODIFIED:20190115T231713Z
UID:3644-1558742400-1558828799@www.dvcta.org
SUMMARY:Bally Vae Farm Schooling Show
DESCRIPTION:Schooling Dressage Show
URL:https://www.dvcta.org/event/bally-vae-farm-schooling-show-7/
LOCATION:Bally Vae Farm\, 369 Lewisville Road\, Lincoln University\, PA\, 19352\, United States
CATEGORIES:DVCTA Sanctioned Schooling Show
END:VEVENT
BEGIN:VEVENT
DTSTART;VALUE=DATE:20190518
DTEND;VALUE=DATE:20190519
DTSTAMP:20260425T160815
CREATED:20190306T210611Z
LAST-MODIFIED:20190306T210628Z
UID:3712-1558137600-1558223999@www.dvcta.org
SUMMARY:Rolling Hills Ranch Schooling Show
DESCRIPTION:
URL:https://www.dvcta.org/event/rolling-hills-ranch-schooling-show/
LOCATION:Rolling Hills Ranch\, 33 Rolling Hills Ranch Ln\, Port Deposit\, MD\, United States
CATEGORIES:DVCTA Sanctioned Schooling Show
END:VEVENT
BEGIN:VEVENT
DTSTART;VALUE=DATE:20190517
DTEND;VALUE=DATE:20190518
DTSTAMP:20260425T160815
CREATED:20190115T223853Z
LAST-MODIFIED:20190115T223853Z
UID:3608-1558051200-1558137599@www.dvcta.org
SUMMARY:Second Nature Farm Schooling Show
DESCRIPTION:Schooling Dressage Show
URL:https://www.dvcta.org/event/second-nature-farm-schooling-show-10/
LOCATION:Second Nature Farm\, 420 Catamount Road\, Oxford\, PA\, 19363\, United States
CATEGORIES:DVCTA Sanctioned Schooling Show
ORGANIZER;CN="Kathy King":MAILTO:kathyjking@mac.com
END:VEVENT
BEGIN:VEVENT
DTSTART;VALUE=DATE:20190511
DTEND;VALUE=DATE:20190512
DTSTAMP:20260425T160815
CREATED:20190211T210450Z
LAST-MODIFIED:20190306T210252Z
UID:3679-1557532800-1557619199@www.dvcta.org
SUMMARY:PAHA Schooling Show
DESCRIPTION:
URL:https://www.dvcta.org/event/paha-schooling-show/
LOCATION:Fair Hill\, MD\, MD\, United States
CATEGORIES:DVCTA Sanctioned Schooling Show
END:VEVENT
BEGIN:VEVENT
DTSTART;VALUE=DATE:20190511
DTEND;VALUE=DATE:20190512
DTSTAMP:20260425T160815
CREATED:20190115T225141Z
LAST-MODIFIED:20190115T225141Z
UID:3628-1557532800-1557619199@www.dvcta.org
SUMMARY:DunMovin Farm Schooling Show
DESCRIPTION:Schooling Dressage Show
URL:https://www.dvcta.org/event/dunmovin-farm-schooling-show-20/
LOCATION:DunMovin Farm\, 825 Guthrie Road\, West Chester\, PA\, 19380\, United States
CATEGORIES:DVCTA Sanctioned Schooling Show
ORGANIZER;CN="Doreen Garland":MAILTO:Dunmovinenterprisesllc@gmail.com
END:VEVENT
BEGIN:VEVENT
DTSTART;VALUE=DATE:20190504
DTEND;VALUE=DATE:20190505
DTSTAMP:20260425T160815
CREATED:20190115T221902Z
LAST-MODIFIED:20190115T221902Z
UID:3590-1556928000-1557014399@www.dvcta.org
SUMMARY:Blue Goose Stable Schooling Show
DESCRIPTION:Schooling dressage and combined training show.
URL:https://www.dvcta.org/event/blue-goose-stable-schooling-show-24/
LOCATION:Blue Goose Stable\, 210 White Horse Road\, Cochranville\, PA\, 19330\, United States
CATEGORIES:DVCTA Sanctioned Schooling Show
ORGANIZER;CN="Darcy Miller":MAILTO:BlueGooseStableLLC@gmail.com
END:VEVENT
BEGIN:VEVENT
DTSTART;VALUE=DATE:20190427
DTEND;VALUE=DATE:20190428
DTSTAMP:20260425T160815
CREATED:20190115T231620Z
LAST-MODIFIED:20190115T231620Z
UID:3641-1556323200-1556409599@www.dvcta.org
SUMMARY:Bally Vae Farm Schooling Show
DESCRIPTION:Schooling Dressage Show
URL:https://www.dvcta.org/event/bally-vae-farm-schooling-show-6/
LOCATION:Bally Vae Farm\, 369 Lewisville Road\, Lincoln University\, PA\, 19352\, United States
CATEGORIES:DVCTA Sanctioned Schooling Show
END:VEVENT
BEGIN:VEVENT
DTSTART;VALUE=DATE:20190420
DTEND;VALUE=DATE:20190421
DTSTAMP:20260425T160815
CREATED:20190115T221807Z
LAST-MODIFIED:20190115T221807Z
UID:3588-1555718400-1555804799@www.dvcta.org
SUMMARY:Blue Goose Stable Schooling Show
DESCRIPTION:Schooling dressage and combined training show.
URL:https://www.dvcta.org/event/blue-goose-stable-schooling-show-23/
LOCATION:Blue Goose Stable\, 210 White Horse Road\, Cochranville\, PA\, 19330\, United States
CATEGORIES:DVCTA Sanctioned Schooling Show
ORGANIZER;CN="Darcy Miller":MAILTO:BlueGooseStableLLC@gmail.com
END:VEVENT
BEGIN:VEVENT
DTSTART;VALUE=DATE:20190419
DTEND;VALUE=DATE:20190420
DTSTAMP:20260425T160815
CREATED:20190115T223710Z
LAST-MODIFIED:20190115T223710Z
UID:3606-1555632000-1555718399@www.dvcta.org
SUMMARY:Second Nature Farm Schooling Show
DESCRIPTION:Schooling Dressage Show
URL:https://www.dvcta.org/event/second-nature-farm-schooling-show-9/
LOCATION:Second Nature Farm\, 420 Catamount Road\, Oxford\, PA\, 19363\, United States
CATEGORIES:DVCTA Sanctioned Schooling Show
ORGANIZER;CN="Kathy King":MAILTO:kathyjking@mac.com
END:VEVENT
BEGIN:VEVENT
DTSTART;VALUE=DATE:20190413
DTEND;VALUE=DATE:20190414
DTSTAMP:20260425T160815
CREATED:20190115T225050Z
LAST-MODIFIED:20190115T225050Z
UID:3626-1555113600-1555199999@www.dvcta.org
SUMMARY:DunMovin Farm Schooling Show
DESCRIPTION:Schooling Dressage Show
URL:https://www.dvcta.org/event/dunmovin-farm-schooling-show-19/
LOCATION:DunMovin Farm\, 825 Guthrie Road\, West Chester\, PA\, 19380\, United States
CATEGORIES:DVCTA Sanctioned Schooling Show
ORGANIZER;CN="Doreen Garland":MAILTO:Dunmovinenterprisesllc@gmail.com
END:VEVENT
BEGIN:VEVENT
DTSTART;VALUE=DATE:20190323
DTEND;VALUE=DATE:20190324
DTSTAMP:20260425T160815
CREATED:20190115T224955Z
LAST-MODIFIED:20190115T224955Z
UID:3624-1553299200-1553385599@www.dvcta.org
SUMMARY:DunMovin Farm Schooling Show
DESCRIPTION:Schooling Dressage Show
URL:https://www.dvcta.org/event/dunmovin-farm-schooling-show-18/
LOCATION:DunMovin Farm\, 825 Guthrie Road\, West Chester\, PA\, 19380\, United States
CATEGORIES:DVCTA Sanctioned Schooling Show
ORGANIZER;CN="Doreen Garland":MAILTO:Dunmovinenterprisesllc@gmail.com
END:VEVENT
BEGIN:VEVENT
DTSTART;VALUE=DATE:20190316
DTEND;VALUE=DATE:20190317
DTSTAMP:20260425T160815
CREATED:20190115T221652Z
LAST-MODIFIED:20190115T221652Z
UID:3586-1552694400-1552780799@www.dvcta.org
SUMMARY:Blue Goose Stable Schooling Show
DESCRIPTION:Snow Flake Series Schooling Dressage Show
URL:https://www.dvcta.org/event/blue-goose-stable-schooling-show-22/
LOCATION:Blue Goose @ Derry Edain\, LLC\, 500 White Horse Road\, Cochranville\, PA\, 19330\, United States
CATEGORIES:DVCTA Sanctioned Schooling Show
ORGANIZER;CN="Darcy Miller":MAILTO:BlueGooseStableLLC@gmail.com
END:VEVENT
BEGIN:VEVENT
DTSTART;VALUE=DATE:20190223
DTEND;VALUE=DATE:20190224
DTSTAMP:20260425T160815
CREATED:20190115T224856Z
LAST-MODIFIED:20190115T224856Z
UID:3622-1550880000-1550966399@www.dvcta.org
SUMMARY:DunMovin Farm Schooling Show
DESCRIPTION:Schooling Dressage Show
URL:https://www.dvcta.org/event/dunmovin-farm-schooling-show-17/
LOCATION:DunMovin Farm\, 825 Guthrie Road\, West Chester\, PA\, 19380\, United States
CATEGORIES:DVCTA Sanctioned Schooling Show
ORGANIZER;CN="Doreen Garland":MAILTO:Dunmovinenterprisesllc@gmail.com
END:VEVENT
BEGIN:VEVENT
DTSTART;VALUE=DATE:20190209
DTEND;VALUE=DATE:20190210
DTSTAMP:20260425T160815
CREATED:20190115T221518Z
LAST-MODIFIED:20190115T221518Z
UID:3584-1549670400-1549756799@www.dvcta.org
SUMMARY:Blue Goose Stable Schooling Show
DESCRIPTION:Snow Flake Series Schooling Dressage Show
URL:https://www.dvcta.org/event/blue-goose-stable-schooling-show-21/
LOCATION:Blue Goose @ Derry Edain\, LLC\, 500 White Horse Road\, Cochranville\, PA\, 19330\, United States
CATEGORIES:DVCTA Sanctioned Schooling Show
ORGANIZER;CN="Darcy Miller":MAILTO:BlueGooseStableLLC@gmail.com
END:VEVENT
BEGIN:VEVENT
DTSTART;VALUE=DATE:20190119
DTEND;VALUE=DATE:20190120
DTSTAMP:20260425T160815
CREATED:20190115T221345Z
LAST-MODIFIED:20190115T221345Z
UID:3581-1547856000-1547942399@www.dvcta.org
SUMMARY:Blue Goose Stable Schooling Show
DESCRIPTION:Snow Flake Series Schooling Dressage Show
URL:https://www.dvcta.org/event/blue-goose-stable-schooling-show-20/
LOCATION:Blue Goose @ Derry Edain\, LLC\, 500 White Horse Road\, Cochranville\, PA\, 19330\, United States
CATEGORIES:DVCTA Sanctioned Schooling Show
ORGANIZER;CN="Darcy Miller":MAILTO:BlueGooseStableLLC@gmail.com
END:VEVENT
BEGIN:VEVENT
DTSTART;VALUE=DATE:20181123
DTEND;VALUE=DATE:20181124
DTSTAMP:20260425T160815
CREATED:20180413T003611Z
LAST-MODIFIED:20180911T185634Z
UID:3276-1542931200-1543017599@www.dvcta.org
SUMMARY:Second Nature Farm Schooling Show
DESCRIPTION:Schooling Dressage Show
URL:https://www.dvcta.org/event/second-nature-farm-schooling-show-8/
LOCATION:Second Nature Farm\, 420 Catamount Road\, Oxford\, PA\, 19363\, United States
CATEGORIES:DVCTA Sanctioned Schooling Show
ORGANIZER;CN="Kathy King":MAILTO:kathyjking@mac.com
END:VEVENT
BEGIN:VEVENT
DTSTART;VALUE=DATE:20181117
DTEND;VALUE=DATE:20181118
DTSTAMP:20260425T160815
CREATED:20180412T014934Z
LAST-MODIFIED:20180911T185643Z
UID:3242-1542412800-1542499199@www.dvcta.org
SUMMARY:DunMovin Farm Schooling Show
DESCRIPTION:Dressage Schooling Show
URL:https://www.dvcta.org/event/dunmovin-farm-schooling-show-16/
LOCATION:DunMovin Farm\, 825 Guthrie Road\, West Chester\, PA\, 19380\, United States
CATEGORIES:DVCTA Sanctioned Schooling Show
ORGANIZER;CN="Doreen Garland":MAILTO:Dunmovinenterprisesllc@gmail.com
END:VEVENT
BEGIN:VEVENT
DTSTART;VALUE=DATE:20181110
DTEND;VALUE=DATE:20181111
DTSTAMP:20260425T160815
CREATED:20180413T004206Z
LAST-MODIFIED:20180911T185653Z
UID:3288-1541808000-1541894399@www.dvcta.org
SUMMARY:Blue Goose Stable Schooling Show
DESCRIPTION:Schooling dressage and combined training show.
URL:https://www.dvcta.org/event/blue-goose-stable-schooling-show-16/
LOCATION:Blue Goose Stable\, 210 White Horse Road\, Cochranville\, PA\, 19330\, United States
CATEGORIES:DVCTA Sanctioned Schooling Show
ORGANIZER;CN="Darcy Miller":MAILTO:BlueGooseStableLLC@gmail.com
END:VEVENT
END:VCALENDAR