BEGIN:VCALENDAR
VERSION:2.0
PRODID:-//DVCTA - ECPv6.15.20//NONSGML v1.0//EN
CALSCALE:GREGORIAN
METHOD:PUBLISH
X-WR-CALNAME:DVCTA
X-ORIGINAL-URL:https://www.dvcta.org
X-WR-CALDESC:Events for DVCTA
REFRESH-INTERVAL;VALUE=DURATION:PT1H
X-Robots-Tag:noindex
X-PUBLISHED-TTL:PT1H
BEGIN:VTIMEZONE
TZID:UTC
BEGIN:STANDARD
TZOFFSETFROM:+0000
TZOFFSETTO:+0000
TZNAME:UTC
DTSTART:20170101T000000
END:STANDARD
END:VTIMEZONE
BEGIN:VEVENT
DTSTART;TZID=UTC:20180904T193000
DTEND;TZID=UTC:20180904T210000
DTSTAMP:20260423T203346
CREATED:20171226T221554Z
LAST-MODIFIED:20171226T221554Z
UID:3093-1536089400-1536094800@www.dvcta.org
SUMMARY:DVCTA Board of Directors Meeting (Live)
DESCRIPTION:Longwood Family Restaurant\n938 East Baltimore Pike\nKennett Square\, PA 19348
URL:https://www.dvcta.org/event/dvcta-board-of-directors-meeting-live-3/
LOCATION:Longwood Family Restaurant\, 938 East Baltimore Pike\, Kennett Square\, PA\, 19348\, United States
CATEGORIES:Meetings
END:VEVENT
BEGIN:VEVENT
DTSTART;TZID=UTC:20180807T193000
DTEND;TZID=UTC:20180807T203000
DTSTAMP:20260423T203346
CREATED:20171226T220310Z
LAST-MODIFIED:20171226T220310Z
UID:3079-1533670200-1533673800@www.dvcta.org
SUMMARY:DVCTA Board of Directors Meeting (Virtual)
DESCRIPTION:Zoom Virtual Meeting: https://zoom.us/j/143891196
URL:https://www.dvcta.org/event/dvcta-board-of-directors-meeting-virtual-6/
LOCATION:Zoom Virtual Meeting\, PA\, United States
CATEGORIES:Meetings
END:VEVENT
BEGIN:VEVENT
DTSTART;TZID=UTC:20180703T193000
DTEND;TZID=UTC:20180703T203000
DTSTAMP:20260423T203346
CREATED:20171226T220212Z
LAST-MODIFIED:20171226T220212Z
UID:3077-1530646200-1530649800@www.dvcta.org
SUMMARY:DVCTA Board of Directors Meeting (Virtual)
DESCRIPTION:Zoom Virtual Meeting: https://zoom.us/j/143891196
URL:https://www.dvcta.org/event/dvcta-board-of-directors-meeting-virtual-5/
LOCATION:Zoom Virtual Meeting\, PA\, United States
CATEGORIES:Meetings
END:VEVENT
BEGIN:VEVENT
DTSTART;TZID=UTC:20180605T193000
DTEND;TZID=UTC:20180605T210000
DTSTAMP:20260423T203346
CREATED:20171226T221457Z
LAST-MODIFIED:20171226T221457Z
UID:3091-1528227000-1528232400@www.dvcta.org
SUMMARY:DVCTA Board of Directors Meeting (Live)
DESCRIPTION:Longwood Family Restaurant\n938 East Baltimore Pike\nKennett Square\, PA 19348
URL:https://www.dvcta.org/event/dvcta-board-of-directors-meeting-live-2/
LOCATION:Longwood Family Restaurant\, 938 East Baltimore Pike\, Kennett Square\, PA\, 19348\, United States
CATEGORIES:Meetings
END:VEVENT
BEGIN:VEVENT
DTSTART;TZID=UTC:20180501T193000
DTEND;TZID=UTC:20180501T203000
DTSTAMP:20260423T203346
CREATED:20171226T220109Z
LAST-MODIFIED:20171226T220109Z
UID:3075-1525203000-1525206600@www.dvcta.org
SUMMARY:DVCTA Board of Directors Meeting (Virtual)
DESCRIPTION:Zoom Virtual Meeting: https://zoom.us/j/143891196
URL:https://www.dvcta.org/event/dvcta-board-of-directors-meeting-virtual-4/
LOCATION:Zoom Virtual Meeting\, PA\, United States
CATEGORIES:Meetings
END:VEVENT
BEGIN:VEVENT
DTSTART;TZID=UTC:20180403T193000
DTEND;TZID=UTC:20180403T203000
DTSTAMP:20260423T203346
CREATED:20171226T220013Z
LAST-MODIFIED:20171226T220013Z
UID:3073-1522783800-1522787400@www.dvcta.org
SUMMARY:DVCTA Board of Directors Meeting (Virtual)
DESCRIPTION:Zoom Virtual Meeting: https://zoom.us/j/143891196
URL:https://www.dvcta.org/event/dvcta-board-of-directors-meeting-virtual-3/
LOCATION:Zoom Virtual Meeting\, PA\, United States
CATEGORIES:Meetings
END:VEVENT
BEGIN:VEVENT
DTSTART;TZID=UTC:20180306T193000
DTEND;TZID=UTC:20180306T210000
DTSTAMP:20260423T203346
CREATED:20171226T221215Z
LAST-MODIFIED:20171226T221302Z
UID:3088-1520364600-1520370000@www.dvcta.org
SUMMARY:DVCTA Board of Directors Meeting (Live)
DESCRIPTION:Longwood Family Restaurant\n938 East Baltimore Pike\nKennett Square\, PA 19348
URL:https://www.dvcta.org/event/dvcta-board-of-directors-meeting-live/
LOCATION:Longwood Family Restaurant\, 938 East Baltimore Pike\, Kennett Square\, PA\, 19348\, United States
CATEGORIES:Meetings
END:VEVENT
BEGIN:VEVENT
DTSTART;TZID=UTC:20180206T193000
DTEND;TZID=UTC:20180206T203000
DTSTAMP:20260423T203346
CREATED:20171226T215907Z
LAST-MODIFIED:20171226T215907Z
UID:3071-1517945400-1517949000@www.dvcta.org
SUMMARY:DVCTA Board of Directors Meeting (Virtual)
DESCRIPTION:Zoom Virtual Meeting: https://zoom.us/j/143891196
URL:https://www.dvcta.org/event/dvcta-board-of-directors-meeting-virtual-2/
LOCATION:Zoom Virtual Meeting\, PA\, United States
CATEGORIES:Meetings
END:VEVENT
BEGIN:VEVENT
DTSTART;TZID=UTC:20180102T193000
DTEND;TZID=UTC:20180102T203000
DTSTAMP:20260423T203346
CREATED:20171226T215507Z
LAST-MODIFIED:20171226T215507Z
UID:3066-1514921400-1514925000@www.dvcta.org
SUMMARY:DVCTA Board of Directors Meeting (Virtual)
DESCRIPTION:Zoom Virtual Meeting: https://zoom.us/j/143891196
URL:https://www.dvcta.org/event/dvcta-board-of-directors-meeting-virtual/
LOCATION:Zoom Virtual Meeting\, PA\, United States
CATEGORIES:Meetings
END:VEVENT
END:VCALENDAR