BEGIN:VCALENDAR
VERSION:2.0
PRODID:-//DVCTA - ECPv6.15.20//NONSGML v1.0//EN
CALSCALE:GREGORIAN
METHOD:PUBLISH
X-WR-CALNAME:DVCTA
X-ORIGINAL-URL:https://www.dvcta.org
X-WR-CALDESC:Events for DVCTA
REFRESH-INTERVAL;VALUE=DURATION:PT1H
X-Robots-Tag:noindex
X-PUBLISHED-TTL:PT1H
BEGIN:VTIMEZONE
TZID:UTC
BEGIN:STANDARD
TZOFFSETFROM:+0000
TZOFFSETTO:+0000
TZNAME:UTC
DTSTART:20150101T000000
END:STANDARD
END:VTIMEZONE
BEGIN:VEVENT
DTSTART;TZID=UTC:20190216T180000
DTEND;TZID=UTC:20190216T210000
DTSTAMP:20260423T203252
CREATED:20190207T222552Z
LAST-MODIFIED:20190213T205614Z
UID:3665-1550340000-1550350800@www.dvcta.org
SUMMARY:Dressage Test Lecture - Members Only
DESCRIPTION:Dressage Test Lecture\nFebruary 16\, 2019\nMembers Only \nLocation:  \nStroud Water Research Center\n970 Spencer Rd Avondale pa 19311 \nRSVP for Event Dressage Test Lecture
URL:https://www.dvcta.org/event/event-dressage-test-lecture-members-only/
LOCATION:Stroud Water Research Center\, 970 Spencer Road\, Avondale\, PA\, 19311\, United States
CATEGORIES:Other
END:VEVENT
BEGIN:VEVENT
DTSTART;TZID=UTC:20190126T180000
DTEND;TZID=UTC:20190126T220000
DTSTAMP:20260423T203252
CREATED:20181212T010946Z
LAST-MODIFIED:20190105T214913Z
UID:3457-1548525600-1548540000@www.dvcta.org
SUMMARY:DVCTA Annual Banquet
DESCRIPTION:DVCTA Annual Meeting\, Awards Ceremony & Silent Auction\nSaturday\, January 26\, 2019\n6:00 to 10:00 PM\nThe Farmhouse Restaurant at Lochnairn Country Club\n514 McCue Road\nAvondale\, PA 19311\n\nPlease come join your horsey friends\, and their patient non-horsey guests\, for our Annual Meeting\, Awards Dinner and Silent Auction. We have a fabulous NEW venue – the Farmhouse Restaurant at Loch Nairn. It’s sure to be a great evening with lively bidding on the DVCTA Silent Auction and the year-end award winners announced. (Hint: If you submitted for an award\, you will receive an award\, but the champions will only be announced at the dinner.) We had to commit to a minimum number of plates to secure this location\, so PLEASE come and PLEASE buy your tickets in advance! \nWe do still need donations for the Silent Auction. Please give an item\, basket or service to support the Junior Team. Contact Lisa Knox\, knoxfox@netzero.net\, to donate. \nBuy Your Tickets HERE with Paypal:\n\n\n \n\n\nChoose Adult or Child:\n\n\nAdult Ticket (11+) $45.00 USDChild Ticket (10 + under) $25.00 USDJr. Team Donation $10.00 USD \n\n\n\n\n\n \nHit “continue shopping” from the Paypal cart to add more than one ticket to your order. We should have your name at the door\, but just in case you may want to print your Paypal email receipt and bring it. \nNo Paypal account? Please mail a check payable to DVCTA to: \nDVCTA c/o Gaye Bergstrom\n 155 Center Hall Rd.\n Cochranville\, PA 19330 \nTicket price is $45.00 per adult 11 and over and $25.00 per child 10 and under.\nPlease include a note with all ticket holder names. \nWe will also accept payments at the door\, but please pay in advance if at all possible to help us plan the food. \nWe look forward to seeing you!
URL:https://www.dvcta.org/event/dvcta-annual-banquet/
LOCATION:Farmhouse at Loch Nairn\, United States
CATEGORIES:Other
END:VEVENT
BEGIN:VEVENT
DTSTART;VALUE=DATE:20180127
DTEND;VALUE=DATE:20180128
DTSTAMP:20260423T203252
CREATED:20171202T014356Z
LAST-MODIFIED:20180103T195612Z
UID:2995-1517011200-1517097599@www.dvcta.org
SUMMARY:DVCTA Annual Meeting\, Awards Ceremony & Silent Auction
DESCRIPTION:DVCTA Annual Meeting\, Awards Ceremony & Silent Auction\nSaturday\, January 27\, 2018\n6:00 to 10:00 PM\nThe Farmhouse Restaurant at Lochnairn Country Club\n514 McCue Road\nAvondale\, PA 19311\n\nPlease come join your horsey friends\, and their patient non-horsey guests\, for our Annual Meeting\, Awards Dinner and Silent Auction. We have a fabulous NEW venue – the Farmhouse Restaurant at Loch Nairn. It’s sure to be a great evening with lively bidding on the DVCTA Silent Auction and the year-end award winners announced. (Hint: If you submitted for an award\, you will receive an award\, but the champions will only be announced at the dinner.) We had to commit to a minimum number of plates to secure this location\, so PLEASE come and PLEASE buy your tickets in advance! \nWe do still need donations for the Silent Auction. Please give an item\, basket or service to support the Junior Team. Contact Lisa Knox\, knoxfox@netzero.net\, to donate. \nBuy Your Tickets HERE with Paypal:\n\n \n\n\n\nChoose Adult/Child\n\n\nAdult (13+) $45.00 USDChild (12 and under) $30.00 USD\n\n\nTicket Holder Name\n\n\n\n\n\n\n\n\n \n \n(We should have your name at the door\, but just in case you may want to print your Paypal email receipt and bring it.) \nNo Paypal account? Please mail a check payable to DVCTA to: \nDarcy Miller\n 210 White Horse Rd.\n Cochranville\, PA 19330 \nTicket price is $45.00 per adult and $30.00 per child 12 and under.\nPlease include a note with all ticket holder names. \nWe will also accept payments at the door\, but please pay in advance if at all possible to help us plan the food. \nWe look forward to seeing you!
URL:https://www.dvcta.org/event/dvcta-annual-meeting-awards-ceremony-silent-auction/
LOCATION:Farmhouse at Loch Nairn\, United States
CATEGORIES:Other
END:VEVENT
BEGIN:VEVENT
DTSTART;VALUE=DATE:20171031
DTEND;VALUE=DATE:20171101
DTSTAMP:20260423T203252
CREATED:20170601T234148Z
LAST-MODIFIED:20170601T234258Z
UID:2589-1509408000-1509494399@www.dvcta.org
SUMMARY:Lesley King Memorial Scholarship Deadline
DESCRIPTION:Application deadline for the Lesley King Memorial Scholarship is October 31\, 2017.  Please see the Lesley King Memorial Scholarship page for application and details.
URL:https://www.dvcta.org/event/lesley-king-memorial-scholarship-deadline/
LOCATION:PA
CATEGORIES:Other
END:VEVENT
BEGIN:VEVENT
DTSTART;TZID=UTC:20170204T180000
DTEND;TZID=UTC:20170204T220000
DTSTAMP:20260423T203252
CREATED:20161205T205617Z
LAST-MODIFIED:20161214T183437Z
UID:1557-1486231200-1486245600@www.dvcta.org
SUMMARY:DVCTA's Annual Dinner & Silent Auction
DESCRIPTION:Please click here for more information\, including how to purchase tickets.
URL:https://www.dvcta.org/event/dvctas-annual-dinner-silent-auction/
LOCATION:Red Clay Room\, 423 Dalmatian St\, Kennett Square\, PA\, 19348\, United States
CATEGORIES:Other
ORGANIZER;CN="DVCTA - Aneesa Romans":MAILTO:aneesa301@yahoo.com
END:VEVENT
BEGIN:VEVENT
DTSTART;VALUE=DATE:20161210
DTEND;VALUE=DATE:20161211
DTSTAMP:20260423T203252
CREATED:20160403T230330Z
LAST-MODIFIED:20160403T230330Z
UID:239-1481328000-1481414399@www.dvcta.org
SUMMARY:Blue Goose Series Banquet
DESCRIPTION:Blue Goose Stable schooling year-end banquet.
URL:https://www.dvcta.org/event/blue-goose-series-banquet/
LOCATION:See organizer’s website…
CATEGORIES:Other
ORGANIZER;CN="Darcy Miller":MAILTO:BlueGooseStableLLC@gmail.com
END:VEVENT
END:VCALENDAR