BEGIN:VCALENDAR
VERSION:2.0
PRODID:-//DVCTA - ECPv6.15.20//NONSGML v1.0//EN
CALSCALE:GREGORIAN
METHOD:PUBLISH
X-ORIGINAL-URL:https://www.dvcta.org
X-WR-CALDESC:Events for DVCTA
REFRESH-INTERVAL;VALUE=DURATION:PT1H
X-Robots-Tag:noindex
X-PUBLISHED-TTL:PT1H
BEGIN:VTIMEZONE
TZID:UTC
BEGIN:STANDARD
TZOFFSETFROM:+0000
TZOFFSETTO:+0000
TZNAME:UTC
DTSTART:20160101T000000
END:STANDARD
END:VTIMEZONE
BEGIN:VEVENT
DTSTART;TZID=UTC:20190210T140000
DTEND;TZID=UTC:20190210T153000
DTSTAMP:20260423T222913
CREATED:20181204T005347Z
LAST-MODIFIED:20200210T184616Z
UID:3423-1549807200-1549812600@www.dvcta.org
SUMMARY:DVCTA Quadrille Playdate
DESCRIPTION:Registration for all Playdates now online.\nDVCTA Quadrille Playdate Registration \nEvent Date: Jan. 6\nClosing Date: Jan. 1\nSnow Date: Jan. 27 \nAddress: Kealani Farm\n651 Coatesville Road\nWest Grove\, PA 19390Event Date: Feb. 10\nClosing Date: Feb. 5\nSnow Date: Feb. 24 \nAddress: Bally Vae Farm\n369 Lewisville Road\nLincoln University\, PA 19352Event Date: March 17\nClosing Date: March 12\nNo Snow Date \nAddress: Sewickley Farm /\nEmily Donaldson Dressage\n374 Old Limestone Road\nParkesburg\, PA 19365
URL:https://www.dvcta.org/event/dvcta-quadrille-playdate-7/
LOCATION:Bally Vae Farm\, 369 Lewisville Road\, Lincoln University\, PA\, 19352\, United States
CATEGORIES:Quadrille
ORGANIZER;CN="DVCTA - Anne Miller":MAILTO:aes.miller14@gmail.com
END:VEVENT
BEGIN:VEVENT
DTSTART;TZID=UTC:20190106T140000
DTEND;TZID=UTC:20190106T153000
DTSTAMP:20260423T222913
CREATED:20181204T005207Z
LAST-MODIFIED:20200210T184630Z
UID:3421-1546783200-1546788600@www.dvcta.org
SUMMARY:DVCTA Quadrille Playdate
DESCRIPTION:Registration for all Playdates now online.\nDVCTA Quadrille Playdate Registration \nEvent Date: Jan. 6\nClosing Date: Jan. 1\nSnow Date: Jan. 27 \nAddress: Kealani Farm\n651 Coatesville Road\nWest Grove\, PA 19390Event Date: Feb. 10\nClosing Date: Feb. 5\nSnow Date: Feb. 24 \nAddress: Bally Vae Farm\n369 Lewisville Road\nLincoln University\, PA 19352Event Date: March 17\nClosing Date: March 12\nNo Snow Date \nAddress: Sewickley Farm /\nEmily Donaldson Dressage\n374 Old Limestone Road\nParkesburg\, PA 19365
URL:https://www.dvcta.org/event/dvcta-quadrille-playdate-6/
LOCATION:Kealani Farm\, 651 Coatesville Road\, West Grove\, PA\, United States
CATEGORIES:Quadrille
ORGANIZER;CN="DVCTA - Anne Miller":MAILTO:aes.miller14@gmail.com
END:VEVENT
BEGIN:VEVENT
DTSTART;VALUE=DATE:20180729
DTEND;VALUE=DATE:20180730
DTSTAMP:20260423T222913
CREATED:20171218T222001Z
LAST-MODIFIED:20171218T222001Z
UID:3040-1532822400-1532908799@www.dvcta.org
SUMMARY:Quadrille Clinic
DESCRIPTION:QUADRILLE CLINIC with ANNE MOSS and ANNE MILLER\nOpen to DVCTA Quadrille Teams only.
URL:https://www.dvcta.org/event/quadrille-clinic-2/
LOCATION:TBD\, United States
CATEGORIES:Quadrille
ORGANIZER;CN="DVCTA - Anne Miller":MAILTO:aes.miller14@gmail.com
END:VEVENT
BEGIN:VEVENT
DTSTART;TZID=UTC:20180404T183000
DTEND;TZID=UTC:20180404T203000
DTSTAMP:20260423T222913
CREATED:20171202T013850Z
LAST-MODIFIED:20180317T222141Z
UID:2993-1522866600-1522873800@www.dvcta.org
SUMMARY:DVCTA Quadrille Dinner
DESCRIPTION:
URL:https://www.dvcta.org/event/dvcta-quadrille-dinner/
LOCATION:Anne Miller’s\, Kennett Square\, PA\, Kennett Square\, PA\, United States
CATEGORIES:Quadrille
ORGANIZER;CN="DVCTA - Anne Miller":MAILTO:aes.miller14@gmail.com
END:VEVENT
BEGIN:VEVENT
DTSTART;TZID=UTC:20180304T140000
DTEND;TZID=UTC:20180304T153000
DTSTAMP:20260423T222913
CREATED:20171202T013718Z
LAST-MODIFIED:20171218T221211Z
UID:2991-1520172000-1520177400@www.dvcta.org
SUMMARY:DVCTA Quadrille Playdate
DESCRIPTION:
URL:https://www.dvcta.org/event/dvcta-quadrille-playdate-4/
LOCATION:DunMovin Farm\, 825 Guthrie Road\, West Chester\, PA\, 19380\, United States
CATEGORIES:Quadrille
ORGANIZER;CN="DVCTA - Anne Miller":MAILTO:aes.miller14@gmail.com
END:VEVENT
BEGIN:VEVENT
DTSTART;TZID=UTC:20180225T140000
DTEND;TZID=UTC:20180225T153000
DTSTAMP:20260423T222913
CREATED:20171218T221445Z
LAST-MODIFIED:20171218T221445Z
UID:3038-1519567200-1519572600@www.dvcta.org
SUMMARY:DVCTA Quadrille Playdate
DESCRIPTION:
URL:https://www.dvcta.org/event/dvcta-quadrille-playdate-5/
LOCATION:Kealani Farm\, 651 Coatesville Road\, West Grove\, PA\, United States
CATEGORIES:Quadrille
ORGANIZER;CN="DVCTA - Anne Miller":MAILTO:aes.miller14@gmail.com
END:VEVENT
BEGIN:VEVENT
DTSTART;TZID=UTC:20180211T140000
DTEND;TZID=UTC:20180211T153000
DTSTAMP:20260423T222913
CREATED:20171202T013608Z
LAST-MODIFIED:20171218T220908Z
UID:2988-1518357600-1518363000@www.dvcta.org
SUMMARY:DVCTA Quadrille Playdate
DESCRIPTION:
URL:https://www.dvcta.org/event/dvcta-quadrille-playdate-3/
LOCATION:Ardara Sporthorses\, 602 N Jennersville Rd\, Cochranville\, PA\, 19330\, United States
CATEGORIES:Quadrille
ORGANIZER;CN="DVCTA - Anne Miller":MAILTO:aes.miller14@gmail.com
END:VEVENT
BEGIN:VEVENT
DTSTART;TZID=UTC:20180106T140000
DTEND;TZID=UTC:20180106T153000
DTSTAMP:20260423T222913
CREATED:20171202T013446Z
LAST-MODIFIED:20171218T223021Z
UID:2986-1515247200-1515252600@www.dvcta.org
SUMMARY:DVCTA Quadrille Playdate
DESCRIPTION:Online Quadrille Event Registration
URL:https://www.dvcta.org/event/dvcta-quadrille-playdate-2/
LOCATION:Peace by Piece Farm\, Emily O’Neill Dressage\, 1800 Art School Road\, Chester Springs\, 19425\, United States
CATEGORIES:Quadrille
ORGANIZER;CN="DVCTA - Anne Miller":MAILTO:aes.miller14@gmail.com
END:VEVENT
BEGIN:VEVENT
DTSTART;TZID=UTC:20171210T140000
DTEND;TZID=UTC:20171210T153000
DTSTAMP:20260423T222913
CREATED:20171202T013229Z
LAST-MODIFIED:20171202T013249Z
UID:2983-1512914400-1512919800@www.dvcta.org
SUMMARY:DVCTA Quadrille Playdate
DESCRIPTION:
URL:https://www.dvcta.org/event/dvcta-quadrille-playdate/
LOCATION:Kealani Farm\, 651 Coatesville Road\, West Grove\, PA\, United States
CATEGORIES:Quadrille
ORGANIZER;CN="DVCTA - Anne Miller":MAILTO:aes.miller14@gmail.com
END:VEVENT
BEGIN:VEVENT
DTSTART;TZID=UTC:20170716T130000
DTEND;TZID=UTC:20170716T170000
DTSTAMP:20260423T222913
CREATED:20170630T233909Z
LAST-MODIFIED:20170630T233909Z
UID:2610-1500210000-1500224400@www.dvcta.org
SUMMARY:QUADRILLE CLINIC
DESCRIPTION:WITH ANNE MOSS AND ANNE MILLER\n SUNDAY\, JULY 16\nat Blue Goose Stable\n210 White Horse Road / Cochranville\, PA\n1:00pm start / TIMES TBD \nOpen to teams of 4 DVCTA riders who are ready to showcase their quadrille skills! 45 minute sessions with 15 minute warm-up between rides. Work through a standard quadrille test or bring your own music and pattern to review. Closing date 7/12/17. Coggins and proof of flu/rhino within 6 months required. $30/rider payable to “DVCTA.”\nQuestions? Email Anne Miller at QuadSquad@comcast.net.\nFOR MORE INFORMATION OR TO REGISTER ON-LINE: WWW.DVCTA.ORG
URL:https://www.dvcta.org/event/quadrille-clinic/
LOCATION:Blue Goose Stable\, 210 White Horse Road\, Cochranville\, PA\, 19330\, United States
CATEGORIES:Clinic,Quadrille
ORGANIZER;CN="DVCTA - Anne Miller":MAILTO:aes.miller14@gmail.com
END:VEVENT
BEGIN:VEVENT
DTSTART;TZID=UTC:20170326T140000
DTEND;TZID=UTC:20170326T153000
DTSTAMP:20260423T222913
CREATED:20170206T215155Z
LAST-MODIFIED:20170206T215155Z
UID:1692-1490536800-1490542200@www.dvcta.org
SUMMARY:Quadrille Playdate
DESCRIPTION:Introduction to quadrille for all riders.  Learn basics of quadrille riding.  Fun for horses and riders too! \nFox Mill Farm\, Emily Donaldson Dressage — 2:00-3:30pm\n3056 Reisler Road / Oxford\, PA \n$50/rider for DVCTA members \n$60/rider for non-members
URL:https://www.dvcta.org/event/quadrille-playdate-2/
LOCATION:Fox Mill Farm\, Emily Donaldson Dressage\, 3056 Reisler Road\, Oxfod\, PA\, 19363\, United States
CATEGORIES:Quadrille
ORGANIZER;CN="DVCTA - Anne Miller":MAILTO:aes.miller14@gmail.com
END:VEVENT
BEGIN:VEVENT
DTSTART;VALUE=DATE:20170319
DTEND;VALUE=DATE:20170320
DTSTAMP:20260423T222913
CREATED:20170206T213916Z
LAST-MODIFIED:20170319T193643Z
UID:1689-1489881600-1489967999@www.dvcta.org
SUMMARY:Quadrille Clinic with Anne Moss and Anne Miller
DESCRIPTION:The Quadrille Clinic originally scheduled for this Sunday\, March 19 at Wellspointe Farm has been re-scheduled due to the weather.\nPlease check back\, new date(s) coming soon!
URL:https://www.dvcta.org/event/quadrille-clinic-with-anne-moss-and-anne-miller/
LOCATION:Wellspointe Farm\, Sue Springsteen Dressage\, 3049 Merlin Road\, Chester Springs\, PA\, 19425\, United States
CATEGORIES:Clinic,Quadrille
ORGANIZER;CN="DVCTA - Anne Miller":MAILTO:aes.miller14@gmail.com
END:VEVENT
BEGIN:VEVENT
DTSTART;TZID=UTC:20170304T140000
DTEND;TZID=UTC:20170304T153000
DTSTAMP:20260423T222913
CREATED:20170206T212018Z
LAST-MODIFIED:20170206T212018Z
UID:1686-1488636000-1488641400@www.dvcta.org
SUMMARY:Quadrille Playdate
DESCRIPTION:Introduction to quadrille for all riders.  Brush up on quadrille skills\, get your horse used to riding in a group or just come have fun! Mainly walk/trot\, some canter. \nPeace by Piece Farm 2:00-3:30pm\nEmily O’Neill Dressage\n1800 Art School Road / Chester Springs\, PA \n$50/rider for DVCTA members \n$60/rider for non-members
URL:https://www.dvcta.org/event/quadrille-playdate/
LOCATION:Peace by Piece Farm\, Emily O’Neill Dressage\, 1800 Art School Road\, Chester Springs\, 19425\, United States
CATEGORIES:Quadrille
ORGANIZER;CN="DVCTA - Anne Miller":MAILTO:aes.miller14@gmail.com
END:VEVENT
BEGIN:VEVENT
DTSTART;TZID=UTC:20170302T183000
DTEND;TZID=UTC:20170302T203000
DTSTAMP:20260423T222913
CREATED:20170206T211426Z
LAST-MODIFIED:20170206T211456Z
UID:1682-1488479400-1488486600@www.dvcta.org
SUMMARY:Quadrille Dinner
DESCRIPTION:Meet and Greet for all quadrille enthusiasts.  All are welcome!  Come find partners to join your team! \nKennett Square\, PA RSVP by 2/23/17 to QuadSquad@comcast.net
URL:https://www.dvcta.org/event/quadrille-dinner/
LOCATION:Anne Miller’s\, Kennett Square\, PA\, Kennett Square\, PA\, United States
CATEGORIES:Quadrille
ORGANIZER;CN="DVCTA - Anne Miller":MAILTO:aes.miller14@gmail.com
END:VEVENT
END:VCALENDAR