BEGIN:VCALENDAR
VERSION:2.0
PRODID:-//DVCTA - ECPv6.15.20//NONSGML v1.0//EN
CALSCALE:GREGORIAN
METHOD:PUBLISH
X-ORIGINAL-URL:https://www.dvcta.org
X-WR-CALDESC:Events for DVCTA
REFRESH-INTERVAL;VALUE=DURATION:PT1H
X-Robots-Tag:noindex
X-PUBLISHED-TTL:PT1H
BEGIN:VTIMEZONE
TZID:UTC
BEGIN:STANDARD
TZOFFSETFROM:+0000
TZOFFSETTO:+0000
TZNAME:UTC
DTSTART:20160101T000000
END:STANDARD
END:VTIMEZONE
BEGIN:VEVENT
DTSTART;TZID=UTC:20170326T140000
DTEND;TZID=UTC:20170326T153000
DTSTAMP:20260424T000817
CREATED:20170206T215155Z
LAST-MODIFIED:20170206T215155Z
UID:1692-1490536800-1490542200@www.dvcta.org
SUMMARY:Quadrille Playdate
DESCRIPTION:Introduction to quadrille for all riders.  Learn basics of quadrille riding.  Fun for horses and riders too! \nFox Mill Farm\, Emily Donaldson Dressage — 2:00-3:30pm\n3056 Reisler Road / Oxford\, PA \n$50/rider for DVCTA members \n$60/rider for non-members
URL:https://www.dvcta.org/event/quadrille-playdate-2/
LOCATION:Fox Mill Farm\, Emily Donaldson Dressage\, 3056 Reisler Road\, Oxfod\, PA\, 19363\, United States
CATEGORIES:Quadrille
ORGANIZER;CN="DVCTA - Anne Miller":MAILTO:aes.miller14@gmail.com
END:VEVENT
BEGIN:VEVENT
DTSTART;VALUE=DATE:20170319
DTEND;VALUE=DATE:20170320
DTSTAMP:20260424T000817
CREATED:20170206T213916Z
LAST-MODIFIED:20170319T193643Z
UID:1689-1489881600-1489967999@www.dvcta.org
SUMMARY:Quadrille Clinic with Anne Moss and Anne Miller
DESCRIPTION:The Quadrille Clinic originally scheduled for this Sunday\, March 19 at Wellspointe Farm has been re-scheduled due to the weather.\nPlease check back\, new date(s) coming soon!
URL:https://www.dvcta.org/event/quadrille-clinic-with-anne-moss-and-anne-miller/
LOCATION:Wellspointe Farm\, Sue Springsteen Dressage\, 3049 Merlin Road\, Chester Springs\, PA\, 19425\, United States
CATEGORIES:Clinic,Quadrille
ORGANIZER;CN="DVCTA - Anne Miller":MAILTO:aes.miller14@gmail.com
END:VEVENT
BEGIN:VEVENT
DTSTART;TZID=UTC:20170304T140000
DTEND;TZID=UTC:20170304T153000
DTSTAMP:20260424T000817
CREATED:20170206T212018Z
LAST-MODIFIED:20170206T212018Z
UID:1686-1488636000-1488641400@www.dvcta.org
SUMMARY:Quadrille Playdate
DESCRIPTION:Introduction to quadrille for all riders.  Brush up on quadrille skills\, get your horse used to riding in a group or just come have fun! Mainly walk/trot\, some canter. \nPeace by Piece Farm 2:00-3:30pm\nEmily O’Neill Dressage\n1800 Art School Road / Chester Springs\, PA \n$50/rider for DVCTA members \n$60/rider for non-members
URL:https://www.dvcta.org/event/quadrille-playdate/
LOCATION:Peace by Piece Farm\, Emily O’Neill Dressage\, 1800 Art School Road\, Chester Springs\, 19425\, United States
CATEGORIES:Quadrille
ORGANIZER;CN="DVCTA - Anne Miller":MAILTO:aes.miller14@gmail.com
END:VEVENT
BEGIN:VEVENT
DTSTART;TZID=UTC:20170302T183000
DTEND;TZID=UTC:20170302T203000
DTSTAMP:20260424T000817
CREATED:20170206T211426Z
LAST-MODIFIED:20170206T211456Z
UID:1682-1488479400-1488486600@www.dvcta.org
SUMMARY:Quadrille Dinner
DESCRIPTION:Meet and Greet for all quadrille enthusiasts.  All are welcome!  Come find partners to join your team! \nKennett Square\, PA RSVP by 2/23/17 to QuadSquad@comcast.net
URL:https://www.dvcta.org/event/quadrille-dinner/
LOCATION:Anne Miller’s\, Kennett Square\, PA\, Kennett Square\, PA\, United States
CATEGORIES:Quadrille
ORGANIZER;CN="DVCTA - Anne Miller":MAILTO:aes.miller14@gmail.com
END:VEVENT
END:VCALENDAR