BEGIN:VCALENDAR
VERSION:2.0
PRODID:-//DVCTA - ECPv6.15.20//NONSGML v1.0//EN
CALSCALE:GREGORIAN
METHOD:PUBLISH
X-ORIGINAL-URL:https://www.dvcta.org
X-WR-CALDESC:Events for DVCTA
REFRESH-INTERVAL;VALUE=DURATION:PT1H
X-Robots-Tag:noindex
X-PUBLISHED-TTL:PT1H
BEGIN:VTIMEZONE
TZID:America/New_York
BEGIN:DAYLIGHT
TZOFFSETFROM:-0500
TZOFFSETTO:-0400
TZNAME:EDT
DTSTART:20200308T070000
END:DAYLIGHT
BEGIN:STANDARD
TZOFFSETFROM:-0400
TZOFFSETTO:-0500
TZNAME:EST
DTSTART:20201101T060000
END:STANDARD
BEGIN:DAYLIGHT
TZOFFSETFROM:-0500
TZOFFSETTO:-0400
TZNAME:EDT
DTSTART:20210314T070000
END:DAYLIGHT
BEGIN:STANDARD
TZOFFSETFROM:-0400
TZOFFSETTO:-0500
TZNAME:EST
DTSTART:20211107T060000
END:STANDARD
BEGIN:DAYLIGHT
TZOFFSETFROM:-0500
TZOFFSETTO:-0400
TZNAME:EDT
DTSTART:20220313T070000
END:DAYLIGHT
BEGIN:STANDARD
TZOFFSETFROM:-0400
TZOFFSETTO:-0500
TZNAME:EST
DTSTART:20221106T060000
END:STANDARD
BEGIN:DAYLIGHT
TZOFFSETFROM:-0500
TZOFFSETTO:-0400
TZNAME:EDT
DTSTART:20230312T070000
END:DAYLIGHT
BEGIN:STANDARD
TZOFFSETFROM:-0400
TZOFFSETTO:-0500
TZNAME:EST
DTSTART:20231105T060000
END:STANDARD
BEGIN:DAYLIGHT
TZOFFSETFROM:-0500
TZOFFSETTO:-0400
TZNAME:EDT
DTSTART:20240310T070000
END:DAYLIGHT
BEGIN:STANDARD
TZOFFSETFROM:-0400
TZOFFSETTO:-0500
TZNAME:EST
DTSTART:20241103T060000
END:STANDARD
END:VTIMEZONE
BEGIN:VTIMEZONE
TZID:UTC
BEGIN:STANDARD
TZOFFSETFROM:+0000
TZOFFSETTO:+0000
TZNAME:UTC
DTSTART:20150101T000000
END:STANDARD
END:VTIMEZONE
BEGIN:VEVENT
DTSTART;VALUE=DATE:20230603
DTEND;VALUE=DATE:20230604
DTSTAMP:20260423T193327
CREATED:20230325T110734Z
LAST-MODIFIED:20230602T160755Z
UID:7515-1685750400-1685836799@www.dvcta.org
SUMMARY:DVCTA Summer Opener Dressage Show
DESCRIPTION:DVCTA Summer Opener Dressage Show\nUSEF/USDF Recognized Show\nSaturday\, June 3rd\, 2023\nHeld at Second Century LLC\, West Chester\, PA (aka Dunmovin Farm)\n\n\nOpening: April 24th       Closing: May 15th\nJudge:  Angelia Bean (r)  |   Judge: John Macpherson (S-ON)  |  TD:  Val Bastinelli (r-PA) \nSecond judge has been added!! \n\nSummer Opener FINAL Ride TimesSummer Opener FINAL Rider Schedule \n\nDVCTA Summer Opener Revised Final Prize List \nOnline entries will be accepted through Equestrian Entries. \n\nShow Manager\nDoreen Garland\ndunmovin2@verizon.netShow Secretary\nMegan Mendenhall\ndunmovin2@verizon.net \n   \n\nVOLUNTEERS NEEDED! \nWant to be a scribe\, runner\, or gate person?  Please contact volunteers@dvcta.org. \n\nINTERESTED IN SPONSORING a class ($40) or a division ($100) for the Spring Show?  Sponsorships are tax deductible.  Often previous winners or association supporters are the first to contribute!  This is DVCTA’s only recognized show for 2022 and we would greatly appreciate your support.\nPlease contact volunteers@dvcta.org if you can help.  Thanks!
URL:https://www.dvcta.org/event/dvcta-summer-opener-dressage-show-4/
LOCATION:DunMovin Farm\, 825 Guthrie Road\, West Chester\, PA\, 19380\, United States
CATEGORIES:DVCTA Show,USEF/USDF Recognized Dressage
ORGANIZER;CN="Doreen Garland":MAILTO:Dunmovinenterprisesllc@gmail.com
END:VEVENT
BEGIN:VEVENT
DTSTART;VALUE=DATE:20220604
DTEND;VALUE=DATE:20220605
DTSTAMP:20260423T193327
CREATED:20220114T182036Z
LAST-MODIFIED:20220413T170600Z
UID:6316-1654300800-1654387199@www.dvcta.org
SUMMARY:DVCTA Summer Opener Dressage Show
DESCRIPTION:DVCTA Summer Opener Dressage Show\nUSEF/USDF Recognized Show\nSaturday\, June 4th\, 2022\nHeld at DunMovin Farm\, West Chester\, PA\n\nOpening: April 29th       Closing: May 20th\nJudge: Lori Barnard (S)      TD:  Val Bastinelli (r) \nDVCTA Summer Opener Prize List – Preliminary \nEnter online at Equestrian Entries!!!\n\n \n\nShow Manager/Show Secretary\nDoreen Garland\ndunmovin2@verizon.net \n   \n\nVOLUNTEERS NEEDED! \nWant to be a scribe\, runner\, or gate person?  Please contact volunteers@dvcta.org. \n\nINTERESTED IN SPONSORING a class ($40) or a division ($100) for the Spring Show?  Sponsorships are tax deductible.  Often previous winners or association supporters are the first to contribute!  This is DVCTA’s only recognized show for 2022 and we would greatly appreciate your support.\nPlease contact volunteers@dvcta.org if you can help.  Thanks!
URL:https://www.dvcta.org/event/dvcta-summer-opener-dressage-show-3/
LOCATION:DunMovin Farm\, 825 Guthrie Road\, West Chester\, PA\, 19380\, United States
CATEGORIES:DVCTA Show,USEF/USDF Recognized Dressage
ORGANIZER;CN="Doreen Garland":MAILTO:Dunmovinenterprisesllc@gmail.com
END:VEVENT
BEGIN:VEVENT
DTSTART;VALUE=DATE:20211110
DTEND;VALUE=DATE:20211111
DTSTAMP:20260423T193327
CREATED:20201221T182322Z
LAST-MODIFIED:20201221T182322Z
UID:4731-1636502400-1636588799@www.dvcta.org
SUMMARY:DunMovin USEF/USDF Dressage Show
DESCRIPTION:USEF/USDF Recognized Dressage Show\nJudge: TBD      Open: October 11       Close: October 29
URL:https://www.dvcta.org/event/dunmovin-usef-usdf-dressage-show-4/
LOCATION:DunMovin Farm\, 825 Guthrie Road\, West Chester\, PA\, 19380\, United States
CATEGORIES:USEF/USDF Recognized Dressage
ORGANIZER;CN="Doreen Garland":MAILTO:Dunmovinenterprisesllc@gmail.com
END:VEVENT
BEGIN:VEVENT
DTSTART;VALUE=DATE:20210915
DTEND;VALUE=DATE:20210916
DTSTAMP:20260423T193327
CREATED:20201221T182200Z
LAST-MODIFIED:20201221T182200Z
UID:4729-1631664000-1631750399@www.dvcta.org
SUMMARY:DunMovin USEF/USDF Dressage Show
DESCRIPTION:USEF/USDF Recognized Dressage Show\nJudge: Natalie Lamping (S-FL)      Open: August 16       Close: September 3
URL:https://www.dvcta.org/event/dunmovin-usef-usdf-dressage-show-3/
LOCATION:DunMovin Farm\, 825 Guthrie Road\, West Chester\, PA\, 19380\, United States
CATEGORIES:USEF/USDF Recognized Dressage
ORGANIZER;CN="Doreen Garland":MAILTO:Dunmovinenterprisesllc@gmail.com
END:VEVENT
BEGIN:VEVENT
DTSTART;VALUE=DATE:20210623
DTEND;VALUE=DATE:20210624
DTSTAMP:20260423T193327
CREATED:20201221T181855Z
LAST-MODIFIED:20201221T181855Z
UID:4727-1624406400-1624492799@www.dvcta.org
SUMMARY:DunMovin USEF/USDF Dressage Show
DESCRIPTION:USEF/USDF Recognized Dressage Show\nJudge: Debbie Rodriguez (S-VA)      Open: May 24       Close: June 11
URL:https://www.dvcta.org/event/dunmovin-usef-usdf-dressage-show-2/
LOCATION:DunMovin Farm\, 825 Guthrie Road\, West Chester\, PA\, 19380\, United States
CATEGORIES:USEF/USDF Recognized Dressage
ORGANIZER;CN="Doreen Garland":MAILTO:Dunmovinenterprisesllc@gmail.com
END:VEVENT
BEGIN:VEVENT
DTSTART;VALUE=DATE:20210605
DTEND;VALUE=DATE:20210606
DTSTAMP:20260423T193327
CREATED:20210324T190520Z
LAST-MODIFIED:20210604T204121Z
UID:5824-1622851200-1622937599@www.dvcta.org
SUMMARY:DVCTA Summer Opener Dressage Show
DESCRIPTION:DVCTA Summer Opener Dressage Show\nUSEF/USDF Recognized Show\nSaturday\, June 5th\, 2021\nDunMovin Farm\, West Chester\, PA\n\nJudge: Amy McElroy (S)       TD: Camille Kopcik\nEntries open:  April 26th           Entries close:  May 21st\n\nDVCTA Summer Opener Preliminary Prize List \n \n\nFor More Information Contact\nShow Manager/Show Secretary\nDoreen Garland\ndunmovin2@verizon.netEnter Online\nEquestrian Entries  \n\nVOLUNTEERS NEEDED! \nWant to be a scribe\, runner\, or gate person?  Please contact Carol Lippa cflippa16@gmail.com. \n\nINTERESTED IN SPONSORING a class ($40) or a division ($100) for the Spring Show?  Sponsorships are tax deductible.  Often previous winners or association supporters are the first to contribute!  This is DVCTA’s only recognized show for 2018 and we would greatly appreciate your support.\nPlease contact Carol Lippa at cflippa16@gmail.com if you can help.  Thanks!
URL:https://www.dvcta.org/event/dvcta-summer-opener-dressage-show-2/
LOCATION:DunMovin Farm\, 825 Guthrie Road\, West Chester\, PA\, 19380\, United States
CATEGORIES:USEF/USDF Recognized Dressage
ATTACH;FMTTYPE=image/jpeg:https://www.dvcta.org/files/wp-content/uploads/2021/03/dunmovin.jpg
END:VEVENT
BEGIN:VEVENT
DTSTART;VALUE=DATE:20210428
DTEND;VALUE=DATE:20210429
DTSTAMP:20260423T193327
CREATED:20201221T181723Z
LAST-MODIFIED:20201221T181723Z
UID:4725-1619568000-1619654399@www.dvcta.org
SUMMARY:DunMovin USEF/USDF Dressage Show
DESCRIPTION:USEF/USDF Recognized Dressage Show\nJudge: Dorothy Demis (S-FL)      Open: April 5       Close: April 16
URL:https://www.dvcta.org/event/dunmovin-usef-usdf-dressage-show/
LOCATION:DunMovin Farm\, 825 Guthrie Road\, West Chester\, PA\, 19380\, United States
CATEGORIES:USEF/USDF Recognized Dressage
ORGANIZER;CN="Doreen Garland":MAILTO:Dunmovinenterprisesllc@gmail.com
END:VEVENT
BEGIN:VEVENT
DTSTART;VALUE=DATE:20200530
DTEND;VALUE=DATE:20200531
DTSTAMP:20260423T193327
CREATED:20200311T184725Z
LAST-MODIFIED:20200415T233759Z
UID:4364-1590796800-1590883199@www.dvcta.org
SUMMARY:DVCTA Summer Opener Dressage Show – CANCELLED
DESCRIPTION:This show has been cancelled.\nDVCTA Summer Opener Dressage Show\nUSEF/USDF Recognized Show\nSaturday\, May 30th\, 2020\nDunMovin Farm\, West Chester\, PA\nJudge: Jennifer Roth (S) \n\n \nDVCTA Summer Opener Prize List \n\nEnter onlineShow Secretary/Show Manager\nDoreen Garland\n812 Guthrie Rd.\nWest Chester\, PA 19380\nDunmovin2@verizon.net\n610-416-3839 \n\nVOLUNTEERS NEEDED! \nWant to be a scribe\, runner\, or gate person?  Please contact Carol Lippa cflippa16@gmail.com. \n\nINTERESTED IN SPONSORING a class ($40) or a division ($100) for the Spring Show?  Sponsorships are tax deductible.  Often previous winners or association supporters are the first to contribute!  This is DVCTA’s only recognized show for 2018 and we would greatly appreciate your support.\nPlease contact Carol Lippa at cflippa16@gmail.com if you can help.  Thanks!
URL:https://www.dvcta.org/event/dvcta-summer-opener-dressage-show/
LOCATION:DunMovin Farm\, 825 Guthrie Road\, West Chester\, PA\, 19380\, United States
CATEGORIES:USEF/USDF Recognized Dressage
ORGANIZER;CN="Doreen Garland":MAILTO:Dunmovinenterprisesllc@gmail.com
END:VEVENT
BEGIN:VEVENT
DTSTART;VALUE=DATE:20190601
DTEND;VALUE=DATE:20190602
DTSTAMP:20260423T193327
CREATED:20190319T192152Z
LAST-MODIFIED:20190529T183358Z
UID:3739-1559347200-1559433599@www.dvcta.org
SUMMARY:2019 Summer Opener
DESCRIPTION:DVCTA Summer Opener Dressage Show\nUSEF/USDF Recognized Show\nSaturday\, June 1st\, 2019\nDunMovin Farm\, West Chester\, PA\nOpening date: April 8th\, 2019    ●     Closing date: May 6th\, 2019\n \nJudge: Kem Barbosa (S-NJ)    ●   TD: Val Bastenelli (r-PA) \n\nFinal Ride Times\nFinal Day SheetsFinal Rider’s Schedule \n\n \nSummer Opener Prizelist \nEnter online\nat Equestrianentries.com or by regular mail!Entry Secretary/Show Manager\nDoreen Garland\n812 Guthrie Rd.\nWest Chester\, PA 19380\nDunmovin2@verizon.net\n610-416-3839\nThis is an official EqEntries Perfect Entry Contest Show! All perfect entries submitted using EqEntries are eligible to win an EqEntries embroidered saddle pad and goes in the drawing for a $150 EqEntries Gift Certificate. See the show manager for details. \n\nVOLUNTEERS NEEDED! \nWant to be a scribe\, runner\, or gate person?  Please contact Carol Lippa cflippa16@gmail.com. \n\nINTERESTED IN SPONSORING a class ($40) or a division ($100) for the Spring Show?  Sponsorships are tax deductible.  Often previous winners or association supporters are the first to contribute!  This is DVCTA’s only recognized show for 2018 and we would greatly appreciate your support.\nPlease contact Carol Lippa at cflippa16@gmail.com if you can help.  Thanks!
URL:https://www.dvcta.org/event/2019-summer-opener/
LOCATION:DunMovin Farm\, 825 Guthrie Road\, West Chester\, PA\, 19380\, United States
CATEGORIES:DVCTA Show,USEF/USDF Recognized Dressage
ORGANIZER;CN="Doreen Garland":MAILTO:Dunmovinenterprisesllc@gmail.com
END:VEVENT
BEGIN:VEVENT
DTSTART;VALUE=DATE:20180602
DTEND;VALUE=DATE:20180603
DTSTAMP:20260423T193327
CREATED:20171218T222211Z
LAST-MODIFIED:20180529T194521Z
UID:3042-1527897600-1527983999@www.dvcta.org
SUMMARY:USEF/USDF Summer Kickoff Show
DESCRIPTION:DVCTA Dressage Show\nUSEF/USDF Recognized Show\nSaturday\, June 2nd\, 2018\nDunMovin Farm\, West Chester\, PA\nOpening date: April 7th\, 2018     ●     Closing date: May 12th\, 2018\n \nJudge: Ida Norris (S-VT)    ●   TD: Lisa Toaldo (r-NJ) \n\nFINAL Ride Times posted 11:41AM\, May 29th\, 2018\n \nFINAL Ride Times \nFINAL Rider Schedule \n \nSummer Opener Prizelist (Final)
URL:https://www.dvcta.org/event/usef-usdf-summer-kickoff-show/
LOCATION:DunMovin Farm\, 825 Guthrie Road\, West Chester\, PA\, 19380\, United States
CATEGORIES:USEF/USDF Recognized Dressage
END:VEVENT
BEGIN:VEVENT
DTSTART;VALUE=DATE:20170603
DTEND;VALUE=DATE:20170604
DTSTAMP:20260423T193327
CREATED:20170207T204349Z
LAST-MODIFIED:20170406T200238Z
UID:1701-1496448000-1496534399@www.dvcta.org
SUMMARY:DVCTA Summer Opener Dressage Show
DESCRIPTION:DVCTA Summer Opener Dressage Show\nUSEF/USDF Recognized Show\nSaturday\, June 3rd\, 2017\nDunMovin Farm\, West Chester\, PA\nOpening date: April 8th\, 2017  ● Closing date: May 13th\, 2017\n \nJudge: Heather Mason\, S \n\nDVCTA 2017 Summer Opener Dressage Show Prize List  \nEnter online at\nEquestrianentries.com or\nby regular mail!Entry Secretary\nDoreen Guthrie\nDunmovin2@verizon.net\n610-416-3839Show Manager\nCarol Lippa\ncflippa16@gmail.com\n610-716-9238Secretary\nDarcy Miller\nThis is an official EqEntries Perfect Entry Contest Show! All perfect entries submitted using EqEntries are eligible to win an EqEntries embroidered saddle pad and goes in the drawing for a $150 EqEntries Gift Certificate. See the show manager for details. \n\nVOLUNTEERS NEEDED! \nWant to be a scribe\, runner\, or gate person? Please contact Carol Lippa cflippa16@gmail.com. \n\nINTERESTED IN SPONSORING a class ($40) or a division ($100) for the Spring Show? Sponsorships are tax deductible. Often previous winners or association supporters are the first to contribute! This is DVCTA’s only recognized show for 2017 and we would greatly appreciate your support.\nPlease contact Carol Lippa at cflippa16@gmail.com if you can help. Thanks!
URL:https://www.dvcta.org/event/dvcta-spring-dressage-show/
LOCATION:DunMovin Farm\, 825 Guthrie Road\, West Chester\, PA\, 19380\, United States
CATEGORIES:DVCTA Show,USEF/USDF Recognized Dressage
ORGANIZER;CN="DVCTA - Carol Lippa":MAILTO:cflippa16@gmail.com
END:VEVENT
BEGIN:VEVENT
DTSTART;VALUE=DATE:20160605
DTEND;VALUE=DATE:20160606
DTSTAMP:20260423T193327
CREATED:20160511T020937Z
LAST-MODIFIED:20160511T020937Z
UID:943-1465084800-1465171199@www.dvcta.org
SUMMARY:USEF Dressage Show
DESCRIPTION:DVCTA’s USEF/USDF Dressage Show held at DunMovin Farm.
URL:https://www.dvcta.org/event/usef-dressage-show/
LOCATION:DunMovin Farm\, 825 Guthrie Road\, West Chester\, PA\, 19380\, United States
CATEGORIES:USEF/USDF Recognized Dressage
ORGANIZER;CN="DVCTA - Carol Lippa":MAILTO:cflippa16@gmail.com
END:VEVENT
END:VCALENDAR