BEGIN:VCALENDAR
VERSION:2.0
PRODID:-//DVCTA - ECPv6.15.20//NONSGML v1.0//EN
CALSCALE:GREGORIAN
METHOD:PUBLISH
X-WR-CALNAME:DVCTA
X-ORIGINAL-URL:https://www.dvcta.org
X-WR-CALDESC:Events for DVCTA
REFRESH-INTERVAL;VALUE=DURATION:PT1H
X-Robots-Tag:noindex
X-PUBLISHED-TTL:PT1H
BEGIN:VTIMEZONE
TZID:America/New_York
BEGIN:DAYLIGHT
TZOFFSETFROM:-0500
TZOFFSETTO:-0400
TZNAME:EDT
DTSTART:20210314T070000
END:DAYLIGHT
BEGIN:STANDARD
TZOFFSETFROM:-0400
TZOFFSETTO:-0500
TZNAME:EST
DTSTART:20211107T060000
END:STANDARD
BEGIN:DAYLIGHT
TZOFFSETFROM:-0500
TZOFFSETTO:-0400
TZNAME:EDT
DTSTART:20220313T070000
END:DAYLIGHT
BEGIN:STANDARD
TZOFFSETFROM:-0400
TZOFFSETTO:-0500
TZNAME:EST
DTSTART:20221106T060000
END:STANDARD
BEGIN:DAYLIGHT
TZOFFSETFROM:-0500
TZOFFSETTO:-0400
TZNAME:EDT
DTSTART:20230312T070000
END:DAYLIGHT
BEGIN:STANDARD
TZOFFSETFROM:-0400
TZOFFSETTO:-0500
TZNAME:EST
DTSTART:20231105T060000
END:STANDARD
BEGIN:DAYLIGHT
TZOFFSETFROM:-0500
TZOFFSETTO:-0400
TZNAME:EDT
DTSTART:20240310T070000
END:DAYLIGHT
BEGIN:STANDARD
TZOFFSETFROM:-0400
TZOFFSETTO:-0500
TZNAME:EST
DTSTART:20241103T060000
END:STANDARD
END:VTIMEZONE
BEGIN:VEVENT
DTSTART;VALUE=DATE:20230115
DTEND;VALUE=DATE:20230116
DTSTAMP:20260425T111445
CREATED:20230116T135313Z
LAST-MODIFIED:20230116T135313Z
UID:7341-1673740800-1673827199@www.dvcta.org
SUMMARY:Line It Up Winter Dressage Show Series
DESCRIPTION:Line It Up Winter Dressage Show Series
URL:https://www.dvcta.org/event/line-it-up-winter-dressage-show-series/
LOCATION:Line It Up Farm\, 375 Coffroath Road\, Coatesville\, PA\, 19320\, United States
CATEGORIES:DVCTA Sanctioned Schooling Show
END:VEVENT
BEGIN:VEVENT
DTSTART;TZID=America/New_York:20230107T180000
DTEND;TZID=America/New_York:20230107T200000
DTSTAMP:20260425T111445
CREATED:20221223T191321Z
LAST-MODIFIED:20221223T191321Z
UID:7180-1673114400-1673121600@www.dvcta.org
SUMMARY:Judge’s view of new Dressage Tests
DESCRIPTION:DVCTA presents: Judge’s view to the new 2022 USDF Dressage Tests\n \n \n\nWith Judges: Anne Moss “R” & Lauren Annett “r”\n \n \n\n\n\n \n \n\nJanuary 7\, 2023 at 6pm\n \n \nStroud Water Research Center\nMeeting House\n970 Spencer Rd\nAvondale\, PA 19311 \n \n \n\n\n\nRegistration Form\n\n\n\n\n\n\n\n\n\n\n\n\nPlease join DVCTA as Judges Anne Moss “R” & Lauren Annett “r” present the differences between the 2019 and the NEW 2022 USDF Test that are effective as of December 1\, 2022.\n\n\n\n\n\nAnne Moss is an “R” judge for both traditional and western dressage. She has her USDF Bronze\, Silver and Gold medals. She has been the President for DVCTA and DAD. She is also a national examiner for the US Pony Club. She is a Side Saddle enthusiast.\n\n\n\n\n\nLauren Annett is an “r” judge for both traditional and western dressage. She has her USDF Bronze\, Silver and Gold medals. As well as her USDF Bronze and Silver bars. Lauren is also a positive instructor who challenges horses and riders while not intimidating them. Horses and riders from USDF to FEI and Western dressage will enjoy and benefits from her comparisons for these new tests.\n\n\n\n\n\nThis event is free for DVCTA members. $10 for nonmembers. Memberships can be purchased at the event.
URL:https://www.dvcta.org/event/judges-view-of-new-dressage-tests/
LOCATION:Stroud Water Research Center\, 970 Spencer Road\, Avondale\, PA\, 19311\, United States
CATEGORIES:Meetings,Other
END:VEVENT
BEGIN:VEVENT
DTSTART;VALUE=DATE:20230107
DTEND;VALUE=DATE:20230108
DTSTAMP:20260425T111445
CREATED:20221231T105650Z
LAST-MODIFIED:20221231T105706Z
UID:7200-1673049600-1673135999@www.dvcta.org
SUMMARY:Blue Goose Dressage Schooling Show
DESCRIPTION:Schooling Show Series\nPrix Caprilli | Dressage | Western Dressage
URL:https://www.dvcta.org/event/blue-goose-ct-dressage-schooling-show-27/
LOCATION:Blue Goose @ The Stables at Fox Crossing\, 501 Walter Road\, Cochranville\, PA\, 19330\, United States
CATEGORIES:DVCTA Sanctioned Schooling Show
ORGANIZER;CN="Darcy Miller":MAILTO:BlueGooseStableLLC@gmail.com
END:VEVENT
BEGIN:VEVENT
DTSTART;VALUE=DATE:20221125
DTEND;VALUE=DATE:20221126
DTSTAMP:20260425T111445
CREATED:20220207T164941Z
LAST-MODIFIED:20220207T164941Z
UID:6446-1669334400-1669420799@www.dvcta.org
SUMMARY:Second Nature Dressage Schooling Show
DESCRIPTION:Schooling Dressage Show
URL:https://www.dvcta.org/event/second-nature-dressage-schooling-show-24/
LOCATION:Second Nature Farm\, 420 Catamount Road\, Oxford\, PA\, 19363\, United States
CATEGORIES:DVCTA Sanctioned Schooling Show
ORGANIZER;CN="Kathy King":MAILTO:kathyjking@mac.com
END:VEVENT
BEGIN:VEVENT
DTSTART;VALUE=DATE:20221120
DTEND;VALUE=DATE:20221121
DTSTAMP:20260425T111445
CREATED:20220314T164722Z
LAST-MODIFIED:20221118T213723Z
UID:6721-1668902400-1668988799@www.dvcta.org
SUMMARY:DVCTA Harvestfest CT Championship and Open Show
DESCRIPTION:November 5th\, 2022\n\n\n\nDVCTA Harvestfest Championship and Open Dressage Show\n\n\n\n\n\nNovember 20th\, 2022\n\n\n\nDVCTA Harvestfest Championship and Open CT\nCT Ride Times\nSUNDAY JUMP TIMES Leadline : 08:30Puddle Jump 08:36 – 08:56Elementary 9:15 – 10:30Intro 10:45 – 12:30BGN 12:45 – 2:45Novice 3:00-4:00Training & Modified 415 – 5 \n\n\n\n\n\nEvents held at: Blue Goose Stable\, LLC  210 White Horse Road\, Cochranville\, Pa. 19330\n\n\n\n\n\n\n\n\n\n\n\nCT Online Entry\n\n\n\n \n\n\n\n\n\n\n\n \n\n\n\n\n\nSponsorships\n\n\n\nPlease consider sponsoring!\n\n\n\nContact: ElizaHerman1979@gmail.com
URL:https://www.dvcta.org/event/dvcta-harvestfest-ct-championship-and-open-show/
LOCATION:Blue Goose Stable\, 210 White Horse Road\, Cochranville\, PA\, 19330\, United States
CATEGORIES:DVCTA Show
END:VEVENT
BEGIN:VEVENT
DTSTART;VALUE=DATE:20221119
DTEND;VALUE=DATE:20221120
DTSTAMP:20260425T111445
CREATED:20220207T160213Z
LAST-MODIFIED:20220207T160213Z
UID:6430-1668816000-1668902399@www.dvcta.org
SUMMARY:Blue Goose CT/Dressage Schooling Show
DESCRIPTION:Schooling Show Series\nCombined Training | Dressage | Western Dressage
URL:https://www.dvcta.org/event/blue-goose-ct-dressage-schooling-show-26/
LOCATION:Blue Goose Stable\, 210 White Horse Road\, Cochranville\, PA\, 19330\, United States
CATEGORIES:DVCTA Sanctioned Schooling Show
ORGANIZER;CN="Darcy Miller":MAILTO:BlueGooseStableLLC@gmail.com
END:VEVENT
BEGIN:VEVENT
DTSTART;VALUE=DATE:20221113
DTEND;VALUE=DATE:20221114
DTSTAMP:20260425T111445
CREATED:20221031T195620Z
LAST-MODIFIED:20221031T195620Z
UID:7069-1668297600-1668383999@www.dvcta.org
SUMMARY:SHOWJUMPING CLINIC WITH 5* EVENTER SALLY COUSINS
DESCRIPTION:SHOWJUMPING CLINIC WITH 5* EVENTER SALLY COUSINS\n\n\n\n\n\n\n\n\n\nRegistration Form and Full Clinic Details\n\n\n\n\n\nNOVEMBER 13\, 2022 at Rolling Hills Ranch\n33 Rolling Hills Lane\, Port Deposit\, MD\n\n\n\n\nSally Cousins is a very experienced rider and instructor who has produced horses from the lowest levels of eventing to the highest. She is great at bringing out the best in both riders and horses of all levels.\n\n\n\n\n\nLessons will be in small groups by level. Sand ring with good footing and colorful show jumps with lots of fillers.\n\n\n\n\n\nCost: DVCTA members $65\, non-members $90. Join now and DVCTA membership runs through 2023.\n\n\n\n\n\nFor more information or to reserve a spot: please email completed entry/release/ proof of payment to Eliza at elizaherman1979@gmail.com or call/ text 443-910-5073. Spots are limited!
URL:https://www.dvcta.org/event/showjumping-clinic-with-5-eventer-sally-cousins/
LOCATION:Rolling Hills Ranch\, 33 Rolling Hills Ranch Ln\, Port Deposit\, MD\, United States
CATEGORIES:Clinic,Other
END:VEVENT
BEGIN:VEVENT
DTSTART;TZID=America/New_York:20221112T173000
DTEND;TZID=America/New_York:20221112T213000
DTSTAMP:20260425T111445
CREATED:20221108T202548Z
LAST-MODIFIED:20221108T202645Z
UID:7102-1668274200-1668288600@www.dvcta.org
SUMMARY:Freedom Cup - A Night at the Races
DESCRIPTION:Fundraiser for the Freedom Hills Therapeutic Riding Program\nFreedom Cup 2022 \nThe Freedom Cup “Night at the Races” will be held Saturday\, November 12. Please mark your calendar for a fun night of food\, fellowship\, and betting on racehorses as well as a silent auction. All the proceeds go towards the Freedom Hills TRP Military Veterans program and their families.
URL:https://www.dvcta.org/event/freedom-cup-a-night-at-the-races/
LOCATION:PA
CATEGORIES:Other
END:VEVENT
BEGIN:VEVENT
DTSTART;VALUE=DATE:20221112
DTEND;VALUE=DATE:20221113
DTSTAMP:20260425T111445
CREATED:20211222T183719Z
LAST-MODIFIED:20211222T183719Z
UID:6217-1668211200-1668297599@www.dvcta.org
SUMMARY:DunMovin Dressage Schooling Show
DESCRIPTION:Dressage Schooling Show
URL:https://www.dvcta.org/event/dunmovin-dressage-schooling-show-26/
LOCATION:DunMovin Farm\, 825 Guthrie Road\, West Chester\, PA\, 19380\, United States
CATEGORIES:DVCTA Sanctioned Schooling Show
ORGANIZER;CN="Doreen Garland":MAILTO:Dunmovinenterprisesllc@gmail.com
END:VEVENT
BEGIN:VEVENT
DTSTART;VALUE=DATE:20221105
DTEND;VALUE=DATE:20221106
DTSTAMP:20260425T111445
CREATED:20220314T164446Z
LAST-MODIFIED:20221031T194353Z
UID:6719-1667606400-1667692799@www.dvcta.org
SUMMARY:DVCTA Harvestfest Dressage Championship and Open Show
DESCRIPTION:DVCTA Harvestfest Show Prize List\nOnline Dressage Show Entries\nOnline Combined Training Entries\n \nNovember 5th\, 2022\n\n\n\nDVCTA Harvestfest Championship and Open Dressage Show\nJudge:  Noel H Williams (r-mD) \n\n\n\n\n\nNovember 20th\, 2022\n\n\n\nDVCTA Harvestfest Championship and Open CT\nJudge: Aviva Nebesky (L*-MD) \n\n\n\n\n\nEvents held at: Blue Goose Stable\, LLC  210 White Horse Road\, Cochranville\, Pa. 19330\n\n\n\n\n\n\n\n\n\n\n\n \n\n\n\nPlan to join us at Blue Goose Stables for our annual Harvestfest Championship Show!!\n\n\n\n\n\n\n\nThank you to our 2022 DVCTA Harvestfest Sponsors! \nIRON SPRING FARM (FEI Championship & High Score KWPN and Friesian awards)ROLLING HILLS RANCHFREEDOM HILLS THERAPEUTIC RIDINGRY’S HORSE DELIGHTSBLUE GOOSE STABLE\, LLC (FIRST LEV Championship)BUCK RUN SMALL ANIMAL HOUSECALLSRED OAK FARM LLC (EVENTING TB award)MIDATLANTIC HORSE RESCUE (CT and DRESSAGE TB awards)BECKY LYNCH (LEADLINE Championship)DUVALL BUS SERVICENUNN FINER PRODUCTSTHORNRIDGE MANOR LLCSECOND NATURE FARMRPM SERVICES \n 
URL:https://www.dvcta.org/event/dvcta-harvestfest-dressage-championship-and-open-show/
LOCATION:Blue Goose Stable\, 210 White Horse Road\, Cochranville\, PA\, 19330\, United States
CATEGORIES:DVCTA Show
ORGANIZER;CN="Darcy Miller":MAILTO:BlueGooseStableLLC@gmail.com
END:VEVENT
BEGIN:VEVENT
DTSTART;VALUE=DATE:20221030
DTEND;VALUE=DATE:20221031
DTSTAMP:20260425T111445
CREATED:20221023T090852Z
LAST-MODIFIED:20221023T090852Z
UID:7029-1667088000-1667174399@www.dvcta.org
SUMMARY:DVCTA Fix-A-Test benefit DVCTA Adult Teams with Darcy Miller
DESCRIPTION:Open to all\, a fix-a-test day to benefit the DVCTA Adult Team. Ride any dressage\, western dressage\, eventing dressage test. Each slot is 30 minutes.\nRide your test\, work on areas from feedback and re-ride your test.\nFix it with a fix-a-test!\nDVCTA members select the $10.00 discount. Include your member number.\nHit the link for more details! \nhttps://www.striderpro.com/a/NC4WULYTMEiuMocFanj32g
URL:https://www.dvcta.org/event/dvcta-fix-a-test-benefit-dvcta-adult-teams-with-darcy-miller/
LOCATION:Blue Goose Stable\, 210 White Horse Road\, Cochranville\, PA\, 19330\, United States
CATEGORIES:Clinic,Other
ORGANIZER;CN="Darcy Miller":MAILTO:BlueGooseStableLLC@gmail.com
END:VEVENT
BEGIN:VEVENT
DTSTART;VALUE=DATE:20221029
DTEND;VALUE=DATE:20221030
DTSTAMP:20260425T111445
CREATED:20220118T180858Z
LAST-MODIFIED:20220118T180858Z
UID:6343-1667001600-1667087999@www.dvcta.org
SUMMARY:Thornridge Manor Schooling Show
DESCRIPTION:Schooling Show
URL:https://www.dvcta.org/event/thornridge-manor-schooling-show-17/
LOCATION:Thornridge Manor\, 12531 Manor Rd\, Glen Arm\, MD\, 21057\, United States
CATEGORIES:DVCTA Sanctioned Schooling Show
ORGANIZER;CN="Phoebe DeVoe-Moore":MAILTO:info@thornridgemanor.com
END:VEVENT
BEGIN:VEVENT
DTSTART;VALUE=DATE:20221029
DTEND;VALUE=DATE:20221030
DTSTAMP:20260425T111445
CREATED:20211222T183528Z
LAST-MODIFIED:20211222T183528Z
UID:6215-1667001600-1667087999@www.dvcta.org
SUMMARY:DunMovin Dressage Schooling Show
DESCRIPTION:Dressage Schooling Show
URL:https://www.dvcta.org/event/dunmovin-dressage-schooling-show-25/
LOCATION:DunMovin Farm\, 825 Guthrie Road\, West Chester\, PA\, 19380\, United States
CATEGORIES:DVCTA Sanctioned Schooling Show
ORGANIZER;CN="Doreen Garland":MAILTO:Dunmovinenterprisesllc@gmail.com
END:VEVENT
BEGIN:VEVENT
DTSTART;VALUE=DATE:20221023
DTEND;VALUE=DATE:20221024
DTSTAMP:20260425T111445
CREATED:20220928T211051Z
LAST-MODIFIED:20220928T211051Z
UID:6932-1666483200-1666569599@www.dvcta.org
SUMMARY:Rolling Hills Ranch CT/Dressage Schooling Show
DESCRIPTION:CT/Dressage Schooling Show
URL:https://www.dvcta.org/event/rolling-hills-ranch-ct-dressage-schooling-show-8/
LOCATION:Rolling Hills Ranch\, 33 Rolling Hills Ranch Ln\, Port Deposit\, MD\, United States
CATEGORIES:DVCTA Sanctioned Schooling Show
END:VEVENT
BEGIN:VEVENT
DTSTART;VALUE=DATE:20221021
DTEND;VALUE=DATE:20221022
DTSTAMP:20260425T111445
CREATED:20220207T164734Z
LAST-MODIFIED:20220207T164734Z
UID:6442-1666310400-1666396799@www.dvcta.org
SUMMARY:Second Nature Dressage Schooling Show
DESCRIPTION:Schooling Dressage Show
URL:https://www.dvcta.org/event/second-nature-dressage-schooling-show-22/
LOCATION:Second Nature Farm\, 420 Catamount Road\, Oxford\, PA\, 19363\, United States
CATEGORIES:DVCTA Sanctioned Schooling Show
ORGANIZER;CN="Kathy King":MAILTO:kathyjking@mac.com
END:VEVENT
BEGIN:VEVENT
DTSTART;VALUE=DATE:20221001
DTEND;VALUE=DATE:20221002
DTSTAMP:20260425T111445
CREATED:20220207T160106Z
LAST-MODIFIED:20220207T160106Z
UID:6428-1664582400-1664668799@www.dvcta.org
SUMMARY:Blue Goose CT/Dressage Schooling Show
DESCRIPTION:Schooling Show Series\nCombined Training | Dressage | Western Dressage
URL:https://www.dvcta.org/event/blue-goose-ct-dressage-schooling-show-25/
LOCATION:Blue Goose Stable\, 210 White Horse Road\, Cochranville\, PA\, 19330\, United States
CATEGORIES:DVCTA Sanctioned Schooling Show
ORGANIZER;CN="Darcy Miller":MAILTO:BlueGooseStableLLC@gmail.com
END:VEVENT
BEGIN:VEVENT
DTSTART;VALUE=DATE:20220923
DTEND;VALUE=DATE:20220924
DTSTAMP:20260425T111445
CREATED:20220720T220511Z
LAST-MODIFIED:20220720T220511Z
UID:6829-1663891200-1663977599@www.dvcta.org
SUMMARY:DVCTA Junior Clinic - Melanie Delduco
DESCRIPTION:DVCTA Activity 2022\nThe Junior Committee has planned clinics for DVCTA Juniors!  Join in the Fun.  \nAny DVCTA Jr rider is invited to participate in these clinics. Please fill out the intent form (below) at least 2 weeks before each clinic. Please send your intent forms to Lisa Knox. \nClinic Dates: \n\nSunday\, August 14th – Anne Moss at West View Farm\nSunday\, September 11th – Danni Toscanno at Pony Island Stable\nFriday\, September 23rd – Melanie Delduco at Second Nature Farm\n\n\nDVCTA TEAM OPPORTUNITIES\nFor DVCTA Junior and Young Riders 2022\nSubmission Deadline: June 30\, 2022\nClinics TBA \nLetter of Intent \nThe 2022 Jr team activities will be 3 educational clinics. These clinics will be Subsidized by DVCTA for each Junior rider attending. Please submit the letter of intent ASAP! The deadline is June 30th. \n**Please note the 2022 DVCTA Jr. team will NOT be attending Dressage 4 Kids and the region 1 Youth Dressage Team Challenge this year but are aiming to go in 2023. \n\nQualifications\n\nMust be a DVCTA membership in good standing.\nCommit to complete 8 hours of volunteer work for DVCTA.\n4 of which need to be Jr sponsored activities.\nDonate 3 items to silent auction.\nSubmit letter of intent above.\nWrite an article and submit to DVCTA Junior Team committee within 30 days after the event.
URL:https://www.dvcta.org/event/dvcta-junior-clinic-melanie-delduco/
LOCATION:Second Nature Farm\, 420 Catamount Road\, Oxford\, PA\, 19363\, United States
CATEGORIES:Clinic,Other
END:VEVENT
BEGIN:VEVENT
DTSTART;VALUE=DATE:20220916
DTEND;VALUE=DATE:20220917
DTSTAMP:20260425T111445
CREATED:20220207T164836Z
LAST-MODIFIED:20220207T164836Z
UID:6444-1663286400-1663372799@www.dvcta.org
SUMMARY:Second Nature Dressage Schooling Show
DESCRIPTION:Schooling Dressage Show
URL:https://www.dvcta.org/event/second-nature-dressage-schooling-show-23/
LOCATION:Second Nature Farm\, 420 Catamount Road\, Oxford\, PA\, 19363\, United States
CATEGORIES:DVCTA Sanctioned Schooling Show
ORGANIZER;CN="Kathy King":MAILTO:kathyjking@mac.com
END:VEVENT
BEGIN:VEVENT
DTSTART;VALUE=DATE:20220911
DTEND;VALUE=DATE:20220912
DTSTAMP:20260425T111445
CREATED:20220720T220208Z
LAST-MODIFIED:20220720T220208Z
UID:6826-1662854400-1662940799@www.dvcta.org
SUMMARY:DVCTA Junior Clinic - Danni Toscanno
DESCRIPTION:DVCTA Activity 2022\nThe Junior Committee has planned clinics for DVCTA Juniors!  Join in the Fun.  \nAny DVCTA Jr rider is invited to participate in these clinics. Please fill out the intent form (below) at least 2 weeks before each clinic. Please send your intent forms to Lisa Knox. \nClinic Dates: \n\nSunday\, August 14th – Anne Moss at West View Farm\nSunday\, September 11th – Danni Toscanno at Pony Island Stable\nFriday\, September 23rd – Melanie Delduco at Second Nature Farm\n\n\nDVCTA TEAM OPPORTUNITIES\nFor DVCTA Junior and Young Riders 2022\nSubmission Deadline: June 30\, 2022\nClinics TBA \nLetter of Intent \nThe 2022 Jr team activities will be 3 educational clinics. These clinics will be Subsidized by DVCTA for each Junior rider attending. Please submit the letter of intent ASAP! The deadline is June 30th. \n**Please note the 2022 DVCTA Jr. team will NOT be attending Dressage 4 Kids and the region 1 Youth Dressage Team Challenge this year but are aiming to go in 2023. \n\nQualifications\n\nMust be a DVCTA membership in good standing.\nCommit to complete 8 hours of volunteer work for DVCTA.\n4 of which need to be Jr sponsored activities.\nDonate 3 items to silent auction.\nSubmit letter of intent above.\nWrite an article and submit to DVCTA Junior Team committee within 30 days after the event.
URL:https://www.dvcta.org/event/dvcta-junior-clinic-danni-toscanno/
LOCATION:Pony Island Stable\, 418 McFarlan Rd\, Kennett Square\, PA\, 19348\, United States
CATEGORIES:Clinic,Other
END:VEVENT
BEGIN:VEVENT
DTSTART;VALUE=DATE:20220910
DTEND;VALUE=DATE:20220911
DTSTAMP:20260425T111445
CREATED:20220314T170030Z
LAST-MODIFIED:20220928T210559Z
UID:6732-1662768000-1662854399@www.dvcta.org
SUMMARY:Rolling Hills Ranch CT/Dressage Schooling Show
DESCRIPTION:CT/Dressage Schooling Show
URL:https://www.dvcta.org/event/rolling-hills-ranch-ct-dressage-schooling-show-7/
LOCATION:Rolling Hills Ranch\, 33 Rolling Hills Ranch Ln\, Port Deposit\, MD\, United States
CATEGORIES:DVCTA Sanctioned Schooling Show
END:VEVENT
BEGIN:VEVENT
DTSTART;VALUE=DATE:20220903
DTEND;VALUE=DATE:20220904
DTSTAMP:20260425T111445
CREATED:20220210T182314Z
LAST-MODIFIED:20220210T182314Z
UID:6459-1662163200-1662249599@www.dvcta.org
SUMMARY:Bally Vae Farm Schooling Show
DESCRIPTION:Schooling Show Series\nJudge: Phoebe Devoe-Moore r
URL:https://www.dvcta.org/event/bally-vae-farm-schooling-show-26/
LOCATION:Bally Vae Farm\, 369 Lewisville Road\, Lincoln University\, PA\, 19352\, United States
CATEGORIES:DVCTA Sanctioned Schooling Show
ORGANIZER;CN="Lauren Annett":MAILTO:laurenannettdressage@gmail.com
END:VEVENT
BEGIN:VEVENT
DTSTART;VALUE=DATE:20220903
DTEND;VALUE=DATE:20220904
DTSTAMP:20260425T111445
CREATED:20220207T155939Z
LAST-MODIFIED:20220207T155939Z
UID:6426-1662163200-1662249599@www.dvcta.org
SUMMARY:Blue Goose CT/Dressage Schooling Show
DESCRIPTION:Schooling Show Series\nCombined Training | Dressage | Western Dressage
URL:https://www.dvcta.org/event/blue-goose-ct-dressage-schooling-show-24/
LOCATION:Blue Goose Stable\, 210 White Horse Road\, Cochranville\, PA\, 19330\, United States
CATEGORIES:DVCTA Sanctioned Schooling Show
ORGANIZER;CN="Darcy Miller":MAILTO:BlueGooseStableLLC@gmail.com
END:VEVENT
BEGIN:VEVENT
DTSTART;VALUE=DATE:20220827
DTEND;VALUE=DATE:20220828
DTSTAMP:20260425T111445
CREATED:20220118T180756Z
LAST-MODIFIED:20220118T180756Z
UID:6341-1661558400-1661644799@www.dvcta.org
SUMMARY:Thornridge Manor Schooling Show
DESCRIPTION:Schooling Show
URL:https://www.dvcta.org/event/thornridge-manor-schooling-show-16/
LOCATION:Thornridge Manor\, 12531 Manor Rd\, Glen Arm\, MD\, 21057\, United States
CATEGORIES:DVCTA Sanctioned Schooling Show
ORGANIZER;CN="Phoebe DeVoe-Moore":MAILTO:info@thornridgemanor.com
END:VEVENT
BEGIN:VEVENT
DTSTART;VALUE=DATE:20220827
DTEND;VALUE=DATE:20220829
DTSTAMP:20260425T111445
CREATED:20211222T183336Z
LAST-MODIFIED:20211222T183336Z
UID:6212-1661558400-1661731199@www.dvcta.org
SUMMARY:DunMovin Dressage Schooling Show at Devon
DESCRIPTION:Dressage Schooling Show
URL:https://www.dvcta.org/event/dunmovin-dressage-schooling-show-at-devon/
LOCATION:Devon Show Grounds\, 23 Dorset Road\, Devon\, PA\, 19333\, United States
CATEGORIES:DVCTA Sanctioned Schooling Show
ORGANIZER;CN="Doreen Garland":MAILTO:Dunmovinenterprisesllc@gmail.com
END:VEVENT
BEGIN:VEVENT
DTSTART;VALUE=DATE:20220820
DTEND;VALUE=DATE:20220821
DTSTAMP:20260425T111445
CREATED:20220314T165949Z
LAST-MODIFIED:20220928T210622Z
UID:6730-1660953600-1661039999@www.dvcta.org
SUMMARY:Rolling Hills Ranch CT/Dressage Schooling Show
DESCRIPTION:CT/Dressage Schooling Show
URL:https://www.dvcta.org/event/rolling-hills-ranch-ct-dressage-schooling-show-6/
LOCATION:Rolling Hills Ranch\, 33 Rolling Hills Ranch Ln\, Port Deposit\, MD\, United States
CATEGORIES:DVCTA Sanctioned Schooling Show
END:VEVENT
BEGIN:VEVENT
DTSTART;VALUE=DATE:20220819
DTEND;VALUE=DATE:20220820
DTSTAMP:20260425T111445
CREATED:20220207T164617Z
LAST-MODIFIED:20220207T164617Z
UID:6440-1660867200-1660953599@www.dvcta.org
SUMMARY:Second Nature Dressage Schooling Show
DESCRIPTION:Schooling Dressage Show
URL:https://www.dvcta.org/event/second-nature-dressage-schooling-show-21/
LOCATION:Second Nature Farm\, 420 Catamount Road\, Oxford\, PA\, 19363\, United States
CATEGORIES:DVCTA Sanctioned Schooling Show
ORGANIZER;CN="Kathy King":MAILTO:kathyjking@mac.com
END:VEVENT
BEGIN:VEVENT
DTSTART;TZID=America/New_York:20220815T180000
DTEND;TZID=America/New_York:20220815T190000
DTSTAMP:20260425T111445
CREATED:20220718T192646Z
LAST-MODIFIED:20220718T192646Z
UID:6817-1660586400-1660590000@www.dvcta.org
SUMMARY:DVCTA Adult Team Meeting
DESCRIPTION:Adult Team Meeting\nCome check us out…\nFor anyone interested in attending the team competition on November 12 and 13 2022 PVDA Upper Marlboro\, MD.\nMeeting will be held August 15th 6pm.\nAt Second Nature Farm 420 Catamount Road\, Oxford PA 19363\nQuestions call Karen Walsh 302-593-4569
URL:https://www.dvcta.org/event/dvcta-adult-team-meeting/
LOCATION:Second Nature Farm\, 420 Catamount Road\, Oxford\, PA\, 19363\, United States
CATEGORIES:Meetings,Other
END:VEVENT
BEGIN:VEVENT
DTSTART;VALUE=DATE:20220814
DTEND;VALUE=DATE:20220815
DTSTAMP:20260425T111445
CREATED:20220720T215718Z
LAST-MODIFIED:20220720T215718Z
UID:6822-1660435200-1660521599@www.dvcta.org
SUMMARY:DVCTA Junior Clinic - Anne Moss
DESCRIPTION:DVCTA Activity 2022\nThe Junior Committee has planned clinics for DVCTA Juniors!  Join in the Fun.  \nAny DVCTA Jr rider is invited to participate in these clinics. Please fill out the intent form (below) at least 2 weeks before each clinic. Please send your intent forms to Lisa Knox. \nClinic Dates: \n\nSunday\, August 14th – Anne Moss at West View Farm\nSunday\, September 11th – Danni Toscanno at Pony Island Stable\nFriday\, September 23rd – Melanie Delduco at Second Nature Farm\n\n\nDVCTA TEAM OPPORTUNITIES\nFor DVCTA Junior and Young Riders 2022\nSubmission Deadline: June 30\, 2022\nClinics TBA \nLetter of Intent \nThe 2022 Jr team activities will be 3 educational clinics. These clinics will be Subsidized by DVCTA for each Junior rider attending. Please submit the letter of intent ASAP! The deadline is June 30th. \n**Please note the 2022 DVCTA Jr. team will NOT be attending Dressage 4 Kids and the region 1 Youth Dressage Team Challenge this year but are aiming to go in 2023. \n\nQualifications\n\nMust be a DVCTA membership in good standing.\nCommit to complete 8 hours of volunteer work for DVCTA.\n4 of which need to be Jr sponsored activities.\nDonate 3 items to silent auction.\nSubmit letter of intent above.\nWrite an article and submit to DVCTA Junior Team committee within 30 days after the event.
URL:https://www.dvcta.org/event/dvcta-junior-clinic-anne-moss/
LOCATION:West View Farm\, United States
CATEGORIES:Clinic,Other
END:VEVENT
BEGIN:VEVENT
DTSTART;VALUE=DATE:20220813
DTEND;VALUE=DATE:20220814
DTSTAMP:20260425T111445
CREATED:20220210T182205Z
LAST-MODIFIED:20220210T182205Z
UID:6457-1660348800-1660435199@www.dvcta.org
SUMMARY:Bally Vae Farm Schooling Show
DESCRIPTION:Schooling Show Series\nJudge: Trisha Hessinger L*
URL:https://www.dvcta.org/event/bally-vae-farm-schooling-show-25/
LOCATION:Bally Vae Farm\, 369 Lewisville Road\, Lincoln University\, PA\, 19352\, United States
CATEGORIES:DVCTA Sanctioned Schooling Show
ORGANIZER;CN="Lauren Annett":MAILTO:laurenannettdressage@gmail.com
END:VEVENT
BEGIN:VEVENT
DTSTART;VALUE=DATE:20220807
DTEND;VALUE=DATE:20220808
DTSTAMP:20260425T111445
CREATED:20220207T155801Z
LAST-MODIFIED:20220207T155801Z
UID:6424-1659830400-1659916799@www.dvcta.org
SUMMARY:Blue Goose CT/Dressage Schooling Show
DESCRIPTION:Schooling Show Series\nCombined Training | Dressage | Western Dressage
URL:https://www.dvcta.org/event/blue-goose-ct-dressage-schooling-show-23/
LOCATION:Blue Goose Stable\, 210 White Horse Road\, Cochranville\, PA\, 19330\, United States
CATEGORIES:DVCTA Sanctioned Schooling Show
ORGANIZER;CN="Darcy Miller":MAILTO:BlueGooseStableLLC@gmail.com
END:VEVENT
END:VCALENDAR