BEGIN:VCALENDAR
VERSION:2.0
PRODID:-//DVCTA - ECPv6.15.20//NONSGML v1.0//EN
CALSCALE:GREGORIAN
METHOD:PUBLISH
X-WR-CALNAME:DVCTA
X-ORIGINAL-URL:https://www.dvcta.org
X-WR-CALDESC:Events for DVCTA
REFRESH-INTERVAL;VALUE=DURATION:PT1H
X-Robots-Tag:noindex
X-PUBLISHED-TTL:PT1H
BEGIN:VTIMEZONE
TZID:America/New_York
BEGIN:DAYLIGHT
TZOFFSETFROM:-0500
TZOFFSETTO:-0400
TZNAME:EDT
DTSTART:20210314T070000
END:DAYLIGHT
BEGIN:STANDARD
TZOFFSETFROM:-0400
TZOFFSETTO:-0500
TZNAME:EST
DTSTART:20211107T060000
END:STANDARD
BEGIN:DAYLIGHT
TZOFFSETFROM:-0500
TZOFFSETTO:-0400
TZNAME:EDT
DTSTART:20220313T070000
END:DAYLIGHT
BEGIN:STANDARD
TZOFFSETFROM:-0400
TZOFFSETTO:-0500
TZNAME:EST
DTSTART:20221106T060000
END:STANDARD
BEGIN:DAYLIGHT
TZOFFSETFROM:-0500
TZOFFSETTO:-0400
TZNAME:EDT
DTSTART:20230312T070000
END:DAYLIGHT
BEGIN:STANDARD
TZOFFSETFROM:-0400
TZOFFSETTO:-0500
TZNAME:EST
DTSTART:20231105T060000
END:STANDARD
END:VTIMEZONE
BEGIN:VEVENT
DTSTART;VALUE=DATE:20220910
DTEND;VALUE=DATE:20220911
DTSTAMP:20260425T092902
CREATED:20220314T170030Z
LAST-MODIFIED:20220928T210559Z
UID:6732-1662768000-1662854399@www.dvcta.org
SUMMARY:Rolling Hills Ranch CT/Dressage Schooling Show
DESCRIPTION:CT/Dressage Schooling Show
URL:https://www.dvcta.org/event/rolling-hills-ranch-ct-dressage-schooling-show-7/
LOCATION:Rolling Hills Ranch\, 33 Rolling Hills Ranch Ln\, Port Deposit\, MD\, United States
CATEGORIES:DVCTA Sanctioned Schooling Show
END:VEVENT
BEGIN:VEVENT
DTSTART;VALUE=DATE:20220903
DTEND;VALUE=DATE:20220904
DTSTAMP:20260425T092902
CREATED:20220210T182314Z
LAST-MODIFIED:20220210T182314Z
UID:6459-1662163200-1662249599@www.dvcta.org
SUMMARY:Bally Vae Farm Schooling Show
DESCRIPTION:Schooling Show Series\nJudge: Phoebe Devoe-Moore r
URL:https://www.dvcta.org/event/bally-vae-farm-schooling-show-26/
LOCATION:Bally Vae Farm\, 369 Lewisville Road\, Lincoln University\, PA\, 19352\, United States
CATEGORIES:DVCTA Sanctioned Schooling Show
ORGANIZER;CN="Lauren Annett":MAILTO:laurenannettdressage@gmail.com
END:VEVENT
BEGIN:VEVENT
DTSTART;VALUE=DATE:20220903
DTEND;VALUE=DATE:20220904
DTSTAMP:20260425T092902
CREATED:20220207T155939Z
LAST-MODIFIED:20220207T155939Z
UID:6426-1662163200-1662249599@www.dvcta.org
SUMMARY:Blue Goose CT/Dressage Schooling Show
DESCRIPTION:Schooling Show Series\nCombined Training | Dressage | Western Dressage
URL:https://www.dvcta.org/event/blue-goose-ct-dressage-schooling-show-24/
LOCATION:Blue Goose Stable\, 210 White Horse Road\, Cochranville\, PA\, 19330\, United States
CATEGORIES:DVCTA Sanctioned Schooling Show
ORGANIZER;CN="Darcy Miller":MAILTO:BlueGooseStableLLC@gmail.com
END:VEVENT
BEGIN:VEVENT
DTSTART;VALUE=DATE:20220827
DTEND;VALUE=DATE:20220828
DTSTAMP:20260425T092902
CREATED:20220118T180756Z
LAST-MODIFIED:20220118T180756Z
UID:6341-1661558400-1661644799@www.dvcta.org
SUMMARY:Thornridge Manor Schooling Show
DESCRIPTION:Schooling Show
URL:https://www.dvcta.org/event/thornridge-manor-schooling-show-16/
LOCATION:Thornridge Manor\, 12531 Manor Rd\, Glen Arm\, MD\, 21057\, United States
CATEGORIES:DVCTA Sanctioned Schooling Show
ORGANIZER;CN="Phoebe DeVoe-Moore":MAILTO:info@thornridgemanor.com
END:VEVENT
BEGIN:VEVENT
DTSTART;VALUE=DATE:20220827
DTEND;VALUE=DATE:20220829
DTSTAMP:20260425T092902
CREATED:20211222T183336Z
LAST-MODIFIED:20211222T183336Z
UID:6212-1661558400-1661731199@www.dvcta.org
SUMMARY:DunMovin Dressage Schooling Show at Devon
DESCRIPTION:Dressage Schooling Show
URL:https://www.dvcta.org/event/dunmovin-dressage-schooling-show-at-devon/
LOCATION:Devon Show Grounds\, 23 Dorset Road\, Devon\, PA\, 19333\, United States
CATEGORIES:DVCTA Sanctioned Schooling Show
ORGANIZER;CN="Doreen Garland":MAILTO:Dunmovinenterprisesllc@gmail.com
END:VEVENT
BEGIN:VEVENT
DTSTART;VALUE=DATE:20220820
DTEND;VALUE=DATE:20220821
DTSTAMP:20260425T092902
CREATED:20220314T165949Z
LAST-MODIFIED:20220928T210622Z
UID:6730-1660953600-1661039999@www.dvcta.org
SUMMARY:Rolling Hills Ranch CT/Dressage Schooling Show
DESCRIPTION:CT/Dressage Schooling Show
URL:https://www.dvcta.org/event/rolling-hills-ranch-ct-dressage-schooling-show-6/
LOCATION:Rolling Hills Ranch\, 33 Rolling Hills Ranch Ln\, Port Deposit\, MD\, United States
CATEGORIES:DVCTA Sanctioned Schooling Show
END:VEVENT
BEGIN:VEVENT
DTSTART;VALUE=DATE:20220819
DTEND;VALUE=DATE:20220820
DTSTAMP:20260425T092902
CREATED:20220207T164617Z
LAST-MODIFIED:20220207T164617Z
UID:6440-1660867200-1660953599@www.dvcta.org
SUMMARY:Second Nature Dressage Schooling Show
DESCRIPTION:Schooling Dressage Show
URL:https://www.dvcta.org/event/second-nature-dressage-schooling-show-21/
LOCATION:Second Nature Farm\, 420 Catamount Road\, Oxford\, PA\, 19363\, United States
CATEGORIES:DVCTA Sanctioned Schooling Show
ORGANIZER;CN="Kathy King":MAILTO:kathyjking@mac.com
END:VEVENT
BEGIN:VEVENT
DTSTART;TZID=America/New_York:20220815T180000
DTEND;TZID=America/New_York:20220815T190000
DTSTAMP:20260425T092902
CREATED:20220718T192646Z
LAST-MODIFIED:20220718T192646Z
UID:6817-1660586400-1660590000@www.dvcta.org
SUMMARY:DVCTA Adult Team Meeting
DESCRIPTION:Adult Team Meeting\nCome check us out…\nFor anyone interested in attending the team competition on November 12 and 13 2022 PVDA Upper Marlboro\, MD.\nMeeting will be held August 15th 6pm.\nAt Second Nature Farm 420 Catamount Road\, Oxford PA 19363\nQuestions call Karen Walsh 302-593-4569
URL:https://www.dvcta.org/event/dvcta-adult-team-meeting/
LOCATION:Second Nature Farm\, 420 Catamount Road\, Oxford\, PA\, 19363\, United States
CATEGORIES:Meetings,Other
END:VEVENT
BEGIN:VEVENT
DTSTART;VALUE=DATE:20220814
DTEND;VALUE=DATE:20220815
DTSTAMP:20260425T092902
CREATED:20220720T215718Z
LAST-MODIFIED:20220720T215718Z
UID:6822-1660435200-1660521599@www.dvcta.org
SUMMARY:DVCTA Junior Clinic - Anne Moss
DESCRIPTION:DVCTA Activity 2022\nThe Junior Committee has planned clinics for DVCTA Juniors!  Join in the Fun.  \nAny DVCTA Jr rider is invited to participate in these clinics. Please fill out the intent form (below) at least 2 weeks before each clinic. Please send your intent forms to Lisa Knox. \nClinic Dates: \n\nSunday\, August 14th – Anne Moss at West View Farm\nSunday\, September 11th – Danni Toscanno at Pony Island Stable\nFriday\, September 23rd – Melanie Delduco at Second Nature Farm\n\n\nDVCTA TEAM OPPORTUNITIES\nFor DVCTA Junior and Young Riders 2022\nSubmission Deadline: June 30\, 2022\nClinics TBA \nLetter of Intent \nThe 2022 Jr team activities will be 3 educational clinics. These clinics will be Subsidized by DVCTA for each Junior rider attending. Please submit the letter of intent ASAP! The deadline is June 30th. \n**Please note the 2022 DVCTA Jr. team will NOT be attending Dressage 4 Kids and the region 1 Youth Dressage Team Challenge this year but are aiming to go in 2023. \n\nQualifications\n\nMust be a DVCTA membership in good standing.\nCommit to complete 8 hours of volunteer work for DVCTA.\n4 of which need to be Jr sponsored activities.\nDonate 3 items to silent auction.\nSubmit letter of intent above.\nWrite an article and submit to DVCTA Junior Team committee within 30 days after the event.
URL:https://www.dvcta.org/event/dvcta-junior-clinic-anne-moss/
LOCATION:West View Farm\, United States
CATEGORIES:Clinic,Other
END:VEVENT
BEGIN:VEVENT
DTSTART;VALUE=DATE:20220813
DTEND;VALUE=DATE:20220814
DTSTAMP:20260425T092902
CREATED:20220210T182205Z
LAST-MODIFIED:20220210T182205Z
UID:6457-1660348800-1660435199@www.dvcta.org
SUMMARY:Bally Vae Farm Schooling Show
DESCRIPTION:Schooling Show Series\nJudge: Trisha Hessinger L*
URL:https://www.dvcta.org/event/bally-vae-farm-schooling-show-25/
LOCATION:Bally Vae Farm\, 369 Lewisville Road\, Lincoln University\, PA\, 19352\, United States
CATEGORIES:DVCTA Sanctioned Schooling Show
ORGANIZER;CN="Lauren Annett":MAILTO:laurenannettdressage@gmail.com
END:VEVENT
BEGIN:VEVENT
DTSTART;VALUE=DATE:20220807
DTEND;VALUE=DATE:20220808
DTSTAMP:20260425T092902
CREATED:20220207T155801Z
LAST-MODIFIED:20220207T155801Z
UID:6424-1659830400-1659916799@www.dvcta.org
SUMMARY:Blue Goose CT/Dressage Schooling Show
DESCRIPTION:Schooling Show Series\nCombined Training | Dressage | Western Dressage
URL:https://www.dvcta.org/event/blue-goose-ct-dressage-schooling-show-23/
LOCATION:Blue Goose Stable\, 210 White Horse Road\, Cochranville\, PA\, 19330\, United States
CATEGORIES:DVCTA Sanctioned Schooling Show
ORGANIZER;CN="Darcy Miller":MAILTO:BlueGooseStableLLC@gmail.com
END:VEVENT
BEGIN:VEVENT
DTSTART;VALUE=DATE:20220723
DTEND;VALUE=DATE:20220724
DTSTAMP:20260425T092902
CREATED:20211222T182924Z
LAST-MODIFIED:20211222T182924Z
UID:6210-1658534400-1658620799@www.dvcta.org
SUMMARY:DunMovin Dressage Schooling Show
DESCRIPTION:Dressage Schooling Show
URL:https://www.dvcta.org/event/dunmovin-dressage-schooling-show-24/
LOCATION:DunMovin Farm\, 825 Guthrie Road\, West Chester\, PA\, 19380\, United States
CATEGORIES:DVCTA Sanctioned Schooling Show
ORGANIZER;CN="Doreen Garland":MAILTO:Dunmovinenterprisesllc@gmail.com
END:VEVENT
BEGIN:VEVENT
DTSTART;VALUE=DATE:20220716
DTEND;VALUE=DATE:20220717
DTSTAMP:20260425T092902
CREATED:20220207T155622Z
LAST-MODIFIED:20220207T155622Z
UID:6422-1657929600-1658015999@www.dvcta.org
SUMMARY:Blue Goose CT/Dressage Schooling Show
DESCRIPTION:Schooling Show Series\nCombined Training | Dressage | Western Dressage
URL:https://www.dvcta.org/event/blue-goose-ct-dressage-schooling-show-22/
LOCATION:Blue Goose Stable\, 210 White Horse Road\, Cochranville\, PA\, 19330\, United States
CATEGORIES:DVCTA Sanctioned Schooling Show
ORGANIZER;CN="Darcy Miller":MAILTO:BlueGooseStableLLC@gmail.com
END:VEVENT
BEGIN:VEVENT
DTSTART;VALUE=DATE:20220715
DTEND;VALUE=DATE:20220716
DTSTAMP:20260425T092902
CREATED:20220207T164441Z
LAST-MODIFIED:20220207T164441Z
UID:6438-1657843200-1657929599@www.dvcta.org
SUMMARY:Second Nature Dressage Schooling Show
DESCRIPTION:Schooling Dressage Show
URL:https://www.dvcta.org/event/second-nature-dressage-schooling-show-20/
LOCATION:Second Nature Farm\, 420 Catamount Road\, Oxford\, PA\, 19363\, United States
CATEGORIES:DVCTA Sanctioned Schooling Show
ORGANIZER;CN="Kathy King":MAILTO:kathyjking@mac.com
END:VEVENT
BEGIN:VEVENT
DTSTART;VALUE=DATE:20220702
DTEND;VALUE=DATE:20220703
DTSTAMP:20260425T092902
CREATED:20220314T165851Z
LAST-MODIFIED:20220928T210831Z
UID:6728-1656720000-1656806399@www.dvcta.org
SUMMARY:Rolling Hills Ranch CT/Dressage Schooling Show
DESCRIPTION:CT/Dressage Schooling Show
URL:https://www.dvcta.org/event/rolling-hills-ranch-ct-dressage-schooling-show-5/
LOCATION:Rolling Hills Ranch\, 33 Rolling Hills Ranch Ln\, Port Deposit\, MD\, United States
CATEGORIES:DVCTA Sanctioned Schooling Show
END:VEVENT
BEGIN:VEVENT
DTSTART;VALUE=DATE:20220702
DTEND;VALUE=DATE:20220703
DTSTAMP:20260425T092902
CREATED:20220210T182051Z
LAST-MODIFIED:20220210T182051Z
UID:6455-1656720000-1656806399@www.dvcta.org
SUMMARY:Bally Vae Farm Schooling Show
DESCRIPTION:Schooling Show Series\nJudge: Karin Worm L
URL:https://www.dvcta.org/event/bally-vae-farm-schooling-show-24/
LOCATION:Bally Vae Farm\, 369 Lewisville Road\, Lincoln University\, PA\, 19352\, United States
CATEGORIES:DVCTA Sanctioned Schooling Show
ORGANIZER;CN="Lauren Annett":MAILTO:laurenannettdressage@gmail.com
END:VEVENT
BEGIN:VEVENT
DTSTART;VALUE=DATE:20220625
DTEND;VALUE=DATE:20220626
DTSTAMP:20260425T092902
CREATED:20220207T155513Z
LAST-MODIFIED:20220207T155513Z
UID:6413-1656115200-1656201599@www.dvcta.org
SUMMARY:Blue Goose CT/Dressage Schooling Show
DESCRIPTION:Schooling Show Series\nCombined Training | Dressage | Western Dressage
URL:https://www.dvcta.org/event/blue-goose-ct-dressage-schooling-show-21/
LOCATION:Blue Goose Stable\, 210 White Horse Road\, Cochranville\, PA\, 19330\, United States
CATEGORIES:DVCTA Sanctioned Schooling Show
ORGANIZER;CN="Darcy Miller":MAILTO:BlueGooseStableLLC@gmail.com
END:VEVENT
BEGIN:VEVENT
DTSTART;VALUE=DATE:20220618
DTEND;VALUE=DATE:20220619
DTSTAMP:20260425T092902
CREATED:20220118T180024Z
LAST-MODIFIED:20220118T180024Z
UID:6339-1655510400-1655596799@www.dvcta.org
SUMMARY:Thornridge Manor Schooling Show
DESCRIPTION:Schooling Show
URL:https://www.dvcta.org/event/thornridge-manor-schooling-show-15/
LOCATION:Thornridge Manor\, 12531 Manor Rd\, Glen Arm\, MD\, 21057\, United States
CATEGORIES:DVCTA Sanctioned Schooling Show
ORGANIZER;CN="Phoebe DeVoe-Moore":MAILTO:info@thornridgemanor.com
END:VEVENT
BEGIN:VEVENT
DTSTART;VALUE=DATE:20220617
DTEND;VALUE=DATE:20220618
DTSTAMP:20260425T092902
CREATED:20220207T164331Z
LAST-MODIFIED:20220207T164331Z
UID:6436-1655424000-1655510399@www.dvcta.org
SUMMARY:Second Nature Dressage Schooling Show
DESCRIPTION:Schooling Dressage Show
URL:https://www.dvcta.org/event/second-nature-dressage-schooling-show-19/
LOCATION:Second Nature Farm\, 420 Catamount Road\, Oxford\, PA\, 19363\, United States
CATEGORIES:DVCTA Sanctioned Schooling Show
ORGANIZER;CN="Kathy King":MAILTO:kathyjking@mac.com
END:VEVENT
BEGIN:VEVENT
DTSTART;VALUE=DATE:20220611
DTEND;VALUE=DATE:20220612
DTSTAMP:20260425T092902
CREATED:20220210T181555Z
LAST-MODIFIED:20220210T181555Z
UID:6453-1654905600-1654991999@www.dvcta.org
SUMMARY:Bally Vae Farm Schooling Show
DESCRIPTION:Schooling Show Series\nJudge: Maggie O’Leary L*
URL:https://www.dvcta.org/event/bally-vae-farm-schooling-show-23/
LOCATION:Bally Vae Farm\, 369 Lewisville Road\, Lincoln University\, PA\, 19352\, United States
CATEGORIES:DVCTA Sanctioned Schooling Show
ORGANIZER;CN="Lauren Annett":MAILTO:laurenannettdressage@gmail.com
END:VEVENT
BEGIN:VEVENT
DTSTART;VALUE=DATE:20220611
DTEND;VALUE=DATE:20220612
DTSTAMP:20260425T092902
CREATED:20211222T182834Z
LAST-MODIFIED:20211222T182834Z
UID:6208-1654905600-1654991999@www.dvcta.org
SUMMARY:DunMovin Dressage Schooling Show
DESCRIPTION:Dressage Schooling Show
URL:https://www.dvcta.org/event/dunmovin-dressage-schooling-show-23/
LOCATION:DunMovin Farm\, 825 Guthrie Road\, West Chester\, PA\, 19380\, United States
CATEGORIES:DVCTA Sanctioned Schooling Show
ORGANIZER;CN="Doreen Garland":MAILTO:Dunmovinenterprisesllc@gmail.com
END:VEVENT
BEGIN:VEVENT
DTSTART;VALUE=DATE:20220604
DTEND;VALUE=DATE:20220605
DTSTAMP:20260425T092902
CREATED:20220114T182036Z
LAST-MODIFIED:20220413T170600Z
UID:6316-1654300800-1654387199@www.dvcta.org
SUMMARY:DVCTA Summer Opener Dressage Show
DESCRIPTION:DVCTA Summer Opener Dressage Show\nUSEF/USDF Recognized Show\nSaturday\, June 4th\, 2022\nHeld at DunMovin Farm\, West Chester\, PA\n\nOpening: April 29th       Closing: May 20th\nJudge: Lori Barnard (S)      TD:  Val Bastinelli (r) \nDVCTA Summer Opener Prize List – Preliminary \nEnter online at Equestrian Entries!!!\n\n \n\nShow Manager/Show Secretary\nDoreen Garland\ndunmovin2@verizon.net \n   \n\nVOLUNTEERS NEEDED! \nWant to be a scribe\, runner\, or gate person?  Please contact volunteers@dvcta.org. \n\nINTERESTED IN SPONSORING a class ($40) or a division ($100) for the Spring Show?  Sponsorships are tax deductible.  Often previous winners or association supporters are the first to contribute!  This is DVCTA’s only recognized show for 2022 and we would greatly appreciate your support.\nPlease contact volunteers@dvcta.org if you can help.  Thanks!
URL:https://www.dvcta.org/event/dvcta-summer-opener-dressage-show-3/
LOCATION:DunMovin Farm\, 825 Guthrie Road\, West Chester\, PA\, 19380\, United States
CATEGORIES:DVCTA Show,USEF/USDF Recognized Dressage
ORGANIZER;CN="Doreen Garland":MAILTO:Dunmovinenterprisesllc@gmail.com
END:VEVENT
BEGIN:VEVENT
DTSTART;VALUE=DATE:20220521
DTEND;VALUE=DATE:20220522
DTSTAMP:20260425T092902
CREATED:20220314T165741Z
LAST-MODIFIED:20220928T210706Z
UID:6726-1653091200-1653177599@www.dvcta.org
SUMMARY:Rolling Hills Ranch CT/Dressage Schooling Show
DESCRIPTION:CT/Dressage Schooling Show
URL:https://www.dvcta.org/event/rolling-hills-ranch-ct-dressage-schooling-show-4/
LOCATION:Rolling Hills Ranch\, 33 Rolling Hills Ranch Ln\, Port Deposit\, MD\, United States
CATEGORIES:DVCTA Sanctioned Schooling Show
END:VEVENT
BEGIN:VEVENT
DTSTART;VALUE=DATE:20220520
DTEND;VALUE=DATE:20220521
DTSTAMP:20260425T092902
CREATED:20220207T164225Z
LAST-MODIFIED:20220207T164225Z
UID:6434-1653004800-1653091199@www.dvcta.org
SUMMARY:Second Nature Dressage Schooling Show
DESCRIPTION:Schooling Dressage Show
URL:https://www.dvcta.org/event/second-nature-dressage-schooling-show-18/
LOCATION:Second Nature Farm\, 420 Catamount Road\, Oxford\, PA\, 19363\, United States
CATEGORIES:DVCTA Sanctioned Schooling Show
ORGANIZER;CN="Kathy King":MAILTO:kathyjking@mac.com
END:VEVENT
BEGIN:VEVENT
DTSTART;VALUE=DATE:20220514
DTEND;VALUE=DATE:20220515
DTSTAMP:20260425T092902
CREATED:20220210T181445Z
LAST-MODIFIED:20220210T181445Z
UID:6451-1652486400-1652572799@www.dvcta.org
SUMMARY:Bally Vae Farm Schooling Show
DESCRIPTION:Schooling Show Series\nJudge: Karen Reilly L*
URL:https://www.dvcta.org/event/bally-vae-farm-schooling-show-22/
LOCATION:Bally Vae Farm\, 369 Lewisville Road\, Lincoln University\, PA\, 19352\, United States
CATEGORIES:DVCTA Sanctioned Schooling Show
ORGANIZER;CN="Lauren Annett":MAILTO:laurenannettdressage@gmail.com
END:VEVENT
BEGIN:VEVENT
DTSTART;VALUE=DATE:20220514
DTEND;VALUE=DATE:20220515
DTSTAMP:20260425T092902
CREATED:20211222T182726Z
LAST-MODIFIED:20211222T182726Z
UID:6206-1652486400-1652572799@www.dvcta.org
SUMMARY:DunMovin Dressage Schooling Show
DESCRIPTION:Dressage Schooling Show
URL:https://www.dvcta.org/event/dunmovin-dressage-schooling-show-22/
LOCATION:DunMovin Farm\, 825 Guthrie Road\, West Chester\, PA\, 19380\, United States
CATEGORIES:DVCTA Sanctioned Schooling Show
ORGANIZER;CN="Doreen Garland":MAILTO:Dunmovinenterprisesllc@gmail.com
END:VEVENT
BEGIN:VEVENT
DTSTART;VALUE=DATE:20220508
DTEND;VALUE=DATE:20220509
DTSTAMP:20260425T092902
CREATED:20220508T040000Z
LAST-MODIFIED:20220207T163922Z
UID:6410-1651968000-1652054399@www.dvcta.org
SUMMARY:Blue Goose CT/Dressage Schooling Show
DESCRIPTION:Schooling Show Series\nCombined Training | Dressage | Western Dressage
URL:https://www.dvcta.org/event/blue-goose-ct-dressage-schooling-show-20/
LOCATION:Blue Goose Stable\, 210 White Horse Road\, Cochranville\, PA\, 19330\, United States
CATEGORIES:DVCTA Sanctioned Schooling Show
ORGANIZER;CN="Darcy Miller":MAILTO:BlueGooseStableLLC@gmail.com
END:VEVENT
BEGIN:VEVENT
DTSTART;VALUE=DATE:20220424
DTEND;VALUE=DATE:20220425
DTSTAMP:20260425T092902
CREATED:20211222T182223Z
LAST-MODIFIED:20211222T182223Z
UID:6202-1650758400-1650844799@www.dvcta.org
SUMMARY:Silver Fern Farm Winter Dressage Series
DESCRIPTION:Silver Fern Farm Winter Dressage Series\nHeld at Worthmore Equestrian Center\, Worton\, MD\n\nINFORMATION: \nFacebook Page and Entries: Silver Fern Farm Winter Dressage Series
URL:https://www.dvcta.org/event/silver-fern-farm-winter-dressage-series-16/
LOCATION:Worthmore Equestrian Center\, 11570 Still Pond Road\, Worton\, MD\, 21678\, United States
CATEGORIES:DVCTA Sanctioned Schooling Show
END:VEVENT
BEGIN:VEVENT
DTSTART;VALUE=DATE:20220423
DTEND;VALUE=DATE:20220424
DTSTAMP:20260425T092902
CREATED:20211222T182636Z
LAST-MODIFIED:20211222T182636Z
UID:6204-1650672000-1650758399@www.dvcta.org
SUMMARY:DunMovin Dressage Schooling Show
DESCRIPTION:Dressage Schooling Show
URL:https://www.dvcta.org/event/dunmovin-dressage-schooling-show-21/
LOCATION:DunMovin Farm\, 825 Guthrie Road\, West Chester\, PA\, 19380\, United States
CATEGORIES:DVCTA Sanctioned Schooling Show
ORGANIZER;CN="Doreen Garland":MAILTO:Dunmovinenterprisesllc@gmail.com
END:VEVENT
BEGIN:VEVENT
DTSTART;VALUE=DATE:20220415
DTEND;VALUE=DATE:20220416
DTSTAMP:20260425T092902
CREATED:20220207T164133Z
LAST-MODIFIED:20220207T164133Z
UID:6432-1649980800-1650067199@www.dvcta.org
SUMMARY:Second Nature Dressage Schooling Show
DESCRIPTION:Schooling Dressage Show
URL:https://www.dvcta.org/event/second-nature-dressage-schooling-show-17/
LOCATION:Second Nature Farm\, 420 Catamount Road\, Oxford\, PA\, 19363\, United States
CATEGORIES:DVCTA Sanctioned Schooling Show
ORGANIZER;CN="Kathy King":MAILTO:kathyjking@mac.com
END:VEVENT
END:VCALENDAR