BEGIN:VCALENDAR
VERSION:2.0
PRODID:-//DVCTA - ECPv6.15.20//NONSGML v1.0//EN
CALSCALE:GREGORIAN
METHOD:PUBLISH
X-WR-CALNAME:DVCTA
X-ORIGINAL-URL:https://www.dvcta.org
X-WR-CALDESC:Events for DVCTA
REFRESH-INTERVAL;VALUE=DURATION:PT1H
X-Robots-Tag:noindex
X-PUBLISHED-TTL:PT1H
BEGIN:VTIMEZONE
TZID:America/New_York
BEGIN:DAYLIGHT
TZOFFSETFROM:-0500
TZOFFSETTO:-0400
TZNAME:EDT
DTSTART:20200308T070000
END:DAYLIGHT
BEGIN:STANDARD
TZOFFSETFROM:-0400
TZOFFSETTO:-0500
TZNAME:EST
DTSTART:20201101T060000
END:STANDARD
BEGIN:DAYLIGHT
TZOFFSETFROM:-0500
TZOFFSETTO:-0400
TZNAME:EDT
DTSTART:20210314T070000
END:DAYLIGHT
BEGIN:STANDARD
TZOFFSETFROM:-0400
TZOFFSETTO:-0500
TZNAME:EST
DTSTART:20211107T060000
END:STANDARD
BEGIN:DAYLIGHT
TZOFFSETFROM:-0500
TZOFFSETTO:-0400
TZNAME:EDT
DTSTART:20220313T070000
END:DAYLIGHT
BEGIN:STANDARD
TZOFFSETFROM:-0400
TZOFFSETTO:-0500
TZNAME:EST
DTSTART:20221106T060000
END:STANDARD
BEGIN:DAYLIGHT
TZOFFSETFROM:-0500
TZOFFSETTO:-0400
TZNAME:EDT
DTSTART:20230312T070000
END:DAYLIGHT
BEGIN:STANDARD
TZOFFSETFROM:-0400
TZOFFSETTO:-0500
TZNAME:EST
DTSTART:20231105T060000
END:STANDARD
END:VTIMEZONE
BEGIN:VTIMEZONE
TZID:UTC
BEGIN:STANDARD
TZOFFSETFROM:+0000
TZOFFSETTO:+0000
TZNAME:UTC
DTSTART:20200101T000000
END:STANDARD
END:VTIMEZONE
BEGIN:VEVENT
DTSTART;VALUE=DATE:20220327
DTEND;VALUE=DATE:20220328
DTSTAMP:20260425T071856
CREATED:20211222T182128Z
LAST-MODIFIED:20211222T182128Z
UID:6200-1648339200-1648425599@www.dvcta.org
SUMMARY:Silver Fern Farm Winter Dressage Series
DESCRIPTION:Silver Fern Farm Winter Dressage Series\nHeld at Worthmore Equestrian Center\, Worton\, MD\n\nINFORMATION: \nFacebook Page and Entries: Silver Fern Farm Winter Dressage Series
URL:https://www.dvcta.org/event/silver-fern-farm-winter-dressage-series-15/
LOCATION:Worthmore Equestrian Center\, 11570 Still Pond Road\, Worton\, MD\, 21678\, United States
CATEGORIES:DVCTA Sanctioned Schooling Show
END:VEVENT
BEGIN:VEVENT
DTSTART;VALUE=DATE:20220326
DTEND;VALUE=DATE:20220327
DTSTAMP:20260425T071856
CREATED:20220207T151126Z
LAST-MODIFIED:20220207T151126Z
UID:6405-1648252800-1648339199@www.dvcta.org
SUMMARY:Blue Goose CT/Dressage Schooling Show
DESCRIPTION:Schooling Show Series\nCombined Training | Dressage | Western Dressage
URL:https://www.dvcta.org/event/blue-goose-ct-dressage-schooling-show-18/
LOCATION:Blue Goose Stable\, 210 White Horse Road\, Cochranville\, PA\, 19330\, United States
CATEGORIES:DVCTA Sanctioned Schooling Show
ORGANIZER;CN="Darcy Miller":MAILTO:BlueGooseStableLLC@gmail.com
END:VEVENT
BEGIN:VEVENT
DTSTART;VALUE=DATE:20220326
DTEND;VALUE=DATE:20220327
DTSTAMP:20260425T071856
CREATED:20211215T184126Z
LAST-MODIFIED:20211215T184126Z
UID:6190-1648252800-1648339199@www.dvcta.org
SUMMARY:DunMovin Dressage Schooling Show
DESCRIPTION:Dressage Schooling Show
URL:https://www.dvcta.org/event/dunmovin-dressage-schooling-show-20/
LOCATION:DunMovin Farm\, 825 Guthrie Road\, West Chester\, PA\, 19380\, United States
CATEGORIES:DVCTA Sanctioned Schooling Show
ORGANIZER;CN="Doreen Garland":MAILTO:Dunmovinenterprisesllc@gmail.com
END:VEVENT
BEGIN:VEVENT
DTSTART;VALUE=DATE:20220305
DTEND;VALUE=DATE:20220306
DTSTAMP:20260425T071856
CREATED:20220207T150951Z
LAST-MODIFIED:20220207T150951Z
UID:6403-1646438400-1646524799@www.dvcta.org
SUMMARY:Blue Goose Dressage Schooling Show
DESCRIPTION:Schooling Show Series\nDressage | Western Dressage | Prix Caprilli
URL:https://www.dvcta.org/event/blue-goose-dressage-schooling-show-4/
LOCATION:Blue Goose @ Derry Edain\, LLC\, 500 White Horse Road\, Cochranville\, PA\, 19330\, United States
CATEGORIES:DVCTA Sanctioned Schooling Show
ORGANIZER;CN="Darcy Miller":MAILTO:BlueGooseStableLLC@gmail.com
END:VEVENT
BEGIN:VEVENT
DTSTART;VALUE=DATE:20220220
DTEND;VALUE=DATE:20220221
DTSTAMP:20260425T071856
CREATED:20211222T182005Z
LAST-MODIFIED:20211222T182005Z
UID:6198-1645315200-1645401599@www.dvcta.org
SUMMARY:Silver Fern Farm Winter Dressage Series
DESCRIPTION:Silver Fern Farm Winter Dressage Series\nHeld at Worthmore Equestrian Center\, Worton\, MD\n\nINFORMATION: \nFacebook Page and Entries: Silver Fern Farm Winter Dressage Series
URL:https://www.dvcta.org/event/silver-fern-farm-winter-dressage-series-14/
LOCATION:Worthmore Equestrian Center\, 11570 Still Pond Road\, Worton\, MD\, 21678\, United States
CATEGORIES:DVCTA Sanctioned Schooling Show
END:VEVENT
BEGIN:VEVENT
DTSTART;VALUE=DATE:20220219
DTEND;VALUE=DATE:20220220
DTSTAMP:20260425T071856
CREATED:20211215T184032Z
LAST-MODIFIED:20211215T184032Z
UID:6188-1645228800-1645315199@www.dvcta.org
SUMMARY:DunMovin Dressage Schooling Show
DESCRIPTION:Dressage Schooling Show
URL:https://www.dvcta.org/event/dunmovin-dressage-schooling-show-19/
LOCATION:DunMovin Farm\, 825 Guthrie Road\, West Chester\, PA\, 19380\, United States
CATEGORIES:DVCTA Sanctioned Schooling Show
ORGANIZER;CN="Doreen Garland":MAILTO:Dunmovinenterprisesllc@gmail.com
END:VEVENT
BEGIN:VEVENT
DTSTART;TZID=America/New_York:20220206T140000
DTEND;TZID=America/New_York:20220206T153000
DTSTAMP:20260425T071856
CREATED:20220206T190000Z
LAST-MODIFIED:20220207T154545Z
UID:6111-1644156000-1644161400@www.dvcta.org
SUMMARY:Quadrille Playdate
DESCRIPTION:DVCTA Quadrille Playdate\nThis event has been cancelled.  Alternate date is yet to be set for this location.\nPlease see Quadrille page for more information!!  \nQuadrille Playdate Registration
URL:https://www.dvcta.org/event/quadrille-playdate-6/
LOCATION:Collective Roots Dressage\, 602 N Jennersville Road\, Cochranville\, PA\, 19330\, United States
CATEGORIES:Quadrille
ORGANIZER;CN="DVCTA - Anne Miller":MAILTO:aes.miller14@gmail.com
END:VEVENT
BEGIN:VEVENT
DTSTART;TZID=America/New_York:20220205T193000
DTEND;TZID=America/New_York:20220205T203000
DTSTAMP:20260425T071856
CREATED:20220115T172900Z
LAST-MODIFIED:20220115T172900Z
UID:6326-1644089400-1644093000@www.dvcta.org
SUMMARY:DVCTA Annual Meeting
DESCRIPTION:
URL:https://www.dvcta.org/event/dvcta-annual-meeting/
LOCATION:PA
CATEGORIES:Other
END:VEVENT
BEGIN:VEVENT
DTSTART;VALUE=DATE:20220130
DTEND;VALUE=DATE:20220131
DTSTAMP:20260425T071856
CREATED:20211215T184612Z
LAST-MODIFIED:20211215T184612Z
UID:6196-1643500800-1643587199@www.dvcta.org
SUMMARY:Silver Fern Farm Winter Dressage Series
DESCRIPTION:Silver Fern Farm Winter Dressage Series\nHeld at Worthmore Equestrian Center\, Worton\, MD\n\nINFORMATION: \nFacebook Page and Entries: Silver Fern Farm Winter Dressage Series
URL:https://www.dvcta.org/event/silver-fern-farm-winter-dressage-series-13/
LOCATION:Worthmore Equestrian Center\, 11570 Still Pond Road\, Worton\, MD\, 21678\, United States
CATEGORIES:DVCTA Sanctioned Schooling Show
END:VEVENT
BEGIN:VEVENT
DTSTART;TZID=America/New_York:20220123T140000
DTEND;TZID=America/New_York:20220123T153000
DTSTAMP:20260425T071856
CREATED:20220109T190000Z
LAST-MODIFIED:20220112T190136Z
UID:6106-1642946400-1642951800@www.dvcta.org
SUMMARY:Quadrille Playdate - Rescheduled Date
DESCRIPTION:DVCTA Quadrille Playdate\nThis is the January 9th DVCTA Quadrille Playdate at Kealani Farm which has been rescheduled to January 23rd\, 2022.\nPlease see Quadrille page for more information!!  \nQuadrille Playdate Registration
URL:https://www.dvcta.org/event/quadrille-playdate-5/
LOCATION:Kealani Farm\, 651 Coatesville Road\, West Grove\, PA\, United States
CATEGORIES:Quadrille
ORGANIZER;CN="DVCTA - Anne Miller":MAILTO:aes.miller14@gmail.com
END:VEVENT
BEGIN:VEVENT
DTSTART;VALUE=DATE:20220122
DTEND;VALUE=DATE:20220123
DTSTAMP:20260425T071856
CREATED:20211215T183937Z
LAST-MODIFIED:20211215T183937Z
UID:6186-1642809600-1642895999@www.dvcta.org
SUMMARY:DunMovin Dressage Schooling Show
DESCRIPTION:Dressage Schooling Show
URL:https://www.dvcta.org/event/dunmovin-dressage-schooling-show-18/
LOCATION:DunMovin Farm\, 825 Guthrie Road\, West Chester\, PA\, 19380\, United States
CATEGORIES:DVCTA Sanctioned Schooling Show
ORGANIZER;CN="Doreen Garland":MAILTO:Dunmovinenterprisesllc@gmail.com
END:VEVENT
BEGIN:VEVENT
DTSTART;VALUE=DATE:20220109
DTEND;VALUE=DATE:20220110
DTSTAMP:20260425T071856
CREATED:20211215T184512Z
LAST-MODIFIED:20211215T184512Z
UID:6194-1641686400-1641772799@www.dvcta.org
SUMMARY:Silver Fern Farm Winter Dressage Series
DESCRIPTION:Silver Fern Farm Winter Dressage Series\nHeld at Worthmore Equestrian Center\, Worton\, MD\n\nINFORMATION: \nFacebook Page and Entries: Silver Fern Farm Winter Dressage Series
URL:https://www.dvcta.org/event/silver-fern-farm-winter-dressage-series-12/
LOCATION:Worthmore Equestrian Center\, 11570 Still Pond Road\, Worton\, MD\, 21678\, United States
CATEGORIES:DVCTA Sanctioned Schooling Show
END:VEVENT
BEGIN:VEVENT
DTSTART;VALUE=DATE:20211212
DTEND;VALUE=DATE:20211213
DTSTAMP:20260425T071856
CREATED:20211215T184418Z
LAST-MODIFIED:20211215T184418Z
UID:6192-1639267200-1639353599@www.dvcta.org
SUMMARY:Silver Fern Farm Winter Dressage Series
DESCRIPTION:Silver Fern Farm Winter Dressage Series\nHeld at Worthmore Equestrian Center\, Worton\, MD\n\nINFORMATION: \nFacebook Page and Entries: Silver Fern Farm Winter Dressage Series
URL:https://www.dvcta.org/event/silver-fern-farm-winter-dressage-series-11/
LOCATION:Worthmore Equestrian Center\, 11570 Still Pond Road\, Worton\, MD\, 21678\, United States
CATEGORIES:DVCTA Sanctioned Schooling Show
END:VEVENT
BEGIN:VEVENT
DTSTART;VALUE=DATE:20211126
DTEND;VALUE=DATE:20211127
DTSTAMP:20260425T071856
CREATED:20201222T180934Z
LAST-MODIFIED:20201222T180934Z
UID:4748-1637884800-1637971199@www.dvcta.org
SUMMARY:Second Nature Dressage Schooling Show
DESCRIPTION:Schooling Dressage Show\n\nSeries End Awards will be presented to participants at the November 26th show.
URL:https://www.dvcta.org/event/second-nature-dressage-schooling-show-16/
LOCATION:Second Nature Farm\, 420 Catamount Road\, Oxford\, PA\, 19363\, United States
CATEGORIES:DVCTA Sanctioned Schooling Show
ORGANIZER;CN="Kathy King":MAILTO:kathyjking@mac.com
END:VEVENT
BEGIN:VEVENT
DTSTART;VALUE=DATE:20211120
DTEND;VALUE=DATE:20211121
DTSTAMP:20260425T071856
CREATED:20210112T220700Z
LAST-MODIFIED:20210112T220700Z
UID:4845-1637366400-1637452799@www.dvcta.org
SUMMARY:Blue Goose CT/Dressage Schooling Show
DESCRIPTION:Schooling Show Series\nCombined Training  |  Dressage  |  Western Dressage
URL:https://www.dvcta.org/event/blue-goose-ct-dressage-schooling-show-17/
LOCATION:Blue Goose Stable\, 210 White Horse Road\, Cochranville\, PA\, 19330\, United States
CATEGORIES:DVCTA Sanctioned Schooling Show
ORGANIZER;CN="Darcy Miller":MAILTO:BlueGooseStableLLC@gmail.com
END:VEVENT
BEGIN:VEVENT
DTSTART;VALUE=DATE:20211113
DTEND;VALUE=DATE:20211114
DTSTAMP:20260425T071856
CREATED:20201218T191423Z
LAST-MODIFIED:20201218T191423Z
UID:4722-1636761600-1636847999@www.dvcta.org
SUMMARY:DunMovin Dressage Schooling Show
DESCRIPTION:Dressage Schooling Show\nJudge: TBD       Open: October 25       Close: November 5
URL:https://www.dvcta.org/event/dunmovin-dressage-schooling-show-17/
LOCATION:DunMovin Farm\, 825 Guthrie Road\, West Chester\, PA\, 19380\, United States
CATEGORIES:DVCTA Sanctioned Schooling Show
ORGANIZER;CN="Doreen Garland":MAILTO:Dunmovinenterprisesllc@gmail.com
END:VEVENT
BEGIN:VEVENT
DTSTART;VALUE=DATE:20211110
DTEND;VALUE=DATE:20211111
DTSTAMP:20260425T071856
CREATED:20201221T182322Z
LAST-MODIFIED:20201221T182322Z
UID:4731-1636502400-1636588799@www.dvcta.org
SUMMARY:DunMovin USEF/USDF Dressage Show
DESCRIPTION:USEF/USDF Recognized Dressage Show\nJudge: TBD      Open: October 11       Close: October 29
URL:https://www.dvcta.org/event/dunmovin-usef-usdf-dressage-show-4/
LOCATION:DunMovin Farm\, 825 Guthrie Road\, West Chester\, PA\, 19380\, United States
CATEGORIES:USEF/USDF Recognized Dressage
ORGANIZER;CN="Doreen Garland":MAILTO:Dunmovinenterprisesllc@gmail.com
END:VEVENT
BEGIN:VEVENT
DTSTART;VALUE=DATE:20211106
DTEND;VALUE=DATE:20211107
DTSTAMP:20260425T071856
CREATED:20211106T040000Z
LAST-MODIFIED:20211105T152640Z
UID:5967-1636156800-1636243199@www.dvcta.org
SUMMARY:DVCTA Harvestfest Championship Show
DESCRIPTION:  \nSaturday\, November 6th\, 2021\nHeld at Blue Goose Stables\, Cochranville\, PA\nDVCTA Harvestfest FINAL Ride Times \n\n 
URL:https://www.dvcta.org/event/dvcta-harvestfest-championship-show-4/
LOCATION:Blue Goose Stable\, 210 White Horse Road\, Cochranville\, PA\, 19330\, United States
CATEGORIES:DVCTA Show
ORGANIZER;CN="Darcy Miller":MAILTO:BlueGooseStableLLC@gmail.com
END:VEVENT
BEGIN:VEVENT
DTSTART;VALUE=DATE:20211030
DTEND;VALUE=DATE:20211031
DTSTAMP:20260425T071856
CREATED:20210205T001929Z
LAST-MODIFIED:20210205T001929Z
UID:4877-1635552000-1635638399@www.dvcta.org
SUMMARY:Thornridge Manor Schooling Show
DESCRIPTION:Schooling Show
URL:https://www.dvcta.org/event/thornridge-manor-schooling-show-13/
LOCATION:Thornridge Manor\, 12531 Manor Rd\, Glen Arm\, MD\, 21057\, United States
CATEGORIES:DVCTA Sanctioned Schooling Show
ORGANIZER;CN="Phoebe DeVoe-Moore":MAILTO:info@thornridgemanor.com
END:VEVENT
BEGIN:VEVENT
DTSTART;VALUE=DATE:20211030
DTEND;VALUE=DATE:20211031
DTSTAMP:20260425T071856
CREATED:20210105T215634Z
LAST-MODIFIED:20210105T215634Z
UID:4820-1635552000-1635638399@www.dvcta.org
SUMMARY:Plantation Field Fall Starter Trials
DESCRIPTION:Plantation Field Fall Starter Trials\nTraining\, Novice\, Beginner Novice\, Introductory\, Elementary\nOpen: Tuesday\, September 14    —     Close: Tuesday\, October 12
URL:https://www.dvcta.org/event/plantation-field-fall-starter-trials/
LOCATION:Plantation Field\, 347 Green Valley Road\, Coatesville\, PA\, 19320\, United States
CATEGORIES:Horse Trials
END:VEVENT
BEGIN:VEVENT
DTSTART;VALUE=DATE:20211030
DTEND;VALUE=DATE:20211031
DTSTAMP:20260425T071856
CREATED:20201218T190954Z
LAST-MODIFIED:20201218T190954Z
UID:4720-1635552000-1635638399@www.dvcta.org
SUMMARY:DunMovin Dressage Schooling Show
DESCRIPTION:Dressage Schooling Show\nJudge: TBD       Open: October 11       Close: October 22
URL:https://www.dvcta.org/event/dunmovin-dressage-schooling-show-16/
LOCATION:DunMovin Farm\, 825 Guthrie Road\, West Chester\, PA\, 19380\, United States
CATEGORIES:DVCTA Sanctioned Schooling Show
ORGANIZER;CN="Doreen Garland":MAILTO:Dunmovinenterprisesllc@gmail.com
END:VEVENT
BEGIN:VEVENT
DTSTART;VALUE=DATE:20211015
DTEND;VALUE=DATE:20211016
DTSTAMP:20260425T071856
CREATED:20201222T180737Z
LAST-MODIFIED:20201222T180737Z
UID:4746-1634256000-1634342399@www.dvcta.org
SUMMARY:Second Nature Dressage Schooling Show
DESCRIPTION:Schooling Dressage Show
URL:https://www.dvcta.org/event/second-nature-dressage-schooling-show-15/
LOCATION:Second Nature Farm\, 420 Catamount Road\, Oxford\, PA\, 19363\, United States
CATEGORIES:DVCTA Sanctioned Schooling Show
ORGANIZER;CN="Kathy King":MAILTO:kathyjking@mac.com
END:VEVENT
BEGIN:VEVENT
DTSTART;VALUE=DATE:20211009
DTEND;VALUE=DATE:20211010
DTSTAMP:20260425T071856
CREATED:20211001T040000Z
LAST-MODIFIED:20210721T151235Z
UID:5976-1633737600-1633823999@www.dvcta.org
SUMMARY:Shadow Creek Farm
DESCRIPTION:Shadow Creek Farm CT and Dressage Show\nOctober 9\, 2021
URL:https://www.dvcta.org/event/shadow-creek-farm-4/
LOCATION:Shadow Creek Farm\, United States
CATEGORIES:DVCTA Sanctioned Schooling Show
END:VEVENT
BEGIN:VEVENT
DTSTART;VALUE=DATE:20211003
DTEND;VALUE=DATE:20211004
DTSTAMP:20260425T071856
CREATED:20210112T220611Z
LAST-MODIFIED:20210112T220611Z
UID:4843-1633219200-1633305599@www.dvcta.org
SUMMARY:Blue Goose CT/Dressage Schooling Show
DESCRIPTION:Schooling Show Series\nCombined Training  |  Dressage  |  Western Dressage
URL:https://www.dvcta.org/event/blue-goose-ct-dressage-schooling-show-16/
LOCATION:Blue Goose Stable\, 210 White Horse Road\, Cochranville\, PA\, 19330\, United States
CATEGORIES:DVCTA Sanctioned Schooling Show
ORGANIZER;CN="Darcy Miller":MAILTO:BlueGooseStableLLC@gmail.com
END:VEVENT
BEGIN:VEVENT
DTSTART;VALUE=DATE:20211002
DTEND;VALUE=DATE:20211003
DTSTAMP:20260425T071856
CREATED:20201229T002024Z
LAST-MODIFIED:20201229T002024Z
UID:4760-1633132800-1633219199@www.dvcta.org
SUMMARY:Bally Vae Farm Schooling Show
DESCRIPTION:Schooling Show Series
URL:https://www.dvcta.org/event/bally-vae-farm-schooling-show-21/
LOCATION:Bally Vae Farm\, 369 Lewisville Road\, Lincoln University\, PA\, 19352\, United States
CATEGORIES:DVCTA Sanctioned Schooling Show
ORGANIZER;CN="Lauren Annett":MAILTO:laurenannettdressage@gmail.com
END:VEVENT
BEGIN:VEVENT
DTSTART;VALUE=DATE:20210925
DTEND;VALUE=DATE:20210926
DTSTAMP:20260425T071856
CREATED:20210709T143305Z
LAST-MODIFIED:20210709T143524Z
UID:6007-1632528000-1632614399@www.dvcta.org
SUMMARY:Rolling Hills Ranch CT/Dressage Schooling Show
DESCRIPTION:CT/Dressage Schooling Show
URL:https://www.dvcta.org/event/rolling-hills-ranch-ct-dressage-schooling-show-3/
LOCATION:Rolling Hills Ranch\, 33 Rolling Hills Ranch Ln\, Port Deposit\, MD\, United States
CATEGORIES:DVCTA Sanctioned Schooling Show
END:VEVENT
BEGIN:VEVENT
DTSTART;VALUE=DATE:20210918
DTEND;VALUE=DATE:20210919
DTSTAMP:20260425T071856
CREATED:20210205T001841Z
LAST-MODIFIED:20210205T001841Z
UID:4875-1631923200-1632009599@www.dvcta.org
SUMMARY:Thornridge Manor Schooling Show
DESCRIPTION:Schooling Show
URL:https://www.dvcta.org/event/thornridge-manor-schooling-show-12/
LOCATION:Thornridge Manor\, 12531 Manor Rd\, Glen Arm\, MD\, 21057\, United States
CATEGORIES:DVCTA Sanctioned Schooling Show
ORGANIZER;CN="Phoebe DeVoe-Moore":MAILTO:info@thornridgemanor.com
END:VEVENT
BEGIN:VEVENT
DTSTART;VALUE=DATE:20210917
DTEND;VALUE=DATE:20210918
DTSTAMP:20260425T071856
CREATED:20201222T180648Z
LAST-MODIFIED:20201222T180648Z
UID:4744-1631836800-1631923199@www.dvcta.org
SUMMARY:Second Nature Dressage Schooling Show
DESCRIPTION:Schooling Dressage Show
URL:https://www.dvcta.org/event/second-nature-dressage-schooling-show-14/
LOCATION:Second Nature Farm\, 420 Catamount Road\, Oxford\, PA\, 19363\, United States
CATEGORIES:DVCTA Sanctioned Schooling Show
ORGANIZER;CN="Kathy King":MAILTO:kathyjking@mac.com
END:VEVENT
BEGIN:VEVENT
DTSTART;VALUE=DATE:20210915
DTEND;VALUE=DATE:20210916
DTSTAMP:20260425T071856
CREATED:20201221T182200Z
LAST-MODIFIED:20201221T182200Z
UID:4729-1631664000-1631750399@www.dvcta.org
SUMMARY:DunMovin USEF/USDF Dressage Show
DESCRIPTION:USEF/USDF Recognized Dressage Show\nJudge: Natalie Lamping (S-FL)      Open: August 16       Close: September 3
URL:https://www.dvcta.org/event/dunmovin-usef-usdf-dressage-show-3/
LOCATION:DunMovin Farm\, 825 Guthrie Road\, West Chester\, PA\, 19380\, United States
CATEGORIES:USEF/USDF Recognized Dressage
ORGANIZER;CN="Doreen Garland":MAILTO:Dunmovinenterprisesllc@gmail.com
END:VEVENT
BEGIN:VEVENT
DTSTART;VALUE=DATE:20210911
DTEND;VALUE=DATE:20210912
DTSTAMP:20260425T071856
CREATED:20210609T162354Z
LAST-MODIFIED:20210609T162354Z
UID:5974-1631318400-1631404799@www.dvcta.org
SUMMARY:Shadow Creek Farm
DESCRIPTION:Shadow Creek Farm CT and Dressage Show\nSeptember 11\, 2021
URL:https://www.dvcta.org/event/shadow-creek-farm-3/
LOCATION:Shadow Creek Farm\, United States
CATEGORIES:DVCTA Sanctioned Schooling Show
END:VEVENT
END:VCALENDAR