BEGIN:VCALENDAR
VERSION:2.0
PRODID:-//DVCTA - ECPv6.15.20//NONSGML v1.0//EN
CALSCALE:GREGORIAN
METHOD:PUBLISH
X-WR-CALNAME:DVCTA
X-ORIGINAL-URL:https://www.dvcta.org
X-WR-CALDESC:Events for DVCTA
REFRESH-INTERVAL;VALUE=DURATION:PT1H
X-Robots-Tag:noindex
X-PUBLISHED-TTL:PT1H
BEGIN:VTIMEZONE
TZID:UTC
BEGIN:STANDARD
TZOFFSETFROM:+0000
TZOFFSETTO:+0000
TZNAME:UTC
DTSTART:20190101T000000
END:STANDARD
END:VTIMEZONE
BEGIN:VEVENT
DTSTART;VALUE=DATE:20210403
DTEND;VALUE=DATE:20210404
DTSTAMP:20260425T210103
CREATED:20210112T220116Z
LAST-MODIFIED:20210112T220116Z
UID:4830-1617408000-1617494399@www.dvcta.org
SUMMARY:Blue Goose CT/Dressage Schooling Show
DESCRIPTION:Schooling Show Series\nCombined Training  |  Dressage  |  Western Dressage
URL:https://www.dvcta.org/event/blue-goose-ct-dressage-schooling-show-10/
LOCATION:Blue Goose Stable\, 210 White Horse Road\, Cochranville\, PA\, 19330\, United States
CATEGORIES:DVCTA Sanctioned Schooling Show
ORGANIZER;CN="Darcy Miller":MAILTO:BlueGooseStableLLC@gmail.com
END:VEVENT
BEGIN:VEVENT
DTSTART;VALUE=DATE:20210328
DTEND;VALUE=DATE:20210329
DTSTAMP:20260425T210103
CREATED:20201129T212704Z
LAST-MODIFIED:20201129T212704Z
UID:4676-1616889600-1616975999@www.dvcta.org
SUMMARY:Silver Fern Farm Winter Dressage Series
DESCRIPTION:Silver Fern Farm Winter Dressage Series\nHeld at Worthmore Equestrian Center\, Worton\, MD\n\nINFORMATION: \nFacebook Page and Entries: Silver Fern Farm Winter Dressage Series
URL:https://www.dvcta.org/event/silver-fern-farm-winter-dressage-series-10/
LOCATION:Worthmore Equestrian Center\, 11570 Still Pond Road\, Worton\, MD\, 21678\, United States
CATEGORIES:DVCTA Sanctioned Schooling Show
END:VEVENT
BEGIN:VEVENT
DTSTART;VALUE=DATE:20210320
DTEND;VALUE=DATE:20210321
DTSTAMP:20260425T210103
CREATED:20201218T190028Z
LAST-MODIFIED:20201218T190028Z
UID:4710-1616198400-1616284799@www.dvcta.org
SUMMARY:DunMovin Dressage Schooling Show
DESCRIPTION:Dressage Schooling Show\nJudge: Jill Kuc (L*-PA)     Open: March 1     Close: March 12
URL:https://www.dvcta.org/event/dunmovin-dressage-schooling-show-11/
LOCATION:DunMovin Farm\, 825 Guthrie Road\, West Chester\, PA\, 19380\, United States
CATEGORIES:DVCTA Sanctioned Schooling Show
ORGANIZER;CN="Doreen Garland":MAILTO:Dunmovinenterprisesllc@gmail.com
END:VEVENT
BEGIN:VEVENT
DTSTART;VALUE=DATE:20210307
DTEND;VALUE=DATE:20210308
DTSTAMP:20260425T210103
CREATED:20201129T212612Z
LAST-MODIFIED:20201129T212612Z
UID:4674-1615075200-1615161599@www.dvcta.org
SUMMARY:Silver Fern Farm Winter Dressage Series
DESCRIPTION:Silver Fern Farm Winter Dressage Series\nHeld at Worthmore Equestrian Center\, Worton\, MD\n\nINFORMATION: \nFacebook Page and Entries: Silver Fern Farm Winter Dressage Series
URL:https://www.dvcta.org/event/silver-fern-farm-winter-dressage-series-9/
LOCATION:Worthmore Equestrian Center\, 11570 Still Pond Road\, Worton\, MD\, 21678\, United States
CATEGORIES:DVCTA Sanctioned Schooling Show
END:VEVENT
BEGIN:VEVENT
DTSTART;VALUE=DATE:20210306
DTEND;VALUE=DATE:20210307
DTSTAMP:20260425T210103
CREATED:20210204T235706Z
LAST-MODIFIED:20210204T235706Z
UID:4865-1614988800-1615075199@www.dvcta.org
SUMMARY:Blue Goose Dressage Schooling Show
DESCRIPTION:Schooling Show Series\nDressage  |  Western Dressage  |  Prix Caprilli
URL:https://www.dvcta.org/event/blue-goose-dressage-schooling-show-3/
LOCATION:Blue Goose @ Derry Edain\, LLC\, 500 White Horse Road\, Cochranville\, PA\, 19330\, United States
CATEGORIES:DVCTA Sanctioned Schooling Show
ORGANIZER;CN="Darcy Miller":MAILTO:BlueGooseStableLLC@gmail.com
END:VEVENT
BEGIN:VEVENT
DTSTART;VALUE=DATE:20210227
DTEND;VALUE=DATE:20210228
DTSTAMP:20260425T210103
CREATED:20201218T185821Z
LAST-MODIFIED:20201218T185821Z
UID:4708-1614384000-1614470399@www.dvcta.org
SUMMARY:DunMovin Dressage Schooling Show
DESCRIPTION:Dressage Schooling Show\nJudge: Anne Moss (R-PA) Open: February 8 Close: February 19
URL:https://www.dvcta.org/event/dunmovin-dressage-schooling-show-10/
LOCATION:DunMovin Farm\, 825 Guthrie Road\, West Chester\, PA\, 19380\, United States
CATEGORIES:DVCTA Sanctioned Schooling Show
ORGANIZER;CN="Doreen Garland":MAILTO:Dunmovinenterprisesllc@gmail.com
END:VEVENT
BEGIN:VEVENT
DTSTART;VALUE=DATE:20210221
DTEND;VALUE=DATE:20210222
DTSTAMP:20260425T210103
CREATED:20201129T212536Z
LAST-MODIFIED:20201129T212536Z
UID:4672-1613865600-1613951999@www.dvcta.org
SUMMARY:Silver Fern Farm Winter Dressage Series
DESCRIPTION:Silver Fern Farm Winter Dressage Series\nHeld at Worthmore Equestrian Center\, Worton\, MD\n\nINFORMATION: \nFacebook Page and Entries: Silver Fern Farm Winter Dressage Series
URL:https://www.dvcta.org/event/silver-fern-farm-winter-dressage-series-8/
LOCATION:Worthmore Equestrian Center\, 11570 Still Pond Road\, Worton\, MD\, 21678\, United States
CATEGORIES:DVCTA Sanctioned Schooling Show
END:VEVENT
BEGIN:VEVENT
DTSTART;VALUE=DATE:20210206
DTEND;VALUE=DATE:20210207
DTSTAMP:20260425T210103
CREATED:20210204T235623Z
LAST-MODIFIED:20210204T235623Z
UID:4863-1612569600-1612655999@www.dvcta.org
SUMMARY:Blue Goose Dressage Schooling Show
DESCRIPTION:Schooling Show Series\nDressage  |  Western Dressage  |  Prix Caprilli
URL:https://www.dvcta.org/event/blue-goose-dressage-schooling-show-2/
LOCATION:Blue Goose @ Derry Edain\, LLC\, 500 White Horse Road\, Cochranville\, PA\, 19330\, United States
CATEGORIES:DVCTA Sanctioned Schooling Show
ORGANIZER;CN="Darcy Miller":MAILTO:BlueGooseStableLLC@gmail.com
END:VEVENT
BEGIN:VEVENT
DTSTART;VALUE=DATE:20210124
DTEND;VALUE=DATE:20210125
DTSTAMP:20260425T210103
CREATED:20201129T212451Z
LAST-MODIFIED:20201129T212451Z
UID:4670-1611446400-1611532799@www.dvcta.org
SUMMARY:Silver Fern Farm Winter Dressage Series
DESCRIPTION:Silver Fern Farm Winter Dressage Series\nHeld at Worthmore Equestrian Center\, Worton\, MD\n\nINFORMATION: \nFacebook Page and Entries: Silver Fern Farm Winter Dressage Series
URL:https://www.dvcta.org/event/silver-fern-farm-winter-dressage-series-7/
LOCATION:Worthmore Equestrian Center\, 11570 Still Pond Road\, Worton\, MD\, 21678\, United States
CATEGORIES:DVCTA Sanctioned Schooling Show
END:VEVENT
BEGIN:VEVENT
DTSTART;VALUE=DATE:20210123
DTEND;VALUE=DATE:20210124
DTSTAMP:20260425T210103
CREATED:20201218T185643Z
LAST-MODIFIED:20201218T185643Z
UID:4706-1611360000-1611446399@www.dvcta.org
SUMMARY:DunMovin Dressage Schooling Show
DESCRIPTION:Dressage Schooling Show\nJudge: Lauren Annett (r-PA)    Open: January 4       Close: January 15
URL:https://www.dvcta.org/event/dunmovin-dressage-schooling-show-9/
LOCATION:DunMovin Farm\, 825 Guthrie Road\, West Chester\, PA\, 19380\, United States
CATEGORIES:DVCTA Sanctioned Schooling Show
ORGANIZER;CN="Doreen Garland":MAILTO:Dunmovinenterprisesllc@gmail.com
END:VEVENT
BEGIN:VEVENT
DTSTART;VALUE=DATE:20210109
DTEND;VALUE=DATE:20210110
DTSTAMP:20260425T210103
CREATED:20210204T235441Z
LAST-MODIFIED:20210204T235441Z
UID:4861-1610150400-1610236799@www.dvcta.org
SUMMARY:Blue Goose Dressage Schooling Show
DESCRIPTION:Schooling Show Series\nDressage  |  Western Dressage  |  Prix Caprilli
URL:https://www.dvcta.org/event/blue-goose-dressage-schooling-show/
LOCATION:Blue Goose @ Derry Edain\, LLC\, 500 White Horse Road\, Cochranville\, PA\, 19330\, United States
CATEGORIES:DVCTA Sanctioned Schooling Show
ORGANIZER;CN="Darcy Miller":MAILTO:BlueGooseStableLLC@gmail.com
END:VEVENT
BEGIN:VEVENT
DTSTART;VALUE=DATE:20210103
DTEND;VALUE=DATE:20210104
DTSTAMP:20260425T210103
CREATED:20201129T212413Z
LAST-MODIFIED:20201129T212413Z
UID:4668-1609632000-1609718399@www.dvcta.org
SUMMARY:Silver Fern Farm Winter Dressage Series
DESCRIPTION:Silver Fern Farm Winter Dressage Series\nHeld at Worthmore Equestrian Center\, Worton\, MD\n\nINFORMATION: \nFacebook Page and Entries: Silver Fern Farm Winter Dressage Series
URL:https://www.dvcta.org/event/silver-fern-farm-winter-dressage-series-6/
LOCATION:Worthmore Equestrian Center\, 11570 Still Pond Road\, Worton\, MD\, 21678\, United States
CATEGORIES:DVCTA Sanctioned Schooling Show
END:VEVENT
BEGIN:VEVENT
DTSTART;VALUE=DATE:20201212
DTEND;VALUE=DATE:20201213
DTSTAMP:20260425T210103
CREATED:20200221T204036Z
LAST-MODIFIED:20200221T204036Z
UID:4329-1607731200-1607817599@www.dvcta.org
SUMMARY:Blue Goose CT/Dressage Schooling Show
DESCRIPTION:Schooling Show Series
URL:https://www.dvcta.org/event/blue-goose-ct-dressage-schooling-show-9/
LOCATION:Blue Goose Stable\, 210 White Horse Road\, Cochranville\, PA\, 19330\, United States
CATEGORIES:DVCTA Sanctioned Schooling Show
ORGANIZER;CN="Darcy Miller":MAILTO:BlueGooseStableLLC@gmail.com
END:VEVENT
BEGIN:VEVENT
DTSTART;VALUE=DATE:20201206
DTEND;VALUE=DATE:20201207
DTSTAMP:20260425T210103
CREATED:20201129T212331Z
LAST-MODIFIED:20201129T212331Z
UID:4666-1607212800-1607299199@www.dvcta.org
SUMMARY:Silver Fern Farm Winter Dressage Series
DESCRIPTION:Silver Fern Farm Winter Dressage Series\nHeld at Worthmore Equestrian Center\, Worton\, MD\n\nINFORMATION: \nFacebook Page and Entries: Silver Fern Farm Winter Dressage Series
URL:https://www.dvcta.org/event/silver-fern-farm-winter-dressage-series-5/
LOCATION:Worthmore Equestrian Center\, 11570 Still Pond Road\, Worton\, MD\, 21678\, United States
CATEGORIES:DVCTA Sanctioned Schooling Show
END:VEVENT
BEGIN:VEVENT
DTSTART;VALUE=DATE:20201127
DTEND;VALUE=DATE:20201128
DTSTAMP:20260425T210103
CREATED:20200221T202543Z
LAST-MODIFIED:20200221T202543Z
UID:4309-1606435200-1606521599@www.dvcta.org
SUMMARY:Second Nature Dressage Schooling Show
DESCRIPTION:Schooling Dressage Show
URL:https://www.dvcta.org/event/second-nature-dressage-schooling-show-8/
LOCATION:Second Nature Farm\, 420 Catamount Road\, Oxford\, PA\, 19363\, United States
CATEGORIES:DVCTA Sanctioned Schooling Show
ORGANIZER;CN="Kathy King":MAILTO:kathyjking@mac.com
END:VEVENT
BEGIN:VEVENT
DTSTART;VALUE=DATE:20201121
DTEND;VALUE=DATE:20201122
DTSTAMP:20260425T210103
CREATED:20200221T203949Z
LAST-MODIFIED:20200221T203949Z
UID:4327-1605916800-1606003199@www.dvcta.org
SUMMARY:Blue Goose CT/Dressage Schooling Show
DESCRIPTION:Schooling Show Series
URL:https://www.dvcta.org/event/blue-goose-ct-dressage-schooling-show-8/
LOCATION:Blue Goose Stable\, 210 White Horse Road\, Cochranville\, PA\, 19330\, United States
CATEGORIES:DVCTA Sanctioned Schooling Show
ORGANIZER;CN="Darcy Miller":MAILTO:BlueGooseStableLLC@gmail.com
END:VEVENT
BEGIN:VEVENT
DTSTART;VALUE=DATE:20201114
DTEND;VALUE=DATE:20201115
DTSTAMP:20260425T210103
CREATED:20200616T190344Z
LAST-MODIFIED:20200616T190344Z
UID:4454-1605312000-1605398399@www.dvcta.org
SUMMARY:Thornridge Manor Schooling Show
DESCRIPTION:Schooling Show
URL:https://www.dvcta.org/event/thornridge-manor-schooling-show-7/
LOCATION:Thornridge Manor\, 12531 Manor Rd\, Glen Arm\, MD\, 21057\, United States
CATEGORIES:DVCTA Sanctioned Schooling Show
ORGANIZER;CN="Phoebe DeVoe-Moore":MAILTO:info@thornridgemanor.com
END:VEVENT
BEGIN:VEVENT
DTSTART;VALUE=DATE:20201114
DTEND;VALUE=DATE:20201115
DTSTAMP:20260425T210103
CREATED:20200221T010830Z
LAST-MODIFIED:20200221T010830Z
UID:4290-1605312000-1605398399@www.dvcta.org
SUMMARY:DunMovin Dressage Schooling Show
DESCRIPTION:Dressage Schooling Show
URL:https://www.dvcta.org/event/dunmovin-dressage-schooling-show-8/
LOCATION:DunMovin Farm\, 825 Guthrie Road\, West Chester\, PA\, 19380\, United States
CATEGORIES:DVCTA Sanctioned Schooling Show
ORGANIZER;CN="Doreen Garland":MAILTO:Dunmovinenterprisesllc@gmail.com
END:VEVENT
BEGIN:VEVENT
DTSTART;VALUE=DATE:20201107
DTEND;VALUE=DATE:20201108
DTSTAMP:20260425T210103
CREATED:20200831T184428Z
LAST-MODIFIED:20201106T195442Z
UID:4574-1604707200-1604793599@www.dvcta.org
SUMMARY:DVCTA Harvestfest Show
DESCRIPTION: \n \nSaturday\, November 7th\, 2020\nHeld at Blue Goose Stables\, Cochranville\, PA\n\nEntries Open:  September 1\, 2020          Entries Close: October 1st\, 2020\n\nHarvestfest RIDE TIMES \nRing 1 – Sand Arena\nRing 2 – Grass arena\nWarm up Arena sand Jumping arena GGT\nLunging in round Pen only\nNo warm up in Parking area \nChampionship Show rules – see prize list\nWe are following USDF / USEF rules for dressage\nAttire for Championship classes is formal show attire \nWater on grounds for horses\nNo food for people – bring your own lunch and drinks due to COVID – 19 \nMasks must be worn in all areas including the trailer area when not mounted on a horse. \n\nHarvestfest Prize List \nPrize list updated 9-17-20. Harvestfest Entry Form COVID-19 Information  \nPlease see prize list for complete rules\, championship qualifications\,\nspecial classes\, trophies/awards\, fees\, and all other information. \nImportant Changes for 2020\nAre You Qualified??? \nFor all Championship Classes you must be a current member of DVCTA and have earned required scores while a current member. Championship Qualifying dates: November 1\, 2019— September 30\, 2020 \n 2020  —  Mail a separate check for the Championship class by the close date and still qualify at a sanctioned show by 10/17/2020.\nDVCTA Championship Dressage | DVCTA Champion Combined Test Divisions | DVCTA Western Dressage Champion \nFor 2020 Qualifications\n1. Show at one DVCTA sanctioned show\n2. In one test at the level or levels of the Championship class(es) you are entering.\n3. DVCTA membership required at time of score earned. Send Paper Entry by 10/1/2020. \n\nSecretary/Manager\nDarcy Miller\nbluegooseshows@gmail.comCT Manager\nEliza HermanCT Course Designer\nSally CousinsJudge\nKaryn Rainey (r) \n\nThank you to our sponsors for their support of the 2020 DVCTA Harvestfest Championship Show! \nAmy Flemming Waters Photography LLC\nBally Vae Farm and Lauren Annett Dressage\nBlue Goose Stables\, LLC\nBuck Run Small Animal Housecall Services\nClark Design Group Architects\nDunmovin Enterprises LLC\nEquine Veterinary Services\nFair Hill Saddlery\nFinish Line Farm\nIron Spring Farm\nJennifer Holmquest in memory of Not in Kansas Anymore\njchain.juiceplus.com\nMaryland Saddlery\nMeadow Woods Magna Wave\nMerrilyn Ratliff in honor of Keeper of the Stars\nMidAtlantic Horse Rescue\nMP Precision Saddle Fitting\nNunn Finer Products\nNutramax\nRolling Hills Ranch\nSally Cousins Eventing\nSecond Nature Farm\nSilver Moon Show Series\nStraightforward Dressage\nStubben\, North America\nThe Engraver\nThornridge Manor and Phoebe Devoe\nThoroughbred Incentive Program \n\n 
URL:https://www.dvcta.org/event/dvcta-harvestfest-show/
LOCATION:Blue Goose Stable\, 210 White Horse Road\, Cochranville\, PA\, 19330\, United States
CATEGORIES:DVCTA Show
ORGANIZER;CN="Darcy Miller":MAILTO:BlueGooseStableLLC@gmail.com
END:VEVENT
BEGIN:VEVENT
DTSTART;VALUE=DATE:20201031
DTEND;VALUE=DATE:20201101
DTSTAMP:20260425T210103
CREATED:20200228T193243Z
LAST-MODIFIED:20200228T193243Z
UID:4356-1604102400-1604188799@www.dvcta.org
SUMMARY:Thornridge Manor Schooling Show
DESCRIPTION:Schooling Show
URL:https://www.dvcta.org/event/thornridge-manor-schooling-show-6/
LOCATION:Thornridge Manor\, 12531 Manor Rd\, Glen Arm\, MD\, 21057\, United States
CATEGORIES:DVCTA Sanctioned Schooling Show
ORGANIZER;CN="Phoebe DeVoe-Moore":MAILTO:info@thornridgemanor.com
END:VEVENT
BEGIN:VEVENT
DTSTART;VALUE=DATE:20201031
DTEND;VALUE=DATE:20201101
DTSTAMP:20260425T210103
CREATED:20200221T010737Z
LAST-MODIFIED:20200221T010737Z
UID:4288-1604102400-1604188799@www.dvcta.org
SUMMARY:DunMovin Dressage Schooling Show
DESCRIPTION:Dressage Schooling Show
URL:https://www.dvcta.org/event/dunmovin-dressage-schooling-show-7/
LOCATION:DunMovin Farm\, 825 Guthrie Road\, West Chester\, PA\, 19380\, United States
CATEGORIES:DVCTA Sanctioned Schooling Show
ORGANIZER;CN="Doreen Garland":MAILTO:Dunmovinenterprisesllc@gmail.com
END:VEVENT
BEGIN:VEVENT
DTSTART;VALUE=DATE:20201017
DTEND;VALUE=DATE:20201018
DTSTAMP:20260425T210103
CREATED:20200914T184235Z
LAST-MODIFIED:20200914T184235Z
UID:4588-1602892800-1602979199@www.dvcta.org
SUMMARY:Bally Vae Farm Schooling Show
DESCRIPTION:Schooling Show Series
URL:https://www.dvcta.org/event/bally-vae-farm-schooling-show-16/
LOCATION:Bally Vae Farm\, 369 Lewisville Road\, Lincoln University\, PA\, 19352\, United States
CATEGORIES:DVCTA Sanctioned Schooling Show
ORGANIZER;CN="Lauren Annett":MAILTO:laurenannettdressage@gmail.com
END:VEVENT
BEGIN:VEVENT
DTSTART;VALUE=DATE:20201016
DTEND;VALUE=DATE:20201017
DTSTAMP:20260425T210103
CREATED:20200221T202455Z
LAST-MODIFIED:20200221T202455Z
UID:4307-1602806400-1602892799@www.dvcta.org
SUMMARY:Second Nature Dressage Schooling Show
DESCRIPTION:Schooling Dressage Show
URL:https://www.dvcta.org/event/second-nature-dressage-schooling-show-7/
LOCATION:Second Nature Farm\, 420 Catamount Road\, Oxford\, PA\, 19363\, United States
CATEGORIES:DVCTA Sanctioned Schooling Show
ORGANIZER;CN="Kathy King":MAILTO:kathyjking@mac.com
END:VEVENT
BEGIN:VEVENT
DTSTART;VALUE=DATE:20201003
DTEND;VALUE=DATE:20201004
DTSTAMP:20260425T210103
CREATED:20200221T203750Z
LAST-MODIFIED:20200221T203750Z
UID:4325-1601683200-1601769599@www.dvcta.org
SUMMARY:Blue Goose CT/Dressage Schooling Show
DESCRIPTION:Schooling Show Series
URL:https://www.dvcta.org/event/blue-goose-ct-dressage-schooling-show-7/
LOCATION:Blue Goose Stable\, 210 White Horse Road\, Cochranville\, PA\, 19330\, United States
CATEGORIES:DVCTA Sanctioned Schooling Show
ORGANIZER;CN="Darcy Miller":MAILTO:BlueGooseStableLLC@gmail.com
END:VEVENT
BEGIN:VEVENT
DTSTART;VALUE=DATE:20200926
DTEND;VALUE=DATE:20200927
DTSTAMP:20260425T210103
CREATED:20200221T203658Z
LAST-MODIFIED:20200221T203658Z
UID:4323-1601078400-1601164799@www.dvcta.org
SUMMARY:Blue Goose CT/Dressage Schooling Show
DESCRIPTION:Schooling Show Series
URL:https://www.dvcta.org/event/blue-goose-ct-dressage-schooling-show-6/
LOCATION:Blue Goose Stable\, 210 White Horse Road\, Cochranville\, PA\, 19330\, United States
CATEGORIES:DVCTA Sanctioned Schooling Show
ORGANIZER;CN="Darcy Miller":MAILTO:BlueGooseStableLLC@gmail.com
END:VEVENT
BEGIN:VEVENT
DTSTART;VALUE=DATE:20200919
DTEND;VALUE=DATE:20200920
DTSTAMP:20260425T210103
CREATED:20200228T193134Z
LAST-MODIFIED:20200228T193134Z
UID:4354-1600473600-1600559999@www.dvcta.org
SUMMARY:Thornridge Manor Schooling Show
DESCRIPTION:Schooling Show
URL:https://www.dvcta.org/event/thornridge-manor-schooling-show-5/
LOCATION:Thornridge Manor\, 12531 Manor Rd\, Glen Arm\, MD\, 21057\, United States
CATEGORIES:DVCTA Sanctioned Schooling Show
ORGANIZER;CN="Phoebe DeVoe-Moore":MAILTO:info@thornridgemanor.com
END:VEVENT
BEGIN:VEVENT
DTSTART;VALUE=DATE:20200919
DTEND;VALUE=DATE:20200920
DTSTAMP:20260425T210103
CREATED:20200221T004835Z
LAST-MODIFIED:20200221T004835Z
UID:4272-1600473600-1600559999@www.dvcta.org
SUMMARY:Bally Vae Farm Schooling Show
DESCRIPTION:Schooling Show Series
URL:https://www.dvcta.org/event/bally-vae-farm-schooling-show-15/
LOCATION:Bally Vae Farm\, 369 Lewisville Road\, Lincoln University\, PA\, 19352\, United States
CATEGORIES:DVCTA Sanctioned Schooling Show
ORGANIZER;CN="Lauren Annett":MAILTO:laurenannettdressage@gmail.com
END:VEVENT
BEGIN:VEVENT
DTSTART;VALUE=DATE:20200918
DTEND;VALUE=DATE:20200919
DTSTAMP:20260425T210103
CREATED:20200221T202407Z
LAST-MODIFIED:20200221T202407Z
UID:4305-1600387200-1600473599@www.dvcta.org
SUMMARY:Second Nature Dressage Schooling Show
DESCRIPTION:Schooling Dressage Show
URL:https://www.dvcta.org/event/second-nature-dressage-schooling-show-6/
LOCATION:Second Nature Farm\, 420 Catamount Road\, Oxford\, PA\, 19363\, United States
CATEGORIES:DVCTA Sanctioned Schooling Show
ORGANIZER;CN="Kathy King":MAILTO:kathyjking@mac.com
END:VEVENT
BEGIN:VEVENT
DTSTART;VALUE=DATE:20200821
DTEND;VALUE=DATE:20200822
DTSTAMP:20260425T210103
CREATED:20200221T202313Z
LAST-MODIFIED:20200221T202313Z
UID:4303-1597968000-1598054399@www.dvcta.org
SUMMARY:Second Nature Dressage Schooling Show
DESCRIPTION:Schooling Dressage Show
URL:https://www.dvcta.org/event/second-nature-dressage-schooling-show-5/
LOCATION:Second Nature Farm\, 420 Catamount Road\, Oxford\, PA\, 19363\, United States
CATEGORIES:DVCTA Sanctioned Schooling Show
ORGANIZER;CN="Kathy King":MAILTO:kathyjking@mac.com
END:VEVENT
BEGIN:VEVENT
DTSTART;VALUE=DATE:20200808
DTEND;VALUE=DATE:20200809
DTSTAMP:20260425T210103
CREATED:20200228T193011Z
LAST-MODIFIED:20200228T193011Z
UID:4352-1596844800-1596931199@www.dvcta.org
SUMMARY:Thornridge Manor Schooling Show
DESCRIPTION:Schooling Show
URL:https://www.dvcta.org/event/thornridge-manor-schooling-show-4/
LOCATION:Thornridge Manor\, 12531 Manor Rd\, Glen Arm\, MD\, 21057\, United States
CATEGORIES:DVCTA Sanctioned Schooling Show
ORGANIZER;CN="Phoebe DeVoe-Moore":MAILTO:info@thornridgemanor.com
END:VEVENT
END:VCALENDAR