BEGIN:VCALENDAR
VERSION:2.0
PRODID:-//DVCTA - ECPv6.15.20//NONSGML v1.0//EN
CALSCALE:GREGORIAN
METHOD:PUBLISH
X-ORIGINAL-URL:https://www.dvcta.org
X-WR-CALDESC:Events for DVCTA
REFRESH-INTERVAL;VALUE=DURATION:PT1H
X-Robots-Tag:noindex
X-PUBLISHED-TTL:PT1H
BEGIN:VTIMEZONE
TZID:UTC
BEGIN:STANDARD
TZOFFSETFROM:+0000
TZOFFSETTO:+0000
TZNAME:UTC
DTSTART:20180101T000000
END:STANDARD
END:VTIMEZONE
BEGIN:VTIMEZONE
TZID:America/New_York
BEGIN:DAYLIGHT
TZOFFSETFROM:-0500
TZOFFSETTO:-0400
TZNAME:EDT
DTSTART:20190310T070000
END:DAYLIGHT
BEGIN:STANDARD
TZOFFSETFROM:-0400
TZOFFSETTO:-0500
TZNAME:EST
DTSTART:20191103T060000
END:STANDARD
BEGIN:DAYLIGHT
TZOFFSETFROM:-0500
TZOFFSETTO:-0400
TZNAME:EDT
DTSTART:20200308T070000
END:DAYLIGHT
BEGIN:STANDARD
TZOFFSETFROM:-0400
TZOFFSETTO:-0500
TZNAME:EST
DTSTART:20201101T060000
END:STANDARD
BEGIN:DAYLIGHT
TZOFFSETFROM:-0500
TZOFFSETTO:-0400
TZNAME:EDT
DTSTART:20210314T070000
END:DAYLIGHT
BEGIN:STANDARD
TZOFFSETFROM:-0400
TZOFFSETTO:-0500
TZNAME:EST
DTSTART:20211107T060000
END:STANDARD
END:VTIMEZONE
BEGIN:VEVENT
DTSTART;VALUE=DATE:20200619
DTEND;VALUE=DATE:20200620
DTSTAMP:20260425T204157
CREATED:20200221T202122Z
LAST-MODIFIED:20200221T202122Z
UID:4299-1592524800-1592611199@www.dvcta.org
SUMMARY:Second Nature Dressage Schooling Show
DESCRIPTION:Schooling Dressage Show
URL:https://www.dvcta.org/event/second-nature-dressage-schooling-show-3/
LOCATION:Second Nature Farm\, 420 Catamount Road\, Oxford\, PA\, 19363\, United States
CATEGORIES:DVCTA Sanctioned Schooling Show
ORGANIZER;CN="Kathy King":MAILTO:kathyjking@mac.com
END:VEVENT
BEGIN:VEVENT
DTSTART;VALUE=DATE:20200613
DTEND;VALUE=DATE:20200614
DTSTAMP:20260425T204157
CREATED:20200221T010537Z
LAST-MODIFIED:20200221T010537Z
UID:4284-1592006400-1592092799@www.dvcta.org
SUMMARY:DunMovin Dressage Schooling Show
DESCRIPTION:Dressage Schooling Show
URL:https://www.dvcta.org/event/dunmovin-dressage-schooling-show-5/
LOCATION:DunMovin Farm\, 825 Guthrie Road\, West Chester\, PA\, 19380\, United States
CATEGORIES:DVCTA Sanctioned Schooling Show
ORGANIZER;CN="Doreen Garland":MAILTO:Dunmovinenterprisesllc@gmail.com
END:VEVENT
BEGIN:VEVENT
DTSTART;VALUE=DATE:20200606
DTEND;VALUE=DATE:20200607
DTSTAMP:20260425T204157
CREATED:20200228T192720Z
LAST-MODIFIED:20200513T175424Z
UID:4348-1591401600-1591487999@www.dvcta.org
SUMMARY:Thornridge Manor Schooling Show – CANCELLED
DESCRIPTION:Schooling Show\nThis show has been cancelled.
URL:https://www.dvcta.org/event/thornridge-manor-schooling-show-2/
LOCATION:Thornridge Manor\, 12531 Manor Rd\, Glen Arm\, MD\, 21057\, United States
CATEGORIES:DVCTA Sanctioned Schooling Show
ORGANIZER;CN="Phoebe DeVoe-Moore":MAILTO:info@thornridgemanor.com
END:VEVENT
BEGIN:VEVENT
DTSTART;VALUE=DATE:20200606
DTEND;VALUE=DATE:20200607
DTSTAMP:20260425T204157
CREATED:20200221T004127Z
LAST-MODIFIED:20200602T223406Z
UID:4266-1591401600-1591487999@www.dvcta.org
SUMMARY:Bally Vae Farm Schooling Show - CANCELLED
DESCRIPTION:Schooling Show Series\nThis show has been cancelled.
URL:https://www.dvcta.org/event/bally-vae-farm-schooling-show-12/
LOCATION:Bally Vae Farm\, 369 Lewisville Road\, Lincoln University\, PA\, 19352\, United States
CATEGORIES:DVCTA Sanctioned Schooling Show
ORGANIZER;CN="Lauren Annett":MAILTO:laurenannettdressage@gmail.com
END:VEVENT
BEGIN:VEVENT
DTSTART;VALUE=DATE:20200530
DTEND;VALUE=DATE:20200531
DTSTAMP:20260425T204157
CREATED:20200311T184725Z
LAST-MODIFIED:20200415T233759Z
UID:4364-1590796800-1590883199@www.dvcta.org
SUMMARY:DVCTA Summer Opener Dressage Show – CANCELLED
DESCRIPTION:This show has been cancelled.\nDVCTA Summer Opener Dressage Show\nUSEF/USDF Recognized Show\nSaturday\, May 30th\, 2020\nDunMovin Farm\, West Chester\, PA\nJudge: Jennifer Roth (S) \n\n \nDVCTA Summer Opener Prize List \n\nEnter onlineShow Secretary/Show Manager\nDoreen Garland\n812 Guthrie Rd.\nWest Chester\, PA 19380\nDunmovin2@verizon.net\n610-416-3839 \n\nVOLUNTEERS NEEDED! \nWant to be a scribe\, runner\, or gate person?  Please contact Carol Lippa cflippa16@gmail.com. \n\nINTERESTED IN SPONSORING a class ($40) or a division ($100) for the Spring Show?  Sponsorships are tax deductible.  Often previous winners or association supporters are the first to contribute!  This is DVCTA’s only recognized show for 2018 and we would greatly appreciate your support.\nPlease contact Carol Lippa at cflippa16@gmail.com if you can help.  Thanks!
URL:https://www.dvcta.org/event/dvcta-summer-opener-dressage-show/
LOCATION:DunMovin Farm\, 825 Guthrie Road\, West Chester\, PA\, 19380\, United States
CATEGORIES:USEF/USDF Recognized Dressage
ORGANIZER;CN="Doreen Garland":MAILTO:Dunmovinenterprisesllc@gmail.com
END:VEVENT
BEGIN:VEVENT
DTSTART;VALUE=DATE:20200516
DTEND;VALUE=DATE:20200517
DTSTAMP:20260425T204157
CREATED:20200228T192624Z
LAST-MODIFIED:20200418T175157Z
UID:4343-1589587200-1589673599@www.dvcta.org
SUMMARY:Thornridge Manor Schooling Show – CANCELLED
DESCRIPTION:Schooling Show\nThis show has been cancelled.
URL:https://www.dvcta.org/event/thornridge-manor-schooling-show/
LOCATION:Thornridge Manor\, 12531 Manor Rd\, Glen Arm\, MD\, 21057\, United States
CATEGORIES:DVCTA Sanctioned Schooling Show
ORGANIZER;CN="Phoebe DeVoe-Moore":MAILTO:info@thornridgemanor.com
END:VEVENT
BEGIN:VEVENT
DTSTART;VALUE=DATE:20200515
DTEND;VALUE=DATE:20200516
DTSTAMP:20260425T204157
CREATED:20200221T202024Z
LAST-MODIFIED:20200415T235616Z
UID:4297-1589500800-1589587199@www.dvcta.org
SUMMARY:Second Nature Dressage Schooling Show – CANCELLED
DESCRIPTION:Schooling Dressage Show\nThis show has been cancelled.
URL:https://www.dvcta.org/event/second-nature-dressage-schooling-show-2/
LOCATION:Second Nature Farm\, 420 Catamount Road\, Oxford\, PA\, 19363\, United States
CATEGORIES:DVCTA Sanctioned Schooling Show
ORGANIZER;CN="Kathy King":MAILTO:kathyjking@mac.com
END:VEVENT
BEGIN:VEVENT
DTSTART;VALUE=DATE:20200509
DTEND;VALUE=DATE:20200510
DTSTAMP:20260425T204157
CREATED:20200223T212114Z
LAST-MODIFIED:20200406T190316Z
UID:4335-1588982400-1589068799@www.dvcta.org
SUMMARY:PAHA Dressage Schooling Show - CANCELLED
DESCRIPTION:Dressage Schooling Show\nThis show has been cancelled.
URL:https://www.dvcta.org/event/paha-dressage-schooling-show-2/
LOCATION:Fair Hill\, MD\, MD\, United States
CATEGORIES:DVCTA Sanctioned Schooling Show
END:VEVENT
BEGIN:VEVENT
DTSTART;VALUE=DATE:20200509
DTEND;VALUE=DATE:20200510
DTSTAMP:20260425T204157
CREATED:20200221T010439Z
LAST-MODIFIED:20200426T185747Z
UID:4282-1588982400-1589068799@www.dvcta.org
SUMMARY:DunMovin Dressage Schooling Show – CANCELLED
DESCRIPTION:Dressage Schooling Show\nThis show has been cancelled.
URL:https://www.dvcta.org/event/dunmovin-dressage-schooling-show-4/
LOCATION:DunMovin Farm\, 825 Guthrie Road\, West Chester\, PA\, 19380\, United States
CATEGORIES:DVCTA Sanctioned Schooling Show
ORGANIZER;CN="Doreen Garland":MAILTO:Dunmovinenterprisesllc@gmail.com
END:VEVENT
BEGIN:VEVENT
DTSTART;VALUE=DATE:20200509
DTEND;VALUE=DATE:20200510
DTSTAMP:20260425T204157
CREATED:20200221T003937Z
LAST-MODIFIED:20200415T232640Z
UID:4263-1588982400-1589068799@www.dvcta.org
SUMMARY:Bally Vae Farm Schooling Show – CANCELLED
DESCRIPTION:Schooling Show Series\nThis show has been cancelled.
URL:https://www.dvcta.org/event/bally-vae-farm-schooling-show-11/
LOCATION:Bally Vae Farm\, 369 Lewisville Road\, Lincoln University\, PA\, 19352\, United States
CATEGORIES:DVCTA Sanctioned Schooling Show
ORGANIZER;CN="Lauren Annett":MAILTO:laurenannettdressage@gmail.com
END:VEVENT
BEGIN:VEVENT
DTSTART;VALUE=DATE:20200502
DTEND;VALUE=DATE:20200503
DTSTAMP:20260425T204157
CREATED:20200221T203330Z
LAST-MODIFIED:20200415T234134Z
UID:4315-1588377600-1588463999@www.dvcta.org
SUMMARY:Blue Goose CT/Dressage Schooling Show – CANCELLED
DESCRIPTION:Schooling Show Series\nThis show has been cancelled.
URL:https://www.dvcta.org/event/blue-goose-ct-dressage-schooling-show-2/
LOCATION:Blue Goose Stable\, 210 White Horse Road\, Cochranville\, PA\, 19330\, United States
CATEGORIES:DVCTA Sanctioned Schooling Show
ORGANIZER;CN="Darcy Miller":MAILTO:BlueGooseStableLLC@gmail.com
END:VEVENT
BEGIN:VEVENT
DTSTART;VALUE=DATE:20200417
DTEND;VALUE=DATE:20200418
DTSTAMP:20260425T204157
CREATED:20200221T201902Z
LAST-MODIFIED:20200415T235519Z
UID:4294-1587081600-1587167999@www.dvcta.org
SUMMARY:Second Nature Dressage Schooling Show – CANCELLED
DESCRIPTION:Schooling Dressage Show\nThis show has been cancelled.
URL:https://www.dvcta.org/event/second-nature-dressage-schooling-show/
LOCATION:Second Nature Farm\, 420 Catamount Road\, Oxford\, PA\, 19363\, United States
CATEGORIES:DVCTA Sanctioned Schooling Show
ORGANIZER;CN="Kathy King":MAILTO:kathyjking@mac.com
END:VEVENT
BEGIN:VEVENT
DTSTART;VALUE=DATE:20200411
DTEND;VALUE=DATE:20200412
DTSTAMP:20260425T204157
CREATED:20200221T010348Z
LAST-MODIFIED:20200415T234521Z
UID:4280-1586563200-1586649599@www.dvcta.org
SUMMARY:DunMovin Dressage Schooling Show – CANCELLED
DESCRIPTION:Dressage Schooling Show\nThis show has been cancelled.
URL:https://www.dvcta.org/event/dunmovin-dressage-schooling-show-3/
LOCATION:DunMovin Farm\, 825 Guthrie Road\, West Chester\, PA\, 19380\, United States
CATEGORIES:DVCTA Sanctioned Schooling Show
ORGANIZER;CN="Doreen Garland":MAILTO:Dunmovinenterprisesllc@gmail.com
END:VEVENT
BEGIN:VEVENT
DTSTART;VALUE=DATE:20200404
DTEND;VALUE=DATE:20200405
DTSTAMP:20260425T204157
CREATED:20200221T203247Z
LAST-MODIFIED:20200406T190543Z
UID:4311-1585958400-1586044799@www.dvcta.org
SUMMARY:Blue Goose CT/Dressage Schooling Show - CANCELLED
DESCRIPTION:Schooling Show Series\nThis show has been cancelled.
URL:https://www.dvcta.org/event/blue-goose-ct-dressage-schooling-show/
LOCATION:Blue Goose Stable\, 210 White Horse Road\, Cochranville\, PA\, 19330\, United States
CATEGORIES:DVCTA Sanctioned Schooling Show
ORGANIZER;CN="Darcy Miller":MAILTO:BlueGooseStableLLC@gmail.com
END:VEVENT
BEGIN:VEVENT
DTSTART;TZID=UTC:20200329T140000
DTEND;TZID=UTC:20200329T153000
DTSTAMP:20260425T204157
CREATED:20200108T214907Z
LAST-MODIFIED:20200316T232454Z
UID:4210-1585490400-1585495800@www.dvcta.org
SUMMARY:Quadrille Playdate - CANCELLED
DESCRIPTION:Due to COVID-19\, this event has been cancelled.\nThe April 1st Quadrille Dinner will be rescheduled at a later date. \n2020 Events\nQuadrille Playdate: Feb. 23\nTime: 2:00-3:30PM\nAddress: Kealani Farm\n651 Coatesville Road\nWest Grove\, PA 19390Quadrille Playdate: March 29\nSession #1: 12:00-1:30PM\nAddress: Bally Vae Farm\n369 Lewisville Road\nLincoln University\, PA 19352Quadrille Playdate: March 29\nSession #2: 2:00-3:30PM\nAddress: Bally Vae Farm\n369 Lewisville Road\nLincoln University\, PA 19352 \nQuadrille Dinner\nWednesday\, April 1st – 6:30pm at the home of Anne Miller\nAll Quadrille riders\, supporters and enthusiasts are invited! Recruit riders for your 4-horse “Quadrille Challenge” competition team\, or sign up for an exhibition ride! RSVP to Anne Miller at QuadSquad@comcast.net. \nRegistration for all Playdates now online.\nDVCTA Quadrille Playdate Registration \nQuadrille Event Release Forms\nBally Vae Farm Release Kealani Farm Release Form \n \n\nThank you to our supporters!\nWe would like to thank those farms who have supported Quad Squad by donating or discounting ring fees at their facilities for quadrille practices and/or Quadrille Playdates: \nSFM Equestrian / Cochranville PA\nBlue Goose Stable / Cochranville PA\nSecond Nature Farm / Oxford PA\nKealani Farm / West Grove PA\nArdara Sporthorses / Cochranville PA\nPeace by Piece Farm / Emily O’Neill Dressage\nSusan Springsteen Dressage\nHugh and Sally Lofting / Sally Lofting DressagePlantation Field / Unionville PA\nWindurra USA / Cochranville PA\nWestview Farm / Unionville PA\nJustaplain Farm / Cochranville PA\nDunMovin Farm / West Chester PA\nSewickley Farm / Emily Donaldson Dressage\nPink Ribbon Farm\, Bill Campbell & Kris Poole / Oxford PA \n\nameri
URL:https://www.dvcta.org/event/quadrille-playdate-4/
LOCATION:Bally Vae Farm\, 369 Lewisville Road\, Lincoln University\, PA\, 19352\, United States
CATEGORIES:Quadrille
ORGANIZER;CN="DVCTA - Anne Miller":MAILTO:aes.miller14@gmail.com
END:VEVENT
BEGIN:VEVENT
DTSTART;TZID=America/New_York:20200329T120000
DTEND;TZID=America/New_York:20200329T133000
DTSTAMP:20260425T204157
CREATED:20200108T214632Z
LAST-MODIFIED:20200316T232409Z
UID:4208-1585483200-1585488600@www.dvcta.org
SUMMARY:Quadrille Playdate - CANCELLED
DESCRIPTION:Due to COVID-19\, this event has been cancelled.\nThe April 1st Quadrille Dinner will be rescheduled at a later date. \n2020 Events\nQuadrille Playdate: Feb. 23\nTime: 2:00-3:30PM\nAddress: Kealani Farm\n651 Coatesville Road\nWest Grove\, PA 19390Quadrille Playdate: March 29\nSession #1: 12:00-1:30PM\nAddress: Bally Vae Farm\n369 Lewisville Road\nLincoln University\, PA 19352Quadrille Playdate: March 29\nSession #2: 2:00-3:30PM\nAddress: Bally Vae Farm\n369 Lewisville Road\nLincoln University\, PA 19352 \nQuadrille Dinner\nWednesday\, April 1st – 6:30pm at the home of Anne Miller\nAll Quadrille riders\, supporters and enthusiasts are invited! Recruit riders for your 4-horse “Quadrille Challenge” competition team\, or sign up for an exhibition ride! RSVP to Anne Miller at QuadSquad@comcast.net. \nRegistration for all Playdates now online.\nDVCTA Quadrille Playdate Registration \nQuadrille Event Release Forms\nBally Vae Farm Release Kealani Farm Release Form \n \n\nThank you to our supporters!\nWe would like to thank those farms who have supported Quad Squad by donating or discounting ring fees at their facilities for quadrille practices and/or Quadrille Playdates: \nSFM Equestrian / Cochranville PA\nBlue Goose Stable / Cochranville PA\nSecond Nature Farm / Oxford PA\nKealani Farm / West Grove PA\nArdara Sporthorses / Cochranville PA\nPeace by Piece Farm / Emily O’Neill Dressage\nSusan Springsteen Dressage\nHugh and Sally Lofting / Sally Lofting DressagePlantation Field / Unionville PA\nWindurra USA / Cochranville PA\nWestview Farm / Unionville PA\nJustaplain Farm / Cochranville PA\nDunMovin Farm / West Chester PA\nSewickley Farm / Emily Donaldson Dressage\nPink Ribbon Farm\, Bill Campbell & Kris Poole / Oxford PA \n\nameri
URL:https://www.dvcta.org/event/quadrille-playdate-3/
LOCATION:Bally Vae Farm\, 369 Lewisville Road\, Lincoln University\, PA\, 19352\, United States
CATEGORIES:Quadrille
ORGANIZER;CN="DVCTA - Anne Miller":MAILTO:aes.miller14@gmail.com
END:VEVENT
BEGIN:VEVENT
DTSTART;VALUE=DATE:20200322
DTEND;VALUE=DATE:20200323
DTSTAMP:20260425T204157
CREATED:20200202T213708Z
LAST-MODIFIED:20200202T215416Z
UID:4227-1584835200-1584921599@www.dvcta.org
SUMMARY:Clinic with Alexa Derr for Junior/Young Riders
DESCRIPTION:DVCTA offers dressage clinic with Alexa Derr\nDate: March 22nd\, 2020\nLocation: Second Nature Farm\nOpen to all Junior Young riders who are Members of DVCTA.\nThis is sponsored by funds raised by the DVCTA Junior Team.\n \nAlexa Derr is a Grand Prix trainer based out of her own Vue de Lou Dressage LLC in Reinholds\, PA. She has her USDF Bronze\, Silver\, and Gold medals\, USPC HB certification and is a D4K WIT alumna. She has over 8 years experience competing nationally and internationally at the FEI levels representing the US and Region 1 at NAJYRC\, Festival of Champions\, GAIGs\, CBLMs\, and Dressage at Devon. Her continuing education includes regular lessons with Allison Brock and clinics with Lendon Gray and George Williams. Alexa’s personal and professional medley of Dressage/event horses\, has given her confidence in approaching training from all different angles. Riders lessoning with her not only learn how to correctly execute each movement as you go up the levels\, but also learn problem-solving skills when working on their own. She focuses her lessons and training rides on the clear use and response of the aids as well. Once this is achieved\, she uses a variety of exercises to develop sustainable suppleness\, muscular strength\, and ease of lateral movements. \nIf interested please complete the form below and return the information to Anecia Delduco.  This one will fill fast.\naneciasnf@gmail.com or 484-994-5949 \nAlexa Derr Clinic Information Form \n 
URL:https://www.dvcta.org/event/clinic-with-alexa-derr-for-junior-young-riders/
LOCATION:Second Nature Farm\, 420 Catamount Road\, Oxford\, PA\, 19363\, United States
CATEGORIES:Clinic
ORGANIZER;CN="DVCTA - Anecia Delduco":MAILTO:aneciasnf@gmail.com
END:VEVENT
BEGIN:VEVENT
DTSTART;VALUE=DATE:20200321
DTEND;VALUE=DATE:20200322
DTSTAMP:20260425T204157
CREATED:20200221T010241Z
LAST-MODIFIED:20200415T234419Z
UID:4277-1584748800-1584835199@www.dvcta.org
SUMMARY:DunMovin Dressage Schooling Show – CANCELLED
DESCRIPTION:Dressage Schooling Show\nThis show has been cancelled.
URL:https://www.dvcta.org/event/dunmovin-dressage-schooling-show-2/
LOCATION:DunMovin Farm\, 825 Guthrie Road\, West Chester\, PA\, 19380\, United States
CATEGORIES:DVCTA Sanctioned Schooling Show
ORGANIZER;CN="Doreen Garland":MAILTO:Dunmovinenterprisesllc@gmail.com
END:VEVENT
BEGIN:VEVENT
DTSTART;VALUE=DATE:20200308
DTEND;VALUE=DATE:20200309
DTSTAMP:20260425T204157
CREATED:20191222T185725Z
LAST-MODIFIED:20191222T185725Z
UID:4157-1583625600-1583711999@www.dvcta.org
SUMMARY:Silver Fern Farm Winter Dressage Series
DESCRIPTION:Silver Fern Farm Winter Dressage Series\nHeld at Worthmore Equestrian Center\nSnow Date: TBD \nINFORMATION & ENTRY ON: \nFacebook Page: Silver Fern Farm Winter Dressage Series \nContact: MaryAnn Luke \nCell: 443-466-6077
URL:https://www.dvcta.org/event/silver-fern-farm-winter-dressage-series-4/
LOCATION:Worthmore Equestrian Center\, 11570 Still Pond Road\, Worton\, MD\, 21678\, United States
CATEGORIES:DVCTA Sanctioned Schooling Show
END:VEVENT
BEGIN:VEVENT
DTSTART;VALUE=DATE:20200229
DTEND;VALUE=DATE:20200301
DTSTAMP:20260425T204157
CREATED:20200221T010132Z
LAST-MODIFIED:20200221T010132Z
UID:4274-1582934400-1583020799@www.dvcta.org
SUMMARY:DunMovin Dressage Schooling Show
DESCRIPTION:Dressage Schooling Show
URL:https://www.dvcta.org/event/dunmovin-dressage-schooling-show/
LOCATION:DunMovin Farm\, 825 Guthrie Road\, West Chester\, PA\, 19380\, United States
CATEGORIES:DVCTA Sanctioned Schooling Show
ORGANIZER;CN="Doreen Garland":MAILTO:Dunmovinenterprisesllc@gmail.com
END:VEVENT
BEGIN:VEVENT
DTSTART;TZID=UTC:20200223T140000
DTEND;TZID=UTC:20200223T153000
DTSTAMP:20260425T204157
CREATED:20200108T214306Z
LAST-MODIFIED:20200210T184341Z
UID:4205-1582466400-1582471800@www.dvcta.org
SUMMARY:Quadrille Playdate
DESCRIPTION:2020 Events\nQuadrille Playdate: Feb. 23\nTime: 2:00-3:30PM\nAddress: Kealani Farm\n651 Coatesville Road\nWest Grove\, PA 19390Quadrille Playdate: March 29\nSession #1: 12:00-1:30PM\nAddress: Bally Vae Farm\n369 Lewisville Road\nLincoln University\, PA 19352Quadrille Playdate: March 29\nSession #2: 2:00-3:30PM\nAddress: Bally Vae Farm\n369 Lewisville Road\nLincoln University\, PA 19352 \nQuadrille Dinner\nWednesday\, April 1st – 6:30pm at the home of Anne Miller\nAll Quadrille riders\, supporters and enthusiasts are invited! Recruit riders for your 4-horse “Quadrille Challenge” competition team\, or sign up for an exhibition ride! RSVP to Anne Miller at QuadSquad@comcast.net. \nRegistration for all Playdates now online.\nDVCTA Quadrille Playdate Registration \nQuadrille Event Release Forms\nBally Vae Farm Release Kealani Farm Release Form \n \n\nThank you to our supporters!\nWe would like to thank those farms who have supported Quad Squad by donating or discounting ring fees at their facilities for quadrille practices and/or Quadrille Playdates: \nSFM Equestrian / Cochranville PA\nBlue Goose Stable / Cochranville PA\nSecond Nature Farm / Oxford PA\nKealani Farm / West Grove PA\nArdara Sporthorses / Cochranville PA\nPeace by Piece Farm / Emily O’Neill Dressage\nSusan Springsteen Dressage\nHugh and Sally Lofting / Sally Lofting DressagePlantation Field / Unionville PA\nWindurra USA / Cochranville PA\nWestview Farm / Unionville PA\nJustaplain Farm / Cochranville PA\nDunMovin Farm / West Chester PA\nSewickley Farm / Emily Donaldson Dressage\nPink Ribbon Farm\, Bill Campbell & Kris Poole / Oxford PA
URL:https://www.dvcta.org/event/4205/
LOCATION:Kealani Farm\, 651 Coatesville Road\, West Grove\, PA\, United States
CATEGORIES:Quadrille
ORGANIZER;CN="DVCTA - Anne Miller":MAILTO:aes.miller14@gmail.com
END:VEVENT
BEGIN:VEVENT
DTSTART;VALUE=DATE:20200216
DTEND;VALUE=DATE:20200217
DTSTAMP:20260425T204157
CREATED:20191222T185509Z
LAST-MODIFIED:20191222T185509Z
UID:4155-1581811200-1581897599@www.dvcta.org
SUMMARY:Silver Fern Farm Winter Dressage Series
DESCRIPTION:Silver Fern Farm Winter Dressage Series\nHeld at Worthmore Equestrian Center\nSnow Date: February 23\, 2020 \nINFORMATION & ENTRY ON: \nFacebook Page: Silver Fern Farm Winter Dressage Series \nContact: MaryAnn Luke \nCell: 443-466-6077
URL:https://www.dvcta.org/event/silver-fern-farm-winter-dressage-series-3/
LOCATION:Worthmore Equestrian Center\, 11570 Still Pond Road\, Worton\, MD\, 21678\, United States
CATEGORIES:DVCTA Sanctioned Schooling Show
END:VEVENT
BEGIN:VEVENT
DTSTART;VALUE=DATE:20200126
DTEND;VALUE=DATE:20200127
DTSTAMP:20260425T204157
CREATED:20191222T185341Z
LAST-MODIFIED:20191222T185341Z
UID:4153-1579996800-1580083199@www.dvcta.org
SUMMARY:Silver Fern Farm Winter Dressage Series
DESCRIPTION:Silver Fern Farm Winter Dressage Series\nHeld at Worthmore Equestrian Center\nSnow Date: February 9\, 2020 \nINFORMATION & ENTRY ON: \nFacebook Page: Silver Fern Farm Winter Dressage Series \nContact: MaryAnn Luke \nCell: 443-466-6077
URL:https://www.dvcta.org/event/silver-fern-farm-winter-dressage-series-2/
LOCATION:Worthmore Equestrian Center\, 11570 Still Pond Road\, Worton\, MD\, 21678\, United States
CATEGORIES:DVCTA Sanctioned Schooling Show
END:VEVENT
BEGIN:VEVENT
DTSTART;TZID=UTC:20200125T180000
DTEND;TZID=UTC:20200125T220000
DTSTAMP:20260425T204157
CREATED:20191211T190449Z
LAST-MODIFIED:20191219T190626Z
UID:4128-1579975200-1579989600@www.dvcta.org
SUMMARY:DVCTA Annual Banquet
DESCRIPTION:DVCTA Annual Meeting\, Awards Ceremony & Silent Auction\nSaturday\, January 25\, 2020\n6:00 to 10:00 PM\nThe Farmhouse Restaurant at Lochnairn Country Club\n514 McCue Road\nAvondale\, PA 19311\n\nPlease come join your horsey friends\, and their patient non-horsey guests\, for our Annual Meeting\, Awards Dinner and Silent Auction. We have a fabulous NEW venue – the Farmhouse Restaurant at Loch Nairn. It’s sure to be a great evening with lively bidding on the DVCTA Silent Auction and the year-end award winners announced. (Hint: If you submitted for an award\, you will receive an award\, but the champions will only be announced at the dinner.) We had to commit to a minimum number of plates to secure this location\, so PLEASE come and PLEASE buy your tickets in advance! \nWe do still need donations for the Silent Auction. Please give an item\, basket or service to support the Junior Team. Contact Lisa Knox\, knoxfox85@yahoo.com\, to donate. \nBuy Your Tickets HERE with Paypal:\n\n \n\n\n\nChoose Adult or Child:\n\n\nAdult Ticket (11+) $45.00 USDChild Ticket (10 + under) $25.00 USDJr. Team Donation $10.00 USD\n\n\n\n\n\n \n \nHit “continue shopping” from the Paypal cart to add more than one ticket to your order. We should have your name at the door\, but just in case you may want to print your Paypal email receipt and bring it. \nNo Paypal account? Please mail a check payable to DVCTA to: \nDVCTA c/o Gaye Bergstrom\n 155 Center Hall Rd.\n Cochranville\, PA 19330 \nTicket price is $45.00 per adult 11 and over and $25.00 per child 10 and under.\nPlease include a note with all ticket holder names. \nIf you would like a vegetarian meal please make a note on your ticket order. \nWe will also accept payments at the door\, but please pay in advance if at all possible to help us plan the food. \nWe look forward to seeing you!
URL:https://www.dvcta.org/event/dvcta-annual-banquet-2/
LOCATION:Farmhouse at Loch Nairn\, United States
CATEGORIES:Other
END:VEVENT
BEGIN:VEVENT
DTSTART;VALUE=DATE:20200105
DTEND;VALUE=DATE:20200106
DTSTAMP:20260425T204157
CREATED:20191222T185100Z
LAST-MODIFIED:20191222T185100Z
UID:4149-1578182400-1578268799@www.dvcta.org
SUMMARY:Silver Fern Farm Winter Dressage Series
DESCRIPTION:Silver Fern Farm Winter Dressage Series\nHeld at Worthmore Equestrian Center\nSnow Date: January 12\, 2020 \nINFORMATION & ENTRY ON: \nFacebook Page: Silver Fern Farm Winter Dressage Series \nCONTACT: MaryAnn Luke \nCell: 443-466-6077
URL:https://www.dvcta.org/event/silver-fern-farm-winter-dressage-series/
LOCATION:Worthmore Equestrian Center\, 11570 Still Pond Road\, Worton\, MD\, 21678\, United States
CATEGORIES:DVCTA Sanctioned Schooling Show
END:VEVENT
BEGIN:VEVENT
DTSTART;VALUE=DATE:20191207
DTEND;VALUE=DATE:20191208
DTSTAMP:20260425T204157
CREATED:20190115T222923Z
LAST-MODIFIED:20190115T222923Z
UID:3604-1575676800-1575763199@www.dvcta.org
SUMMARY:Blue Goose Stable Schooling Show
DESCRIPTION:Schooling dressage and combined training show.
URL:https://www.dvcta.org/event/blue-goose-stable-schooling-show-31/
LOCATION:Blue Goose Stable\, 210 White Horse Road\, Cochranville\, PA\, 19330\, United States
CATEGORIES:DVCTA Sanctioned Schooling Show
ORGANIZER;CN="Darcy Miller":MAILTO:BlueGooseStableLLC@gmail.com
END:VEVENT
BEGIN:VEVENT
DTSTART;VALUE=DATE:20191129
DTEND;VALUE=DATE:20191130
DTSTAMP:20260425T204157
CREATED:20190115T224430Z
LAST-MODIFIED:20190115T224430Z
UID:3620-1574985600-1575071999@www.dvcta.org
SUMMARY:Second Nature Farm Schooling Show
DESCRIPTION:Schooling Dressage Show
URL:https://www.dvcta.org/event/second-nature-farm-schooling-show-16/
LOCATION:Second Nature Farm\, 420 Catamount Road\, Oxford\, PA\, 19363\, United States
CATEGORIES:DVCTA Sanctioned Schooling Show
ORGANIZER;CN="Kathy King":MAILTO:kathyjking@mac.com
END:VEVENT
BEGIN:VEVENT
DTSTART;VALUE=DATE:20191123
DTEND;VALUE=DATE:20191124
DTSTAMP:20260425T204157
CREATED:20190115T222828Z
LAST-MODIFIED:20190115T222828Z
UID:3602-1574467200-1574553599@www.dvcta.org
SUMMARY:Blue Goose Stable Schooling Show
DESCRIPTION:Schooling dressage and combined training show.
URL:https://www.dvcta.org/event/blue-goose-stable-schooling-show-30/
LOCATION:Blue Goose Stable\, 210 White Horse Road\, Cochranville\, PA\, 19330\, United States
CATEGORIES:DVCTA Sanctioned Schooling Show
ORGANIZER;CN="Darcy Miller":MAILTO:BlueGooseStableLLC@gmail.com
END:VEVENT
BEGIN:VEVENT
DTSTART;VALUE=DATE:20191116
DTEND;VALUE=DATE:20191117
DTSTAMP:20260425T204157
CREATED:20190115T230936Z
LAST-MODIFIED:20190115T230936Z
UID:3639-1573862400-1573948799@www.dvcta.org
SUMMARY:DunMovin Farm Schooling Show
DESCRIPTION:Schooling Dressage Show
URL:https://www.dvcta.org/event/dunmovin-farm-schooling-show-25/
LOCATION:DunMovin Farm\, 825 Guthrie Road\, West Chester\, PA\, 19380\, United States
CATEGORIES:DVCTA Sanctioned Schooling Show
ORGANIZER;CN="Doreen Garland":MAILTO:Dunmovinenterprisesllc@gmail.com
END:VEVENT
BEGIN:VEVENT
DTSTART;VALUE=DATE:20191026
DTEND;VALUE=DATE:20191027
DTSTAMP:20260425T204157
CREATED:20190115T230827Z
LAST-MODIFIED:20190115T230843Z
UID:3636-1572048000-1572134399@www.dvcta.org
SUMMARY:DunMovin Farm Schooling Show
DESCRIPTION:Schooling Dressage Show
URL:https://www.dvcta.org/event/dunmovin-farm-schooling-show-24/
LOCATION:DunMovin Farm\, 825 Guthrie Road\, West Chester\, PA\, 19380\, United States
CATEGORIES:DVCTA Sanctioned Schooling Show
ORGANIZER;CN="Doreen Garland":MAILTO:Dunmovinenterprisesllc@gmail.com
END:VEVENT
END:VCALENDAR