BEGIN:VCALENDAR
VERSION:2.0
PRODID:-//DVCTA - ECPv6.15.20//NONSGML v1.0//EN
CALSCALE:GREGORIAN
METHOD:PUBLISH
X-WR-CALNAME:DVCTA
X-ORIGINAL-URL:https://www.dvcta.org
X-WR-CALDESC:Events for DVCTA
REFRESH-INTERVAL;VALUE=DURATION:PT1H
X-Robots-Tag:noindex
X-PUBLISHED-TTL:PT1H
BEGIN:VTIMEZONE
TZID:America/New_York
BEGIN:DAYLIGHT
TZOFFSETFROM:-0500
TZOFFSETTO:-0400
TZNAME:EDT
DTSTART:20220313T070000
END:DAYLIGHT
BEGIN:STANDARD
TZOFFSETFROM:-0400
TZOFFSETTO:-0500
TZNAME:EST
DTSTART:20221106T060000
END:STANDARD
BEGIN:DAYLIGHT
TZOFFSETFROM:-0500
TZOFFSETTO:-0400
TZNAME:EDT
DTSTART:20230312T070000
END:DAYLIGHT
BEGIN:STANDARD
TZOFFSETFROM:-0400
TZOFFSETTO:-0500
TZNAME:EST
DTSTART:20231105T060000
END:STANDARD
BEGIN:DAYLIGHT
TZOFFSETFROM:-0500
TZOFFSETTO:-0400
TZNAME:EDT
DTSTART:20240310T070000
END:DAYLIGHT
BEGIN:STANDARD
TZOFFSETFROM:-0400
TZOFFSETTO:-0500
TZNAME:EST
DTSTART:20241103T060000
END:STANDARD
BEGIN:DAYLIGHT
TZOFFSETFROM:-0500
TZOFFSETTO:-0400
TZNAME:EDT
DTSTART:20250309T070000
END:DAYLIGHT
BEGIN:STANDARD
TZOFFSETFROM:-0400
TZOFFSETTO:-0500
TZNAME:EST
DTSTART:20251102T060000
END:STANDARD
END:VTIMEZONE
BEGIN:VEVENT
DTSTART;VALUE=DATE:20240511
DTEND;VALUE=DATE:20240512
DTSTAMP:20260425T070158
CREATED:20231208T180019Z
LAST-MODIFIED:20240420T164946Z
UID:7889-1715385600-1715471999@www.dvcta.org
SUMMARY:Rolling Hills Ranch Dressage Schooling Show
DESCRIPTION: \nDressage Schooling Show
URL:https://www.dvcta.org/event/rolling-hills-ranch-dressage-schooling-show/
LOCATION:Rolling Hills Ranch\, 33 Rolling Hills Ranch Ln\, Port Deposit\, MD\, United States
CATEGORIES:DVCTA Sanctioned Schooling Show
END:VEVENT
BEGIN:VEVENT
DTSTART;VALUE=DATE:20240504
DTEND;VALUE=DATE:20240505
DTSTAMP:20260425T070158
CREATED:20240112T193441Z
LAST-MODIFIED:20240112T193441Z
UID:8001-1714780800-1714867199@www.dvcta.org
SUMMARY:Blue Goose CT/Dressage Schooling Show
DESCRIPTION:Schooling Show Series\nCombined Training | Dressage | Western Dressage
URL:https://www.dvcta.org/event/blue-goose-ct-dressage-schooling-show-41/
LOCATION:Blue Goose Stable\, 210 White Horse Road\, Cochranville\, PA\, 19330\, United States
CATEGORIES:DVCTA Sanctioned Schooling Show
ORGANIZER;CN="Darcy Miller":MAILTO:BlueGooseStableLLC@gmail.com
END:VEVENT
BEGIN:VEVENT
DTSTART;VALUE=DATE:20240504
DTEND;VALUE=DATE:20240505
DTSTAMP:20260425T070158
CREATED:20231214T232539Z
LAST-MODIFIED:20231214T232539Z
UID:7925-1714780800-1714867199@www.dvcta.org
SUMMARY:Bally Vae Farm Schooling Show
DESCRIPTION:Schooling Show Series
URL:https://www.dvcta.org/event/bally-vae-farm-schooling-show-31/
LOCATION:Bally Vae Farm\, 369 Lewisville Road\, Lincoln University\, PA\, 19352\, United States
CATEGORIES:DVCTA Sanctioned Schooling Show
END:VEVENT
BEGIN:VEVENT
DTSTART;VALUE=DATE:20240427
DTEND;VALUE=DATE:20240428
DTSTAMP:20260425T070158
CREATED:20240111T202021Z
LAST-MODIFIED:20240111T202021Z
UID:7976-1714176000-1714262399@www.dvcta.org
SUMMARY:Thornridge Manor Schooling Show
DESCRIPTION:Schooling Show
URL:https://www.dvcta.org/event/thornridge-manor-schooling-show-22/
LOCATION:Thornridge Manor\, 12531 Manor Rd\, Glen Arm\, MD\, 21057\, United States
CATEGORIES:DVCTA Sanctioned Schooling Show
END:VEVENT
BEGIN:VEVENT
DTSTART;VALUE=DATE:20240420
DTEND;VALUE=DATE:20240421
DTSTAMP:20260425T070158
CREATED:20231208T180931Z
LAST-MODIFIED:20231208T180931Z
UID:7901-1713571200-1713657599@www.dvcta.org
SUMMARY:DunMovin Dressage Schooling Show
DESCRIPTION:Dressage Schooling Show
URL:https://www.dvcta.org/event/dunmovin-dressage-schooling-show-39/
LOCATION:DunMovin Farm\, 825 Guthrie Road\, West Chester\, PA\, 19380\, United States
CATEGORIES:DVCTA Sanctioned Schooling Show
ORGANIZER;CN="Doreen Garland":MAILTO:Dunmovinenterprisesllc@gmail.com
END:VEVENT
BEGIN:VEVENT
DTSTART;VALUE=DATE:20240419
DTEND;VALUE=DATE:20240420
DTSTAMP:20260425T070158
CREATED:20231223T164209Z
LAST-MODIFIED:20231223T164209Z
UID:7943-1713484800-1713571199@www.dvcta.org
SUMMARY:Second Nature Dressage Schooling Show
DESCRIPTION:Schooling Dressage Show
URL:https://www.dvcta.org/event/second-nature-dressage-schooling-show-33/
LOCATION:Second Nature Farm\, 420 Catamount Road\, Oxford\, PA\, 19363\, United States
CATEGORIES:DVCTA Sanctioned Schooling Show
END:VEVENT
BEGIN:VEVENT
DTSTART;VALUE=DATE:20240413
DTEND;VALUE=DATE:20240414
DTSTAMP:20260425T070158
CREATED:20240229T191335Z
LAST-MODIFIED:20240229T191335Z
UID:8057-1712966400-1713052799@www.dvcta.org
SUMMARY:On the Bit Equestrian Center Schooling Show
DESCRIPTION:Schooling Show
URL:https://www.dvcta.org/event/on-the-bit-equestrian-center-schooling-show-4/
LOCATION:On the Bit Equestrian Center\, 1700 State Road\, Oxford\, PA\, 19363\, United States
CATEGORIES:DVCTA Sanctioned Schooling Show
END:VEVENT
BEGIN:VEVENT
DTSTART;TZID=America/New_York:20240409T190000
DTEND;TZID=America/New_York:20240409T190000
DTSTAMP:20260425T070158
CREATED:20240401T185541Z
LAST-MODIFIED:20240401T185633Z
UID:8078-1712689200-1712689200@www.dvcta.org
SUMMARY:Radene Gordon-Beck
DESCRIPTION:CALLING ALL DVCTA MEMBERS!!!!\n \n\n\n \n \nCome join us for our next speaker:  \n \n \nRadene Gordon-Beck with Kingsview Partners\n \n \non April 9 at 7:00 PM\n \n \nat Stroud Water Research Center Meeting House (970 Spencer Rd Avondale PA 19311). \n \n \nLight refreshments and snacks will be provided. Bring a friend and questions about how to financial planning for now and the what ifs in the future. \n \n \nHave a question but want to submit it not in person? Ask it here: \n \n \n\n\nSubmit Questions
URL:https://www.dvcta.org/event/radene-gordon-beck/
LOCATION:Stroud Water Research Center\, 970 Spencer Road\, Avondale\, PA\, 19311\, United States
CATEGORIES:Meetings,Other
END:VEVENT
BEGIN:VEVENT
DTSTART;VALUE=DATE:20240407
DTEND;VALUE=DATE:20240408
DTSTAMP:20260425T070158
CREATED:20240111T202514Z
LAST-MODIFIED:20240111T202514Z
UID:7989-1712448000-1712534399@www.dvcta.org
SUMMARY:Silver Fern Farm Winter Dressage Series
DESCRIPTION:Silver Fern Farm Winter Dressage Series\nHeld at Worthmore Equestrian Center\, Worton\, MD\n\nINFORMATION: \nFacebook Page and Entries: Silver Fern Farm Winter Dressage Series
URL:https://www.dvcta.org/event/silver-fern-farm-winter-dressage-series-20/
LOCATION:Worthmore Equestrian Center\, 11570 Still Pond Road\, Worton\, MD\, 21678\, United States
CATEGORIES:DVCTA Sanctioned Schooling Show
END:VEVENT
BEGIN:VEVENT
DTSTART;VALUE=DATE:20240406
DTEND;VALUE=DATE:20240407
DTSTAMP:20260425T070158
CREATED:20240112T193451Z
LAST-MODIFIED:20240112T193451Z
UID:8000-1712361600-1712447999@www.dvcta.org
SUMMARY:Blue Goose CT/Dressage Schooling Show
DESCRIPTION:Schooling Show Series\nCombined Training | Dressage | Western Dressage
URL:https://www.dvcta.org/event/blue-goose-ct-dressage-schooling-show-42/
LOCATION:Blue Goose Stable\, 210 White Horse Road\, Cochranville\, PA\, 19330\, United States
CATEGORIES:DVCTA Sanctioned Schooling Show
ORGANIZER;CN="Darcy Miller":MAILTO:BlueGooseStableLLC@gmail.com
END:VEVENT
BEGIN:VEVENT
DTSTART;VALUE=DATE:20240324
DTEND;VALUE=DATE:20240325
DTSTAMP:20260425T070158
CREATED:20240111T202500Z
LAST-MODIFIED:20240111T202500Z
UID:7988-1711238400-1711324799@www.dvcta.org
SUMMARY:Silver Fern Farm Winter Dressage Series
DESCRIPTION:Silver Fern Farm Winter Dressage Series\nHeld at Worthmore Equestrian Center\, Worton\, MD\n\nINFORMATION: \nFacebook Page and Entries: Silver Fern Farm Winter Dressage Series
URL:https://www.dvcta.org/event/silver-fern-farm-winter-dressage-series-19/
LOCATION:Worthmore Equestrian Center\, 11570 Still Pond Road\, Worton\, MD\, 21678\, United States
CATEGORIES:DVCTA Sanctioned Schooling Show
END:VEVENT
BEGIN:VEVENT
DTSTART;VALUE=DATE:20240323
DTEND;VALUE=DATE:20240324
DTSTAMP:20260425T070158
CREATED:20231208T180922Z
LAST-MODIFIED:20231208T181015Z
UID:7900-1711152000-1711238399@www.dvcta.org
SUMMARY:DunMovin Dressage Schooling Show
DESCRIPTION:Dressage Schooling Show
URL:https://www.dvcta.org/event/dunmovin-dressage-schooling-show-38/
LOCATION:DunMovin Farm\, 825 Guthrie Road\, West Chester\, PA\, 19380\, United States
CATEGORIES:DVCTA Sanctioned Schooling Show
ORGANIZER;CN="Doreen Garland":MAILTO:Dunmovinenterprisesllc@gmail.com
END:VEVENT
BEGIN:VEVENT
DTSTART;VALUE=DATE:20240309
DTEND;VALUE=DATE:20240310
DTSTAMP:20260425T070158
CREATED:20240112T194131Z
LAST-MODIFIED:20240112T194131Z
UID:8018-1709942400-1710028799@www.dvcta.org
SUMMARY:Blue Goose Snow Flake Series
DESCRIPTION:Dressage Schooling Show Series\nPrix Caprilli | Dressage | Western Dressage
URL:https://www.dvcta.org/event/blue-goose-snow-flake-series/
LOCATION:Blue Goose @ The Stables at Fox Crossing\, 501 Walter Road\, Cochranville\, PA\, 19330\, United States
CATEGORIES:DVCTA Sanctioned Schooling Show
ORGANIZER;CN="Darcy Miller":MAILTO:BlueGooseStableLLC@gmail.com
END:VEVENT
BEGIN:VEVENT
DTSTART;VALUE=DATE:20240303
DTEND;VALUE=DATE:20240304
DTSTAMP:20260425T070158
CREATED:20231208T175523Z
LAST-MODIFIED:20231208T175523Z
UID:7885-1709424000-1709510399@www.dvcta.org
SUMMARY:Line It Up Winter Dressage Show Series
DESCRIPTION:Line It Up Winter Dressage Show Series
URL:https://www.dvcta.org/event/line-it-up-winter-dressage-show-series-6/
LOCATION:Line It Up Farm\, 375 Coffroath Road\, Coatesville\, PA\, 19320\, United States
CATEGORIES:DVCTA Sanctioned Schooling Show
END:VEVENT
BEGIN:VEVENT
DTSTART;VALUE=DATE:20240225
DTEND;VALUE=DATE:20240226
DTSTAMP:20260425T070158
CREATED:20240111T202450Z
LAST-MODIFIED:20240111T202450Z
UID:7987-1708819200-1708905599@www.dvcta.org
SUMMARY:Silver Fern Farm Winter Dressage Series
DESCRIPTION:Silver Fern Farm Winter Dressage Series\nHeld at Worthmore Equestrian Center\, Worton\, MD\n\nINFORMATION: \nFacebook Page and Entries: Silver Fern Farm Winter Dressage Series
URL:https://www.dvcta.org/event/silver-fern-farm-winter-dressage-series-18/
LOCATION:Worthmore Equestrian Center\, 11570 Still Pond Road\, Worton\, MD\, 21678\, United States
CATEGORIES:DVCTA Sanctioned Schooling Show
END:VEVENT
BEGIN:VEVENT
DTSTART;VALUE=DATE:20240224
DTEND;VALUE=DATE:20240225
DTSTAMP:20260425T070158
CREATED:20231208T180914Z
LAST-MODIFIED:20231208T180914Z
UID:7899-1708732800-1708819199@www.dvcta.org
SUMMARY:DunMovin Dressage Schooling Show
DESCRIPTION:Dressage Schooling Show
URL:https://www.dvcta.org/event/dunmovin-dressage-schooling-show-37/
LOCATION:DunMovin Farm\, 825 Guthrie Road\, West Chester\, PA\, 19380\, United States
CATEGORIES:DVCTA Sanctioned Schooling Show
ORGANIZER;CN="Doreen Garland":MAILTO:Dunmovinenterprisesllc@gmail.com
END:VEVENT
BEGIN:VEVENT
DTSTART;VALUE=DATE:20240218
DTEND;VALUE=DATE:20240219
DTSTAMP:20260425T070158
CREATED:20231208T175509Z
LAST-MODIFIED:20231208T175509Z
UID:7884-1708214400-1708300799@www.dvcta.org
SUMMARY:Line It Up Winter Dressage Show Series
DESCRIPTION:Line It Up Winter Dressage Show Series
URL:https://www.dvcta.org/event/line-it-up-winter-dressage-show-series-5/
LOCATION:Line It Up Farm\, 375 Coffroath Road\, Coatesville\, PA\, 19320\, United States
CATEGORIES:DVCTA Sanctioned Schooling Show
END:VEVENT
BEGIN:VEVENT
DTSTART;VALUE=DATE:20240210
DTEND;VALUE=DATE:20240211
DTSTAMP:20260425T070158
CREATED:20240112T194140Z
LAST-MODIFIED:20240112T194140Z
UID:8017-1707523200-1707609599@www.dvcta.org
SUMMARY:Blue Goose Snow Flake Series
DESCRIPTION:Dressage Schooling Show Series\nPrix Caprilli | Dressage | Western Dressage
URL:https://www.dvcta.org/event/blue-goose-snow-flake-series-2/
LOCATION:Blue Goose @ The Stables at Fox Crossing\, 501 Walter Road\, Cochranville\, PA\, 19330\, United States
CATEGORIES:DVCTA Sanctioned Schooling Show
ORGANIZER;CN="Darcy Miller":MAILTO:BlueGooseStableLLC@gmail.com
END:VEVENT
BEGIN:VEVENT
DTSTART;VALUE=DATE:20240120
DTEND;VALUE=DATE:20240121
DTSTAMP:20260425T070158
CREATED:20231208T180906Z
LAST-MODIFIED:20231208T180906Z
UID:7898-1705708800-1705795199@www.dvcta.org
SUMMARY:DunMovin Dressage Schooling Show
DESCRIPTION:Dressage Schooling Show
URL:https://www.dvcta.org/event/dunmovin-dressage-schooling-show-36/
LOCATION:DunMovin Farm\, 825 Guthrie Road\, West Chester\, PA\, 19380\, United States
CATEGORIES:DVCTA Sanctioned Schooling Show
ORGANIZER;CN="Doreen Garland":MAILTO:Dunmovinenterprisesllc@gmail.com
END:VEVENT
BEGIN:VEVENT
DTSTART;VALUE=DATE:20240114
DTEND;VALUE=DATE:20240115
DTSTAMP:20260425T070158
CREATED:20240111T202441Z
LAST-MODIFIED:20240111T202441Z
UID:7986-1705190400-1705276799@www.dvcta.org
SUMMARY:Silver Fern Farm Winter Dressage Series
DESCRIPTION:Silver Fern Farm Winter Dressage Series\nHeld at Worthmore Equestrian Center\, Worton\, MD\n\nINFORMATION: \nFacebook Page and Entries: Silver Fern Farm Winter Dressage Series
URL:https://www.dvcta.org/event/silver-fern-farm-winter-dressage-series-17/
LOCATION:Worthmore Equestrian Center\, 11570 Still Pond Road\, Worton\, MD\, 21678\, United States
CATEGORIES:DVCTA Sanctioned Schooling Show
END:VEVENT
BEGIN:VEVENT
DTSTART;VALUE=DATE:20240107
DTEND;VALUE=DATE:20240108
DTSTAMP:20260425T070158
CREATED:20231208T175459Z
LAST-MODIFIED:20231208T175459Z
UID:7883-1704585600-1704671999@www.dvcta.org
SUMMARY:Line It Up Winter Dressage Show Series
DESCRIPTION:Line It Up Winter Dressage Show Series
URL:https://www.dvcta.org/event/line-it-up-winter-dressage-show-series-4/
LOCATION:Line It Up Farm\, 375 Coffroath Road\, Coatesville\, PA\, 19320\, United States
CATEGORIES:DVCTA Sanctioned Schooling Show
END:VEVENT
BEGIN:VEVENT
DTSTART;VALUE=DATE:20240106
DTEND;VALUE=DATE:20240107
DTSTAMP:20260425T070158
CREATED:20240112T194154Z
LAST-MODIFIED:20240112T194154Z
UID:8016-1704499200-1704585599@www.dvcta.org
SUMMARY:Blue Goose Snow Flake Series
DESCRIPTION:Dressage Schooling Show Series\nPrix Caprilli | Dressage | Western Dressage
URL:https://www.dvcta.org/event/blue-goose-snow-flake-series-3/
LOCATION:Blue Goose @ The Stables at Fox Crossing\, 501 Walter Road\, Cochranville\, PA\, 19330\, United States
CATEGORIES:DVCTA Sanctioned Schooling Show
ORGANIZER;CN="Darcy Miller":MAILTO:BlueGooseStableLLC@gmail.com
END:VEVENT
BEGIN:VEVENT
DTSTART;VALUE=DATE:20231124
DTEND;VALUE=DATE:20231125
DTSTAMP:20260425T070158
CREATED:20230116T132456Z
LAST-MODIFIED:20230116T132710Z
UID:7320-1700784000-1700870399@www.dvcta.org
SUMMARY:Second Nature Dressage Schooling Show
DESCRIPTION:Schooling Dressage Show
URL:https://www.dvcta.org/event/second-nature-dressage-schooling-show-32/
LOCATION:Second Nature Farm\, 420 Catamount Road\, Oxford\, PA\, 19363\, United States
CATEGORIES:DVCTA Sanctioned Schooling Show
END:VEVENT
BEGIN:VEVENT
DTSTART;VALUE=DATE:20231118
DTEND;VALUE=DATE:20231119
DTSTAMP:20260425T070158
CREATED:20230101T154409Z
LAST-MODIFIED:20230101T154409Z
UID:7226-1700265600-1700351999@www.dvcta.org
SUMMARY:Blue Goose CT/Dressage Series Championship Show
DESCRIPTION:Schooling Show Series\nCombined Training | Dressage | Western Dressage
URL:https://www.dvcta.org/event/blue-goose-ct-dressage-series-championship-show/
LOCATION:Blue Goose Stable\, 210 White Horse Road\, Cochranville\, PA\, 19330\, United States
CATEGORIES:DVCTA Sanctioned Schooling Show
ORGANIZER;CN="Darcy Miller":MAILTO:BlueGooseStableLLC@gmail.com
END:VEVENT
BEGIN:VEVENT
DTSTART;VALUE=DATE:20231104
DTEND;VALUE=DATE:20231105
DTSTAMP:20260425T070158
CREATED:20230911T185801Z
LAST-MODIFIED:20230911T185824Z
UID:7800-1699056000-1699142399@www.dvcta.org
SUMMARY:EPAWE Fall Finale WE Licensed Show
DESCRIPTION:EPAWE Fall Finale WE Licensed Show\nCollective Roots Dressage\n602 North Jennersville Road\nCochranville\, PA\, 19330 \n PAWE Fall Finale WE Licensed Show at Collective Roots Dressage Cochranville\, PA\nUSAWE S Judge Polly Limond from Mooresville\, NC\, will judge our show available for all levels of entry from L1-L7!\nEntries open August 1\, 2023 and close October 1\, 2023\nRegistration via www.eqentries.com/showcalendar\nPlease have Coggins\, vaccination record and payment ready at the time of registration. An email acknowledging receipt w additional information will be sent after registration and payment is completed. \nL1 $150\nL2-L7 $200 \nThere will be an L1 Intro rider clinic on Friday\, 11/3/2023\, taught by Polly Limond. A seperate event will be posted w additional instructions. \nDid you know there are only 4 Senior “S” USAWE Judges????\nHere is some information on Polly!\nSince 2004 Polly has been importing horses from Germany\, Portugal\, and Spain\, including Lateran\, who competed at the 2010 World Equestrian Games in Kentucky and sired 6 premium foals\, including 3 stallion prospects. Polly is a USDF Bronze\, Silver\, and Silver Freestyle medalist and a USAWE Bronze and Silver medalist with scores up to 80%. She has won and coached riders to Regional and National Championships and lifetime rider medals.\nShe is a USDF L graduate with distinction and a sought-after clinician involved in WE since 2016. Polly volunteered 4 years on the WE United BOD\, co-chaired the 2019 North American Championship Show Committee and the 2019 WE United Judge Training Program committee. She also organized the 2019 US Licensed Officials Seminar\, and was a member of the WE Merger BOD in 2020.
URL:https://www.dvcta.org/event/epawe-fall-finale-we-licensed-show/
LOCATION:Collective Roots Dressage\, 602 N Jennersville Road\, Cochranville\, PA\, 19330\, United States
CATEGORIES:Other
END:VEVENT
BEGIN:VEVENT
DTSTART;VALUE=DATE:20231103
DTEND;VALUE=DATE:20231104
DTSTAMP:20260425T070158
CREATED:20230911T185513Z
LAST-MODIFIED:20230911T185513Z
UID:7798-1698969600-1699055999@www.dvcta.org
SUMMARY:EPAWE Working Equitation Clinic
DESCRIPTION:EPAWE Intro Level Clinic\nEPAWE Working Equitation L1 Intro Clinic w “S” Judge Polly Limond  **Registration OPEN** \nCollective Roots Dressage\n602 North Jennersville Road\nCochranville\, PA\, 19330 \n 
URL:https://www.dvcta.org/event/epawe-working-equitation-clinic/
LOCATION:Collective Roots Dressage\, 602 N Jennersville Road\, Cochranville\, PA\, 19330\, United States
CATEGORIES:Clinic
END:VEVENT
BEGIN:VEVENT
DTSTART;VALUE=DATE:20231028
DTEND;VALUE=DATE:20231029
DTSTAMP:20260425T070158
CREATED:20230116T141446Z
LAST-MODIFIED:20230116T141446Z
UID:7361-1698451200-1698537599@www.dvcta.org
SUMMARY:Thornridge Manor Schooling Show
DESCRIPTION:Schooling Show
URL:https://www.dvcta.org/event/thornridge-manor-schooling-show-21/
LOCATION:Thornridge Manor\, 12531 Manor Rd\, Glen Arm\, MD\, 21057\, United States
CATEGORIES:DVCTA Sanctioned Schooling Show
END:VEVENT
BEGIN:VEVENT
DTSTART;VALUE=DATE:20231028
DTEND;VALUE=DATE:20231029
DTSTAMP:20260425T070158
CREATED:20230116T133630Z
LAST-MODIFIED:20230116T133630Z
UID:7339-1698451200-1698537599@www.dvcta.org
SUMMARY:DunMovin Dressage Schooling Show
DESCRIPTION:Dressage Schooling Show
URL:https://www.dvcta.org/event/dunmovin-dressage-schooling-show-35/
LOCATION:DunMovin Farm\, 825 Guthrie Road\, West Chester\, PA\, 19380\, United States
CATEGORIES:DVCTA Sanctioned Schooling Show
ORGANIZER;CN="Doreen Garland":MAILTO:Dunmovinenterprisesllc@gmail.com
END:VEVENT
BEGIN:VEVENT
DTSTART;VALUE=DATE:20231020
DTEND;VALUE=DATE:20231021
DTSTAMP:20260425T070158
CREATED:20230116T132420Z
LAST-MODIFIED:20230116T132420Z
UID:7318-1697760000-1697846399@www.dvcta.org
SUMMARY:Second Nature Dressage Schooling Show
DESCRIPTION:Schooling Dressage Show
URL:https://www.dvcta.org/event/second-nature-dressage-schooling-show-31/
LOCATION:Second Nature Farm\, 420 Catamount Road\, Oxford\, PA\, 19363\, United States
CATEGORIES:DVCTA Sanctioned Schooling Show
END:VEVENT
BEGIN:VEVENT
DTSTART;VALUE=DATE:20231014
DTEND;VALUE=DATE:20231015
DTSTAMP:20260425T070158
CREATED:20230302T180014Z
LAST-MODIFIED:20230302T180014Z
UID:7476-1697241600-1697327999@www.dvcta.org
SUMMARY:On the Bit Equestrian Center Schooling Show
DESCRIPTION:Schooling Show
URL:https://www.dvcta.org/event/on-the-bit-equestrian-center-schooling-show-3/
LOCATION:On the Bit Equestrian Center\, 1700 State Road\, Oxford\, PA\, 19363\, United States
CATEGORIES:DVCTA Sanctioned Schooling Show
END:VEVENT
END:VCALENDAR