BEGIN:VCALENDAR
VERSION:2.0
PRODID:-//DVCTA - ECPv6.15.20//NONSGML v1.0//EN
CALSCALE:GREGORIAN
METHOD:PUBLISH
X-WR-CALNAME:DVCTA
X-ORIGINAL-URL:https://www.dvcta.org
X-WR-CALDESC:Events for DVCTA
REFRESH-INTERVAL;VALUE=DURATION:PT1H
X-Robots-Tag:noindex
X-PUBLISHED-TTL:PT1H
BEGIN:VTIMEZONE
TZID:America/New_York
BEGIN:DAYLIGHT
TZOFFSETFROM:-0500
TZOFFSETTO:-0400
TZNAME:EDT
DTSTART:20220313T070000
END:DAYLIGHT
BEGIN:STANDARD
TZOFFSETFROM:-0400
TZOFFSETTO:-0500
TZNAME:EST
DTSTART:20221106T060000
END:STANDARD
BEGIN:DAYLIGHT
TZOFFSETFROM:-0500
TZOFFSETTO:-0400
TZNAME:EDT
DTSTART:20230312T070000
END:DAYLIGHT
BEGIN:STANDARD
TZOFFSETFROM:-0400
TZOFFSETTO:-0500
TZNAME:EST
DTSTART:20231105T060000
END:STANDARD
BEGIN:DAYLIGHT
TZOFFSETFROM:-0500
TZOFFSETTO:-0400
TZNAME:EDT
DTSTART:20240310T070000
END:DAYLIGHT
BEGIN:STANDARD
TZOFFSETFROM:-0400
TZOFFSETTO:-0500
TZNAME:EST
DTSTART:20241103T060000
END:STANDARD
END:VTIMEZONE
BEGIN:VEVENT
DTSTART;VALUE=DATE:20230909
DTEND;VALUE=DATE:20230910
DTSTAMP:20260425T103912
CREATED:20230116T133521Z
LAST-MODIFIED:20230116T133521Z
UID:7337-1694217600-1694303999@www.dvcta.org
SUMMARY:DunMovin Dressage Schooling Show
DESCRIPTION:Dressage Schooling Show
URL:https://www.dvcta.org/event/dunmovin-dressage-schooling-show-34/
LOCATION:DunMovin Farm\, 825 Guthrie Road\, West Chester\, PA\, 19380\, United States
CATEGORIES:DVCTA Sanctioned Schooling Show
ORGANIZER;CN="Doreen Garland":MAILTO:Dunmovinenterprisesllc@gmail.com
END:VEVENT
BEGIN:VEVENT
DTSTART;VALUE=DATE:20230902
DTEND;VALUE=DATE:20230903
DTSTAMP:20260425T103912
CREATED:20230116T131454Z
LAST-MODIFIED:20230116T131454Z
UID:7304-1693612800-1693699199@www.dvcta.org
SUMMARY:Bally Vae Farm Schooling Show
DESCRIPTION:Schooling Show Series
URL:https://www.dvcta.org/event/bally-vae-farm-schooling-show-30/
LOCATION:Bally Vae Farm\, 369 Lewisville Road\, Lincoln University\, PA\, 19352\, United States
CATEGORIES:DVCTA Sanctioned Schooling Show
END:VEVENT
BEGIN:VEVENT
DTSTART;VALUE=DATE:20230902
DTEND;VALUE=DATE:20230903
DTSTAMP:20260425T103912
CREATED:20230101T154109Z
LAST-MODIFIED:20230101T154109Z
UID:7222-1693612800-1693699199@www.dvcta.org
SUMMARY:Blue Goose CT/Dressage Schooling Show
DESCRIPTION:Schooling Show Series\nCombined Training | Dressage | Western Dressage
URL:https://www.dvcta.org/event/blue-goose-ct-dressage-schooling-show-33/
LOCATION:Blue Goose Stable\, 210 White Horse Road\, Cochranville\, PA\, 19330\, United States
CATEGORIES:DVCTA Sanctioned Schooling Show
ORGANIZER;CN="Darcy Miller":MAILTO:BlueGooseStableLLC@gmail.com
END:VEVENT
BEGIN:VEVENT
DTSTART;VALUE=DATE:20230826
DTEND;VALUE=DATE:20230827
DTSTAMP:20260425T103912
CREATED:20230116T140936Z
LAST-MODIFIED:20230116T140936Z
UID:7353-1693008000-1693094399@www.dvcta.org
SUMMARY:DunMovin Dressage Schooling Show at Devon
DESCRIPTION:Dressage Schooling Show\nheld at Devon Fairgrounds
URL:https://www.dvcta.org/event/dunmovin-dressage-schooling-show-at-devon-2/
LOCATION:Devon Show Grounds\, 23 Dorset Road\, Devon\, PA\, 19333\, United States
CATEGORIES:DVCTA Sanctioned Schooling Show
ORGANIZER;CN="Doreen Garland":MAILTO:Dunmovinenterprisesllc@gmail.com
END:VEVENT
BEGIN:VEVENT
DTSTART;VALUE=DATE:20230819
DTEND;VALUE=DATE:20230820
DTSTAMP:20260425T103912
CREATED:20230116T141310Z
LAST-MODIFIED:20230116T141310Z
UID:7359-1692403200-1692489599@www.dvcta.org
SUMMARY:Thornridge Manor Schooling Show
DESCRIPTION:Schooling Show
URL:https://www.dvcta.org/event/thornridge-manor-schooling-show-20/
LOCATION:Thornridge Manor\, 12531 Manor Rd\, Glen Arm\, MD\, 21057\, United States
CATEGORIES:DVCTA Sanctioned Schooling Show
END:VEVENT
BEGIN:VEVENT
DTSTART;VALUE=DATE:20230818
DTEND;VALUE=DATE:20230819
DTSTAMP:20260425T103912
CREATED:20230116T132238Z
LAST-MODIFIED:20230116T132238Z
UID:7314-1692316800-1692403199@www.dvcta.org
SUMMARY:Second Nature Dressage Schooling Show
DESCRIPTION:Schooling Dressage Show
URL:https://www.dvcta.org/event/second-nature-dressage-schooling-show-29/
LOCATION:Second Nature Farm\, 420 Catamount Road\, Oxford\, PA\, 19363\, United States
CATEGORIES:DVCTA Sanctioned Schooling Show
END:VEVENT
BEGIN:VEVENT
DTSTART;VALUE=DATE:20230813
DTEND;VALUE=DATE:20230814
DTSTAMP:20260425T103912
CREATED:20230101T154021Z
LAST-MODIFIED:20230101T154021Z
UID:7220-1691884800-1691971199@www.dvcta.org
SUMMARY:Blue Goose CT/Dressage Schooling Show
DESCRIPTION:Schooling Show Series\nCombined Training | Dressage | Western Dressage
URL:https://www.dvcta.org/event/blue-goose-ct-dressage-schooling-show-32/
LOCATION:Blue Goose Stable\, 210 White Horse Road\, Cochranville\, PA\, 19330\, United States
CATEGORIES:DVCTA Sanctioned Schooling Show
ORGANIZER;CN="Darcy Miller":MAILTO:BlueGooseStableLLC@gmail.com
END:VEVENT
BEGIN:VEVENT
DTSTART;VALUE=DATE:20230805
DTEND;VALUE=DATE:20230806
DTSTAMP:20260425T103912
CREATED:20230329T120638Z
LAST-MODIFIED:20230329T120638Z
UID:7524-1691193600-1691279999@www.dvcta.org
SUMMARY:Rolling Hills Ranch CT/Dressage Schooling Show
DESCRIPTION:CT/Dressage Schooling Show
URL:https://www.dvcta.org/event/rolling-hills-ranch-ct-dressage-schooling-show-11/
LOCATION:Rolling Hills Ranch\, 33 Rolling Hills Ranch Ln\, Port Deposit\, MD\, United States
CATEGORIES:DVCTA Sanctioned Schooling Show
END:VEVENT
BEGIN:VEVENT
DTSTART;VALUE=DATE:20230805
DTEND;VALUE=DATE:20230806
DTSTAMP:20260425T103912
CREATED:20230116T131414Z
LAST-MODIFIED:20230116T131414Z
UID:7302-1691193600-1691279999@www.dvcta.org
SUMMARY:Bally Vae Farm Schooling Show
DESCRIPTION:Schooling Show Series
URL:https://www.dvcta.org/event/bally-vae-farm-schooling-show-29/
LOCATION:Bally Vae Farm\, 369 Lewisville Road\, Lincoln University\, PA\, 19352\, United States
CATEGORIES:DVCTA Sanctioned Schooling Show
END:VEVENT
BEGIN:VEVENT
DTSTART;VALUE=DATE:20230721
DTEND;VALUE=DATE:20230722
DTSTAMP:20260425T103912
CREATED:20230116T132148Z
LAST-MODIFIED:20230116T132148Z
UID:7312-1689897600-1689983999@www.dvcta.org
SUMMARY:Second Nature Dressage Schooling Show
DESCRIPTION:Schooling Dressage Show
URL:https://www.dvcta.org/event/second-nature-dressage-schooling-show-28/
LOCATION:Second Nature Farm\, 420 Catamount Road\, Oxford\, PA\, 19363\, United States
CATEGORIES:DVCTA Sanctioned Schooling Show
END:VEVENT
BEGIN:VEVENT
DTSTART;VALUE=DATE:20230715
DTEND;VALUE=DATE:20230716
DTSTAMP:20260425T103912
CREATED:20230101T153917Z
LAST-MODIFIED:20230101T153917Z
UID:7218-1689379200-1689465599@www.dvcta.org
SUMMARY:Blue Goose CT/Dressage Schooling Show
DESCRIPTION:Schooling Show Series\nCombined Training | Dressage | Western Dressage
URL:https://www.dvcta.org/event/blue-goose-ct-dressage-schooling-show-31/
LOCATION:Blue Goose Stable\, 210 White Horse Road\, Cochranville\, PA\, 19330\, United States
CATEGORIES:DVCTA Sanctioned Schooling Show
ORGANIZER;CN="Darcy Miller":MAILTO:BlueGooseStableLLC@gmail.com
END:VEVENT
BEGIN:VEVENT
DTSTART;VALUE=DATE:20230708
DTEND;VALUE=DATE:20230709
DTSTAMP:20260425T103912
CREATED:20230329T120559Z
LAST-MODIFIED:20230329T120559Z
UID:7522-1688774400-1688860799@www.dvcta.org
SUMMARY:Rolling Hills Ranch CT/Dressage Schooling Show
DESCRIPTION:CT/Dressage Schooling Show
URL:https://www.dvcta.org/event/rolling-hills-ranch-ct-dressage-schooling-show-10/
LOCATION:Rolling Hills Ranch\, 33 Rolling Hills Ranch Ln\, Port Deposit\, MD\, United States
CATEGORIES:DVCTA Sanctioned Schooling Show
END:VEVENT
BEGIN:VEVENT
DTSTART;VALUE=DATE:20230708
DTEND;VALUE=DATE:20230709
DTSTAMP:20260425T103912
CREATED:20230116T133436Z
LAST-MODIFIED:20230116T133436Z
UID:7335-1688774400-1688860799@www.dvcta.org
SUMMARY:DunMovin Dressage Schooling Show
DESCRIPTION:Dressage Schooling Show
URL:https://www.dvcta.org/event/dunmovin-dressage-schooling-show-33/
LOCATION:DunMovin Farm\, 825 Guthrie Road\, West Chester\, PA\, 19380\, United States
CATEGORIES:DVCTA Sanctioned Schooling Show
ORGANIZER;CN="Doreen Garland":MAILTO:Dunmovinenterprisesllc@gmail.com
END:VEVENT
BEGIN:VEVENT
DTSTART;VALUE=DATE:20230701
DTEND;VALUE=DATE:20230702
DTSTAMP:20260425T103912
CREATED:20230116T131334Z
LAST-MODIFIED:20230116T131334Z
UID:7300-1688169600-1688255999@www.dvcta.org
SUMMARY:Bally Vae Farm Schooling Show
DESCRIPTION:Schooling Show Series
URL:https://www.dvcta.org/event/bally-vae-farm-schooling-show-28/
LOCATION:Bally Vae Farm\, 369 Lewisville Road\, Lincoln University\, PA\, 19352\, United States
CATEGORIES:DVCTA Sanctioned Schooling Show
END:VEVENT
BEGIN:VEVENT
DTSTART;VALUE=DATE:20230624
DTEND;VALUE=DATE:20230625
DTSTAMP:20260425T103912
CREATED:20221231T110206Z
LAST-MODIFIED:20221231T110206Z
UID:7213-1687564800-1687651199@www.dvcta.org
SUMMARY:Blue Goose CT/Dressage Schooling Show
DESCRIPTION:Schooling Show Series\nCombined Training | Dressage | Western Dressage
URL:https://www.dvcta.org/event/blue-goose-ct-dressage-schooling-show-30/
LOCATION:Blue Goose Stable\, 210 White Horse Road\, Cochranville\, PA\, 19330\, United States
CATEGORIES:DVCTA Sanctioned Schooling Show
ORGANIZER;CN="Darcy Miller":MAILTO:BlueGooseStableLLC@gmail.com
END:VEVENT
BEGIN:VEVENT
DTSTART;VALUE=DATE:20230617
DTEND;VALUE=DATE:20230618
DTSTAMP:20260425T103912
CREATED:20230116T141234Z
LAST-MODIFIED:20230116T141234Z
UID:7357-1686960000-1687046399@www.dvcta.org
SUMMARY:Thornridge Manor Schooling Show
DESCRIPTION:Schooling Show
URL:https://www.dvcta.org/event/thornridge-manor-schooling-show-19/
LOCATION:Thornridge Manor\, 12531 Manor Rd\, Glen Arm\, MD\, 21057\, United States
CATEGORIES:DVCTA Sanctioned Schooling Show
END:VEVENT
BEGIN:VEVENT
DTSTART;VALUE=DATE:20230616
DTEND;VALUE=DATE:20230617
DTSTAMP:20260425T103912
CREATED:20230116T132101Z
LAST-MODIFIED:20230116T132101Z
UID:7310-1686873600-1686959999@www.dvcta.org
SUMMARY:Second Nature Dressage Schooling Show
DESCRIPTION:Schooling Dressage Show
URL:https://www.dvcta.org/event/second-nature-dressage-schooling-show-27/
LOCATION:Second Nature Farm\, 420 Catamount Road\, Oxford\, PA\, 19363\, United States
CATEGORIES:DVCTA Sanctioned Schooling Show
END:VEVENT
BEGIN:VEVENT
DTSTART;VALUE=DATE:20230610
DTEND;VALUE=DATE:20230611
DTSTAMP:20260425T103912
CREATED:20230116T133355Z
LAST-MODIFIED:20230116T133355Z
UID:7333-1686355200-1686441599@www.dvcta.org
SUMMARY:DunMovin Dressage Schooling Show
DESCRIPTION:Dressage Schooling Show
URL:https://www.dvcta.org/event/dunmovin-dressage-schooling-show-32/
LOCATION:DunMovin Farm\, 825 Guthrie Road\, West Chester\, PA\, 19380\, United States
CATEGORIES:DVCTA Sanctioned Schooling Show
ORGANIZER;CN="Doreen Garland":MAILTO:Dunmovinenterprisesllc@gmail.com
END:VEVENT
BEGIN:VEVENT
DTSTART;VALUE=DATE:20230603
DTEND;VALUE=DATE:20230604
DTSTAMP:20260425T103912
CREATED:20230325T110734Z
LAST-MODIFIED:20230602T160755Z
UID:7515-1685750400-1685836799@www.dvcta.org
SUMMARY:DVCTA Summer Opener Dressage Show
DESCRIPTION:DVCTA Summer Opener Dressage Show\nUSEF/USDF Recognized Show\nSaturday\, June 3rd\, 2023\nHeld at Second Century LLC\, West Chester\, PA (aka Dunmovin Farm)\n\n\nOpening: April 24th       Closing: May 15th\nJudge:  Angelia Bean (r)  |   Judge: John Macpherson (S-ON)  |  TD:  Val Bastinelli (r-PA) \nSecond judge has been added!! \n\nSummer Opener FINAL Ride TimesSummer Opener FINAL Rider Schedule \n\nDVCTA Summer Opener Revised Final Prize List \nOnline entries will be accepted through Equestrian Entries. \n\nShow Manager\nDoreen Garland\ndunmovin2@verizon.netShow Secretary\nMegan Mendenhall\ndunmovin2@verizon.net \n   \n\nVOLUNTEERS NEEDED! \nWant to be a scribe\, runner\, or gate person?  Please contact volunteers@dvcta.org. \n\nINTERESTED IN SPONSORING a class ($40) or a division ($100) for the Spring Show?  Sponsorships are tax deductible.  Often previous winners or association supporters are the first to contribute!  This is DVCTA’s only recognized show for 2022 and we would greatly appreciate your support.\nPlease contact volunteers@dvcta.org if you can help.  Thanks!
URL:https://www.dvcta.org/event/dvcta-summer-opener-dressage-show-4/
LOCATION:DunMovin Farm\, 825 Guthrie Road\, West Chester\, PA\, 19380\, United States
CATEGORIES:DVCTA Show,USEF/USDF Recognized Dressage
ORGANIZER;CN="Doreen Garland":MAILTO:Dunmovinenterprisesllc@gmail.com
END:VEVENT
BEGIN:VEVENT
DTSTART;VALUE=DATE:20230603
DTEND;VALUE=DATE:20230604
DTSTAMP:20260425T103912
CREATED:20230302T175836Z
LAST-MODIFIED:20230302T175836Z
UID:7470-1685750400-1685836799@www.dvcta.org
SUMMARY:On the Bit Equestrian Center Schooling Show
DESCRIPTION:Schooling Show
URL:https://www.dvcta.org/event/on-the-bit-equestrian-center-schooling-show/
LOCATION:On the Bit Equestrian Center\, 1700 State Road\, Oxford\, PA\, 19363\, United States
CATEGORIES:DVCTA Sanctioned Schooling Show
END:VEVENT
BEGIN:VEVENT
DTSTART;VALUE=DATE:20230519
DTEND;VALUE=DATE:20230520
DTSTAMP:20260425T103912
CREATED:20230116T132018Z
LAST-MODIFIED:20230116T132018Z
UID:7308-1684454400-1684540799@www.dvcta.org
SUMMARY:Second Nature Dressage Schooling Show
DESCRIPTION:Schooling Dressage Show
URL:https://www.dvcta.org/event/second-nature-dressage-schooling-show-26/
LOCATION:Second Nature Farm\, 420 Catamount Road\, Oxford\, PA\, 19363\, United States
CATEGORIES:DVCTA Sanctioned Schooling Show
END:VEVENT
BEGIN:VEVENT
DTSTART;VALUE=DATE:20230506
DTEND;VALUE=DATE:20230507
DTSTAMP:20260425T103912
CREATED:20230116T131255Z
LAST-MODIFIED:20230116T131255Z
UID:7298-1683331200-1683417599@www.dvcta.org
SUMMARY:Bally Vae Farm Schooling Show
DESCRIPTION:Schooling Show Series
URL:https://www.dvcta.org/event/bally-vae-farm-schooling-show-27/
LOCATION:Bally Vae Farm\, 369 Lewisville Road\, Lincoln University\, PA\, 19352\, United States
CATEGORIES:DVCTA Sanctioned Schooling Show
END:VEVENT
BEGIN:VEVENT
DTSTART;VALUE=DATE:20230506
DTEND;VALUE=DATE:20230507
DTSTAMP:20260425T103912
CREATED:20221231T110103Z
LAST-MODIFIED:20221231T110103Z
UID:7211-1683331200-1683417599@www.dvcta.org
SUMMARY:Blue Goose CT/Dressage Schooling Show
DESCRIPTION:Schooling Show Series\nCombined Training | Dressage | Western Dressage
URL:https://www.dvcta.org/event/blue-goose-ct-dressage-schooling-show-29/
LOCATION:Blue Goose Stable\, 210 White Horse Road\, Cochranville\, PA\, 19330\, United States
CATEGORIES:DVCTA Sanctioned Schooling Show
ORGANIZER;CN="Darcy Miller":MAILTO:BlueGooseStableLLC@gmail.com
END:VEVENT
BEGIN:VEVENT
DTSTART;VALUE=DATE:20230422
DTEND;VALUE=DATE:20230423
DTSTAMP:20260425T103912
CREATED:20230329T120517Z
LAST-MODIFIED:20230329T120517Z
UID:7520-1682121600-1682207999@www.dvcta.org
SUMMARY:Rolling Hills Ranch CT/Dressage Schooling Show
DESCRIPTION:CT/Dressage Schooling Show
URL:https://www.dvcta.org/event/rolling-hills-ranch-ct-dressage-schooling-show-9/
LOCATION:Rolling Hills Ranch\, 33 Rolling Hills Ranch Ln\, Port Deposit\, MD\, United States
CATEGORIES:DVCTA Sanctioned Schooling Show
END:VEVENT
BEGIN:VEVENT
DTSTART;VALUE=DATE:20230422
DTEND;VALUE=DATE:20230423
DTSTAMP:20260425T103912
CREATED:20230116T133217Z
LAST-MODIFIED:20230116T133217Z
UID:7329-1682121600-1682207999@www.dvcta.org
SUMMARY:DunMovin Dressage Schooling Show
DESCRIPTION:Dressage Schooling Show
URL:https://www.dvcta.org/event/dunmovin-dressage-schooling-show-30/
LOCATION:DunMovin Farm\, 825 Guthrie Road\, West Chester\, PA\, 19380\, United States
CATEGORIES:DVCTA Sanctioned Schooling Show
ORGANIZER;CN="Doreen Garland":MAILTO:Dunmovinenterprisesllc@gmail.com
END:VEVENT
BEGIN:VEVENT
DTSTART;VALUE=DATE:20230421
DTEND;VALUE=DATE:20230422
DTSTAMP:20260425T103912
CREATED:20230116T131927Z
LAST-MODIFIED:20230116T131927Z
UID:7306-1682035200-1682121599@www.dvcta.org
SUMMARY:Second Nature Dressage Schooling Show
DESCRIPTION:Schooling Dressage Show
URL:https://www.dvcta.org/event/second-nature-dressage-schooling-show-25/
LOCATION:Second Nature Farm\, 420 Catamount Road\, Oxford\, PA\, 19363\, United States
CATEGORIES:DVCTA Sanctioned Schooling Show
END:VEVENT
BEGIN:VEVENT
DTSTART;VALUE=DATE:20230415
DTEND;VALUE=DATE:20230416
DTSTAMP:20260425T103912
CREATED:20230116T141146Z
LAST-MODIFIED:20230116T141146Z
UID:7355-1681516800-1681603199@www.dvcta.org
SUMMARY:Thornridge Manor Schooling Show
DESCRIPTION:Schooling Show
URL:https://www.dvcta.org/event/thornridge-manor-schooling-show-18/
LOCATION:Thornridge Manor\, 12531 Manor Rd\, Glen Arm\, MD\, 21057\, United States
CATEGORIES:DVCTA Sanctioned Schooling Show
END:VEVENT
BEGIN:VEVENT
DTSTART;VALUE=DATE:20230408
DTEND;VALUE=DATE:20230409
DTSTAMP:20260425T103912
CREATED:20221231T110027Z
LAST-MODIFIED:20221231T110027Z
UID:7209-1680912000-1680998399@www.dvcta.org
SUMMARY:Blue Goose CT/Dressage Schooling Show
DESCRIPTION:Schooling Show Series\nCombined Training | Dressage | Western Dressage
URL:https://www.dvcta.org/event/blue-goose-ct-dressage-schooling-show-28/
LOCATION:Blue Goose Stable\, 210 White Horse Road\, Cochranville\, PA\, 19330\, United States
CATEGORIES:DVCTA Sanctioned Schooling Show
ORGANIZER;CN="Darcy Miller":MAILTO:BlueGooseStableLLC@gmail.com
END:VEVENT
BEGIN:VEVENT
DTSTART;TZID=America/New_York:20230401T100000
DTEND;TZID=America/New_York:20230401T130000
DTSTAMP:20260425T103912
CREATED:20230306T154838Z
LAST-MODIFIED:20230306T154838Z
UID:7499-1680343200-1680354000@www.dvcta.org
SUMMARY:Posture Prep Clinic with Dr. Pat Bona
DESCRIPTION:Posture Prep Clinic with Dr. Pat Bona\n \n \nApril 1\, 2023 – 10:00AM to 1:00PM\n \n \nHeld at Blue Goose Stable\, 210 White Horse Road\, Cochranville\, Pa. 19330\n \n\n\n\n\n\n\n \n\n\n\n\nDVCTA Members: $30.00       Non-Members: $40.00\n\n\n\n\n\n\n\n\n\n\n\nCome learn all about helping your horse have the best posture possible!! Each participant will receive the Posture Prep Tool to take home and use on your own equine partner!\n\n\n\n\n\nPlease use form below to register!!!\n\n\n\n\n\n\nPosture Prep Clinic – April 1\, 2023\n\n\n\n\n\n\n\n\n    First Name\n        *\n    \n    \n    \n    \n\n\n    Last Name\n        *\n    \n    \n    \n    \n\n\n    Are you a DVCTA member?\n        *\n    \n    \n Yes\, I am a DVCTA memberNo\, I am not a DVCTA member\n\n    \n    \n\n\n    Email\n        *\n    \n    \n    \n    \n\n\n    Phone\n        \n    \n    \n    \n    \n\n\n    Address\n        \n    \n    \n\n	Address\n\n\n	\n		Address	\n		\n	\n\n	\n		Address	\n		\n	\n\n	\n		City	\n		\n	City\n\n	\n		State/Province	\n			\n			\n				 			\n			AlabamaAlaskaArkansasArizonaCaliforniaColoradoConnecticutDelawareDistrict of ColumbiaFloridaGeorgiaHawaiiIdahoIllinoisIndianaIowaKansasKentuckyLouisianaMaineMarylandMassachusettsMichiganMinnesotaMississippiMissouriMontanaNebraskaNevadaNew HampshireNew JerseyNew MexicoNew YorkNorth CarolinaNorth DakotaOhioOklahomaOregonPennsylvaniaRhode IslandSouth CarolinaSouth DakotaTennesseeTexasUtahVermontVirginiaWashingtonWest VirginiaWisconsinWyoming		\n	State/Province\n\n	\n		Zip/Postal	\n		\n	Zip/Postal\n\n\n\n    \n    \n\nAfter clicking the “submit” button below\, you will be sent to PayPal to complete payment securely online. \n\n    Total\n     \n    \n    \n    \n\n	\n			\n			\n				If you are human\, leave this field blank.			\n			\n		\n		\n\nSubmit
URL:https://www.dvcta.org/event/posture-prep-clinic-with-dr-pat-bona/
LOCATION:Blue Goose Stable\, 210 White Horse Road\, Cochranville\, PA\, 19330\, United States
CATEGORIES:Clinic,Other
END:VEVENT
BEGIN:VEVENT
DTSTART;TZID=America/New_York:20230325T080000
DTEND;TZID=America/New_York:20230326T160000
DTSTAMP:20260425T103912
CREATED:20230114T203035Z
LAST-MODIFIED:20230314T134108Z
UID:7283-1679731200-1679846400@www.dvcta.org
SUMMARY:Freestyle Judging Program
DESCRIPTION:Continuing Education in Freestyle Judging Program\n\n\n\nwith Lois Yukins and Terry Ciotti Gallo\n\n\n\nMarch 25-26\, 2023\n\n\n\nClosing Date: March 10\, 2023\n\n\n\nA 2-day USDF accredited Continuing Education Program open to all judges\, L program graduates and auditors. This Continuing Education in Freestyle Judging Program has been approved by USEF to count as advanced education for Judges. Judges who attend this program will be eligible to earn the “Judges Freestyle Designation” upon completion and passing the online exam. \n\n\n\n\n\nRegistration Form and Full Clinic Details\n\n\n\n\n\nRegister to attend on StriderPro\n\n\n\n\n\nMarch 25\, 2023 (8:00am-4:00pm) Lecture and Classroom Study\nStroud Water Research Center 970 Spencer Road\, Avondale PA \n\n\n\n\nMarch 26\, 2023 (8:00am-4:00pm) Live Judging with Exhibition Riders\nWindurra USA 2037 Newport Gap Pike (Rt 41)\,Cochranville\, PA \n\n\n\n\n\n\n\n\n\n\nLicensed Judges and L Program Graduates: $250 includes both days / Lecture\, live judging and all materials \nAuditors and L Program Enrollees: $60/day or $85 for both days \nRider Participants: FREE (Please click HERE for more information\, or see below!) \n\n\n\nBoxed lunch may be ordered for $25 per day. Please complete the REGISTRATION FORM. Any questions\, contact Ange Bean at Straightforwarddressage@gmail.com or Lauren Annett at laurenannettdressage@gmail.com \n\n\n\n\n\nAbout Lois Yukins\n\n\n\nUSA FEI 4* & USEF S Dressage Judge\n\n\n\nLois grew up in Birmingham/Bloomfield Hills\, Michigan. She was in Pony Club and rode Equitation\, Hunter/Jumpers\, as well as fox hunting with the Bloomfield Open Hunt Club. After a serious jumping accident she became more focused on Dressage. She has trained horses and riders throughout the levels and owned two training facilities over the years. \n\n\n\nLois became a National Dressage Judge in the early 70’s and an FEI Dressage Judge since 1999. She has judged throughout the United States\, Canada\, Central and South America\, Mexico\, Asia\, New Zealand\, Australia\, and England. She was on the panel to judge the 2014 Asian Games in Korea. \n\n\n\nAlong with her International and National Judging\, Lois is a trainer and examiner of judges in the US from the L Graduate Level to our Senior Judges. Lois is the Chair of the USDF L Education Program\, a member of the USDF Judges Committee\, USEF Dressage Committee and the USEF Licensed Official Committee. She lives on the North Shore of Boston in Manchester By The Sea. \n\n\n\n\n\nAbout Terry Ciotti Gallo\n\n\n\nKlassic Kur Freestyle Designer\n\n\n\nTerry’s broad and colorful history in sports\, dance\, and music stretches over 30 years. She started as a theatrical choreographer where her works were seen in various media. However with a background as a competitive gymnast\, she also acted as a dance instructor\, choreographer\, coach\, and judge for international-caliber gymnastics. Terry coupled the sports world with her dance and music knowledge to help a variety of athletes in the total development of their freestyle performances. This led to the establishment of Klassic Kur in 1989. Since that time\, her freestyles have appeared in the Olympics\, World Equestrian Games\, Pan American Games\, and hold two World Cup titles. She currently serves on both the USDF Freestyle Committee (six years as chair)\, USDF Judges Committee\, is the main architect for the Continuing Education Program in Freestyle for Judges and received the USDF 2014 Volunteer of the Year award. \n\n\n\n\n\n 
URL:https://www.dvcta.org/event/freestyle-judging-program/
LOCATION:Stroud Water Research Center\, 970 Spencer Road\, Avondale\, PA\, 19311\, United States
CATEGORIES:Clinic
ORGANIZER;CN="Lauren Annett":MAILTO:laurenannettdressage@gmail.com
END:VEVENT
END:VCALENDAR