BEGIN:VCALENDAR
VERSION:2.0
PRODID:-//DVCTA - ECPv6.15.20//NONSGML v1.0//EN
CALSCALE:GREGORIAN
METHOD:PUBLISH
X-WR-CALNAME:DVCTA
X-ORIGINAL-URL:https://www.dvcta.org
X-WR-CALDESC:Events for DVCTA
REFRESH-INTERVAL;VALUE=DURATION:PT1H
X-Robots-Tag:noindex
X-PUBLISHED-TTL:PT1H
BEGIN:VTIMEZONE
TZID:America/New_York
BEGIN:DAYLIGHT
TZOFFSETFROM:-0500
TZOFFSETTO:-0400
TZNAME:EDT
DTSTART:20230312T070000
END:DAYLIGHT
BEGIN:STANDARD
TZOFFSETFROM:-0400
TZOFFSETTO:-0500
TZNAME:EST
DTSTART:20231105T060000
END:STANDARD
BEGIN:DAYLIGHT
TZOFFSETFROM:-0500
TZOFFSETTO:-0400
TZNAME:EDT
DTSTART:20240310T070000
END:DAYLIGHT
BEGIN:STANDARD
TZOFFSETFROM:-0400
TZOFFSETTO:-0500
TZNAME:EST
DTSTART:20241103T060000
END:STANDARD
BEGIN:DAYLIGHT
TZOFFSETFROM:-0500
TZOFFSETTO:-0400
TZNAME:EDT
DTSTART:20250309T070000
END:DAYLIGHT
BEGIN:STANDARD
TZOFFSETFROM:-0400
TZOFFSETTO:-0500
TZNAME:EST
DTSTART:20251102T060000
END:STANDARD
END:VTIMEZONE
BEGIN:VEVENT
DTSTART;VALUE=DATE:20240727
DTEND;VALUE=DATE:20240728
DTSTAMP:20260424T080536
CREATED:20231214T232612Z
LAST-MODIFIED:20231214T232612Z
UID:7928-1722038400-1722124799@www.dvcta.org
SUMMARY:Bally Vae Farm Schooling Show
DESCRIPTION:Schooling Show Series
URL:https://www.dvcta.org/event/bally-vae-farm-schooling-show-34/
LOCATION:Bally Vae Farm\, 369 Lewisville Road\, Lincoln University\, PA\, 19352\, United States
CATEGORIES:DVCTA Sanctioned Schooling Show
END:VEVENT
BEGIN:VEVENT
DTSTART;VALUE=DATE:20240720
DTEND;VALUE=DATE:20240721
DTSTAMP:20260424T080536
CREATED:20240111T202040Z
LAST-MODIFIED:20240111T202040Z
UID:7978-1721433600-1721519999@www.dvcta.org
SUMMARY:Thornridge Manor Schooling Show
DESCRIPTION:Schooling Show
URL:https://www.dvcta.org/event/thornridge-manor-schooling-show-24/
LOCATION:Thornridge Manor\, 12531 Manor Rd\, Glen Arm\, MD\, 21057\, United States
CATEGORIES:DVCTA Sanctioned Schooling Show
END:VEVENT
BEGIN:VEVENT
DTSTART;VALUE=DATE:20240719
DTEND;VALUE=DATE:20240720
DTSTAMP:20260424T080536
CREATED:20231223T164437Z
LAST-MODIFIED:20231223T164437Z
UID:7946-1721347200-1721433599@www.dvcta.org
SUMMARY:Second Nature Dressage Schooling Show
DESCRIPTION:Schooling Dressage Show
URL:https://www.dvcta.org/event/second-nature-dressage-schooling-show-36/
LOCATION:Second Nature Farm\, 420 Catamount Road\, Oxford\, PA\, 19363\, United States
CATEGORIES:DVCTA Sanctioned Schooling Show
END:VEVENT
BEGIN:VEVENT
DTSTART;VALUE=DATE:20240713
DTEND;VALUE=DATE:20240714
DTSTAMP:20260424T080536
CREATED:20240112T193421Z
LAST-MODIFIED:20240112T193421Z
UID:8003-1720828800-1720915199@www.dvcta.org
SUMMARY:Blue Goose CT/Dressage Schooling Show
DESCRIPTION:Schooling Show Series\nCombined Training | Dressage | Western Dressage
URL:https://www.dvcta.org/event/blue-goose-ct-dressage-schooling-show-39/
LOCATION:Blue Goose Stable\, 210 White Horse Road\, Cochranville\, PA\, 19330\, United States
CATEGORIES:DVCTA Sanctioned Schooling Show
ORGANIZER;CN="Darcy Miller":MAILTO:BlueGooseStableLLC@gmail.com
END:VEVENT
BEGIN:VEVENT
DTSTART;VALUE=DATE:20240706
DTEND;VALUE=DATE:20240707
DTSTAMP:20260424T080536
CREATED:20231208T182015Z
LAST-MODIFIED:20231208T182038Z
UID:7909-1720224000-1720310399@www.dvcta.org
SUMMARY:DunMovin Dressage Schooling Show
DESCRIPTION:Dressage Schooling Show
URL:https://www.dvcta.org/event/dunmovin-dressage-schooling-show-44/
LOCATION:DunMovin Farm\, 825 Guthrie Road\, West Chester\, PA\, 19380\, United States
CATEGORIES:DVCTA Sanctioned Schooling Show
ORGANIZER;CN="Doreen Garland":MAILTO:Dunmovinenterprisesllc@gmail.com
END:VEVENT
BEGIN:VEVENT
DTSTART;VALUE=DATE:20240629
DTEND;VALUE=DATE:20240630
DTSTAMP:20260424T080536
CREATED:20240112T193431Z
LAST-MODIFIED:20240112T193431Z
UID:8002-1719619200-1719705599@www.dvcta.org
SUMMARY:Blue Goose CT/Dressage Schooling Show
DESCRIPTION:Schooling Show Series\nCombined Training | Dressage | Western Dressage
URL:https://www.dvcta.org/event/blue-goose-ct-dressage-schooling-show-40/
LOCATION:Blue Goose Stable\, 210 White Horse Road\, Cochranville\, PA\, 19330\, United States
CATEGORIES:DVCTA Sanctioned Schooling Show
ORGANIZER;CN="Darcy Miller":MAILTO:BlueGooseStableLLC@gmail.com
END:VEVENT
BEGIN:VEVENT
DTSTART;VALUE=DATE:20240629
DTEND;VALUE=DATE:20240630
DTSTAMP:20260424T080536
CREATED:20231214T232601Z
LAST-MODIFIED:20231214T232601Z
UID:7927-1719619200-1719705599@www.dvcta.org
SUMMARY:Bally Vae Farm Schooling Show
DESCRIPTION:Schooling Show Series
URL:https://www.dvcta.org/event/bally-vae-farm-schooling-show-33/
LOCATION:Bally Vae Farm\, 369 Lewisville Road\, Lincoln University\, PA\, 19352\, United States
CATEGORIES:DVCTA Sanctioned Schooling Show
END:VEVENT
BEGIN:VEVENT
DTSTART;VALUE=DATE:20240621
DTEND;VALUE=DATE:20240622
DTSTAMP:20260424T080536
CREATED:20231223T164344Z
LAST-MODIFIED:20231223T164344Z
UID:7945-1718928000-1719014399@www.dvcta.org
SUMMARY:Second Nature Dressage Schooling Show
DESCRIPTION:Schooling Dressage Show
URL:https://www.dvcta.org/event/second-nature-dressage-schooling-show-35/
LOCATION:Second Nature Farm\, 420 Catamount Road\, Oxford\, PA\, 19363\, United States
CATEGORIES:DVCTA Sanctioned Schooling Show
END:VEVENT
BEGIN:VEVENT
DTSTART;VALUE=DATE:20240615
DTEND;VALUE=DATE:20240616
DTSTAMP:20260424T080536
CREATED:20240229T191410Z
LAST-MODIFIED:20240229T191410Z
UID:8058-1718409600-1718495999@www.dvcta.org
SUMMARY:On the Bit Equestrian Center Schooling Show
DESCRIPTION:Schooling Show
URL:https://www.dvcta.org/event/on-the-bit-equestrian-center-schooling-show-5/
LOCATION:On the Bit Equestrian Center\, 1700 State Road\, Oxford\, PA\, 19363\, United States
CATEGORIES:DVCTA Sanctioned Schooling Show
END:VEVENT
BEGIN:VEVENT
DTSTART;VALUE=DATE:20240615
DTEND;VALUE=DATE:20240616
DTSTAMP:20260424T080536
CREATED:20240111T202031Z
LAST-MODIFIED:20240111T202031Z
UID:7977-1718409600-1718495999@www.dvcta.org
SUMMARY:Thornridge Manor Schooling Show
DESCRIPTION:Schooling Show
URL:https://www.dvcta.org/event/thornridge-manor-schooling-show-23/
LOCATION:Thornridge Manor\, 12531 Manor Rd\, Glen Arm\, MD\, 21057\, United States
CATEGORIES:DVCTA Sanctioned Schooling Show
END:VEVENT
BEGIN:VEVENT
DTSTART;VALUE=DATE:20240615
DTEND;VALUE=DATE:20240616
DTSTAMP:20260424T080536
CREATED:20231208T182019Z
LAST-MODIFIED:20231208T182034Z
UID:7908-1718409600-1718495999@www.dvcta.org
SUMMARY:DunMovin Dressage Schooling Show
DESCRIPTION:Dressage Schooling Show
URL:https://www.dvcta.org/event/dunmovin-dressage-schooling-show-45/
LOCATION:DunMovin Farm\, 825 Guthrie Road\, West Chester\, PA\, 19380\, United States
CATEGORIES:DVCTA Sanctioned Schooling Show
ORGANIZER;CN="Doreen Garland":MAILTO:Dunmovinenterprisesllc@gmail.com
END:VEVENT
BEGIN:VEVENT
DTSTART;VALUE=DATE:20240608
DTEND;VALUE=DATE:20240609
DTSTAMP:20260424T080536
CREATED:20231208T180028Z
LAST-MODIFIED:20240420T164936Z
UID:7890-1717804800-1717891199@www.dvcta.org
SUMMARY:Rolling Hills Ranch Dressage Schooling Show
DESCRIPTION: \nDressage Schooling Show
URL:https://www.dvcta.org/event/rolling-hills-ranch-dressage-schooling-show-2/
LOCATION:Rolling Hills Ranch\, 33 Rolling Hills Ranch Ln\, Port Deposit\, MD\, United States
CATEGORIES:DVCTA Sanctioned Schooling Show
END:VEVENT
BEGIN:VEVENT
DTSTART;VALUE=DATE:20240602
DTEND;VALUE=DATE:20240603
DTSTAMP:20260424T080536
CREATED:20231214T232549Z
LAST-MODIFIED:20240411T181631Z
UID:7926-1717286400-1717372799@www.dvcta.org
SUMMARY:Bally Vae Farm Schooling Show
DESCRIPTION:Schooling Show Series
URL:https://www.dvcta.org/event/bally-vae-farm-schooling-show-32/
LOCATION:Bally Vae Farm\, 369 Lewisville Road\, Lincoln University\, PA\, 19352\, United States
CATEGORIES:DVCTA Sanctioned Schooling Show
END:VEVENT
BEGIN:VEVENT
DTSTART;VALUE=DATE:20240601
DTEND;VALUE=DATE:20240602
DTSTAMP:20260424T080536
CREATED:20240226T192404Z
LAST-MODIFIED:20240229T190641Z
UID:8042-1717200000-1717286399@www.dvcta.org
SUMMARY:DVCTA Summer Opener Dressage Show
DESCRIPTION:DVCTA Summer Opener Dressage Show\nUSEF/USDF Recognized Show\nJune 1st\, 2024\nHeld at Second Century LLC\, West Chester\, PA (aka Dunmovin Farm)\n\nDVCTA Summer Opener Prize List – Preliminary \nEntries Open: April 24th\, 2024 | Entries Close: May 15th\, 2024 \n\nJudge:  Kem Barbosa \n\n \n\n  \n\nShow Manager\nDoreen Garland\ndunmovin2@verizon.netShow Secretary \n   \n\nVOLUNTEERS NEEDED! \nWant to be a scribe\, runner\, or gate person?  Please contact volunteers@dvcta.org. \n\nINTERESTED IN SPONSORING a class or a division for the Spring Show?  Sponsorships are tax deductible.  Often previous winners or association supporters are the first to contribute!  This is DVCTA’s only recognized show for 2024 and we would greatly appreciate your support.\nPlease contact volunteers@dvcta.org if you can help.  Thanks!
URL:https://www.dvcta.org/event/dvcta-summer-opener-dressage-show-2024/
LOCATION:DunMovin Farm\, 825 Guthrie Road\, West Chester\, PA\, 19380\, United States
CATEGORIES:DVCTA Show
ORGANIZER;CN="Doreen Garland":MAILTO:Dunmovinenterprisesllc@gmail.com
END:VEVENT
BEGIN:VEVENT
DTSTART;VALUE=DATE:20240517
DTEND;VALUE=DATE:20240518
DTSTAMP:20260424T080536
CREATED:20231223T164247Z
LAST-MODIFIED:20231223T164247Z
UID:7944-1715904000-1715990399@www.dvcta.org
SUMMARY:Second Nature Dressage Schooling Show
DESCRIPTION:Schooling Dressage Show
URL:https://www.dvcta.org/event/second-nature-dressage-schooling-show-34/
LOCATION:Second Nature Farm\, 420 Catamount Road\, Oxford\, PA\, 19363\, United States
CATEGORIES:DVCTA Sanctioned Schooling Show
END:VEVENT
BEGIN:VEVENT
DTSTART;VALUE=DATE:20240511
DTEND;VALUE=DATE:20240512
DTSTAMP:20260424T080536
CREATED:20231208T180940Z
LAST-MODIFIED:20231208T180940Z
UID:7902-1715385600-1715471999@www.dvcta.org
SUMMARY:DunMovin Dressage Schooling Show
DESCRIPTION:Dressage Schooling Show
URL:https://www.dvcta.org/event/dunmovin-dressage-schooling-show-40/
LOCATION:DunMovin Farm\, 825 Guthrie Road\, West Chester\, PA\, 19380\, United States
CATEGORIES:DVCTA Sanctioned Schooling Show
ORGANIZER;CN="Doreen Garland":MAILTO:Dunmovinenterprisesllc@gmail.com
END:VEVENT
BEGIN:VEVENT
DTSTART;VALUE=DATE:20240511
DTEND;VALUE=DATE:20240512
DTSTAMP:20260424T080536
CREATED:20231208T180019Z
LAST-MODIFIED:20240420T164946Z
UID:7889-1715385600-1715471999@www.dvcta.org
SUMMARY:Rolling Hills Ranch Dressage Schooling Show
DESCRIPTION: \nDressage Schooling Show
URL:https://www.dvcta.org/event/rolling-hills-ranch-dressage-schooling-show/
LOCATION:Rolling Hills Ranch\, 33 Rolling Hills Ranch Ln\, Port Deposit\, MD\, United States
CATEGORIES:DVCTA Sanctioned Schooling Show
END:VEVENT
BEGIN:VEVENT
DTSTART;VALUE=DATE:20240504
DTEND;VALUE=DATE:20240505
DTSTAMP:20260424T080536
CREATED:20240112T193441Z
LAST-MODIFIED:20240112T193441Z
UID:8001-1714780800-1714867199@www.dvcta.org
SUMMARY:Blue Goose CT/Dressage Schooling Show
DESCRIPTION:Schooling Show Series\nCombined Training | Dressage | Western Dressage
URL:https://www.dvcta.org/event/blue-goose-ct-dressage-schooling-show-41/
LOCATION:Blue Goose Stable\, 210 White Horse Road\, Cochranville\, PA\, 19330\, United States
CATEGORIES:DVCTA Sanctioned Schooling Show
ORGANIZER;CN="Darcy Miller":MAILTO:BlueGooseStableLLC@gmail.com
END:VEVENT
BEGIN:VEVENT
DTSTART;VALUE=DATE:20240504
DTEND;VALUE=DATE:20240505
DTSTAMP:20260424T080536
CREATED:20231214T232539Z
LAST-MODIFIED:20231214T232539Z
UID:7925-1714780800-1714867199@www.dvcta.org
SUMMARY:Bally Vae Farm Schooling Show
DESCRIPTION:Schooling Show Series
URL:https://www.dvcta.org/event/bally-vae-farm-schooling-show-31/
LOCATION:Bally Vae Farm\, 369 Lewisville Road\, Lincoln University\, PA\, 19352\, United States
CATEGORIES:DVCTA Sanctioned Schooling Show
END:VEVENT
BEGIN:VEVENT
DTSTART;VALUE=DATE:20240427
DTEND;VALUE=DATE:20240428
DTSTAMP:20260424T080536
CREATED:20240111T202021Z
LAST-MODIFIED:20240111T202021Z
UID:7976-1714176000-1714262399@www.dvcta.org
SUMMARY:Thornridge Manor Schooling Show
DESCRIPTION:Schooling Show
URL:https://www.dvcta.org/event/thornridge-manor-schooling-show-22/
LOCATION:Thornridge Manor\, 12531 Manor Rd\, Glen Arm\, MD\, 21057\, United States
CATEGORIES:DVCTA Sanctioned Schooling Show
END:VEVENT
BEGIN:VEVENT
DTSTART;VALUE=DATE:20240420
DTEND;VALUE=DATE:20240421
DTSTAMP:20260424T080536
CREATED:20231208T180931Z
LAST-MODIFIED:20231208T180931Z
UID:7901-1713571200-1713657599@www.dvcta.org
SUMMARY:DunMovin Dressage Schooling Show
DESCRIPTION:Dressage Schooling Show
URL:https://www.dvcta.org/event/dunmovin-dressage-schooling-show-39/
LOCATION:DunMovin Farm\, 825 Guthrie Road\, West Chester\, PA\, 19380\, United States
CATEGORIES:DVCTA Sanctioned Schooling Show
ORGANIZER;CN="Doreen Garland":MAILTO:Dunmovinenterprisesllc@gmail.com
END:VEVENT
BEGIN:VEVENT
DTSTART;VALUE=DATE:20240419
DTEND;VALUE=DATE:20240420
DTSTAMP:20260424T080536
CREATED:20231223T164209Z
LAST-MODIFIED:20231223T164209Z
UID:7943-1713484800-1713571199@www.dvcta.org
SUMMARY:Second Nature Dressage Schooling Show
DESCRIPTION:Schooling Dressage Show
URL:https://www.dvcta.org/event/second-nature-dressage-schooling-show-33/
LOCATION:Second Nature Farm\, 420 Catamount Road\, Oxford\, PA\, 19363\, United States
CATEGORIES:DVCTA Sanctioned Schooling Show
END:VEVENT
BEGIN:VEVENT
DTSTART;VALUE=DATE:20240413
DTEND;VALUE=DATE:20240414
DTSTAMP:20260424T080536
CREATED:20240229T191335Z
LAST-MODIFIED:20240229T191335Z
UID:8057-1712966400-1713052799@www.dvcta.org
SUMMARY:On the Bit Equestrian Center Schooling Show
DESCRIPTION:Schooling Show
URL:https://www.dvcta.org/event/on-the-bit-equestrian-center-schooling-show-4/
LOCATION:On the Bit Equestrian Center\, 1700 State Road\, Oxford\, PA\, 19363\, United States
CATEGORIES:DVCTA Sanctioned Schooling Show
END:VEVENT
BEGIN:VEVENT
DTSTART;TZID=America/New_York:20240409T190000
DTEND;TZID=America/New_York:20240409T190000
DTSTAMP:20260424T080536
CREATED:20240401T185541Z
LAST-MODIFIED:20240401T185633Z
UID:8078-1712689200-1712689200@www.dvcta.org
SUMMARY:Radene Gordon-Beck
DESCRIPTION:CALLING ALL DVCTA MEMBERS!!!!\n \n\n\n \n \nCome join us for our next speaker:  \n \n \nRadene Gordon-Beck with Kingsview Partners\n \n \non April 9 at 7:00 PM\n \n \nat Stroud Water Research Center Meeting House (970 Spencer Rd Avondale PA 19311). \n \n \nLight refreshments and snacks will be provided. Bring a friend and questions about how to financial planning for now and the what ifs in the future. \n \n \nHave a question but want to submit it not in person? Ask it here: \n \n \n\n\nSubmit Questions
URL:https://www.dvcta.org/event/radene-gordon-beck/
LOCATION:Stroud Water Research Center\, 970 Spencer Road\, Avondale\, PA\, 19311\, United States
CATEGORIES:Meetings,Other
END:VEVENT
BEGIN:VEVENT
DTSTART;VALUE=DATE:20240407
DTEND;VALUE=DATE:20240408
DTSTAMP:20260424T080536
CREATED:20240111T202514Z
LAST-MODIFIED:20240111T202514Z
UID:7989-1712448000-1712534399@www.dvcta.org
SUMMARY:Silver Fern Farm Winter Dressage Series
DESCRIPTION:Silver Fern Farm Winter Dressage Series\nHeld at Worthmore Equestrian Center\, Worton\, MD\n\nINFORMATION: \nFacebook Page and Entries: Silver Fern Farm Winter Dressage Series
URL:https://www.dvcta.org/event/silver-fern-farm-winter-dressage-series-20/
LOCATION:Worthmore Equestrian Center\, 11570 Still Pond Road\, Worton\, MD\, 21678\, United States
CATEGORIES:DVCTA Sanctioned Schooling Show
END:VEVENT
BEGIN:VEVENT
DTSTART;VALUE=DATE:20240406
DTEND;VALUE=DATE:20240407
DTSTAMP:20260424T080536
CREATED:20240112T193451Z
LAST-MODIFIED:20240112T193451Z
UID:8000-1712361600-1712447999@www.dvcta.org
SUMMARY:Blue Goose CT/Dressage Schooling Show
DESCRIPTION:Schooling Show Series\nCombined Training | Dressage | Western Dressage
URL:https://www.dvcta.org/event/blue-goose-ct-dressage-schooling-show-42/
LOCATION:Blue Goose Stable\, 210 White Horse Road\, Cochranville\, PA\, 19330\, United States
CATEGORIES:DVCTA Sanctioned Schooling Show
ORGANIZER;CN="Darcy Miller":MAILTO:BlueGooseStableLLC@gmail.com
END:VEVENT
BEGIN:VEVENT
DTSTART;VALUE=DATE:20240324
DTEND;VALUE=DATE:20240325
DTSTAMP:20260424T080536
CREATED:20240111T202500Z
LAST-MODIFIED:20240111T202500Z
UID:7988-1711238400-1711324799@www.dvcta.org
SUMMARY:Silver Fern Farm Winter Dressage Series
DESCRIPTION:Silver Fern Farm Winter Dressage Series\nHeld at Worthmore Equestrian Center\, Worton\, MD\n\nINFORMATION: \nFacebook Page and Entries: Silver Fern Farm Winter Dressage Series
URL:https://www.dvcta.org/event/silver-fern-farm-winter-dressage-series-19/
LOCATION:Worthmore Equestrian Center\, 11570 Still Pond Road\, Worton\, MD\, 21678\, United States
CATEGORIES:DVCTA Sanctioned Schooling Show
END:VEVENT
BEGIN:VEVENT
DTSTART;VALUE=DATE:20240323
DTEND;VALUE=DATE:20240324
DTSTAMP:20260424T080536
CREATED:20231208T180922Z
LAST-MODIFIED:20231208T181015Z
UID:7900-1711152000-1711238399@www.dvcta.org
SUMMARY:DunMovin Dressage Schooling Show
DESCRIPTION:Dressage Schooling Show
URL:https://www.dvcta.org/event/dunmovin-dressage-schooling-show-38/
LOCATION:DunMovin Farm\, 825 Guthrie Road\, West Chester\, PA\, 19380\, United States
CATEGORIES:DVCTA Sanctioned Schooling Show
ORGANIZER;CN="Doreen Garland":MAILTO:Dunmovinenterprisesllc@gmail.com
END:VEVENT
BEGIN:VEVENT
DTSTART;VALUE=DATE:20240309
DTEND;VALUE=DATE:20240310
DTSTAMP:20260424T080536
CREATED:20240112T194131Z
LAST-MODIFIED:20240112T194131Z
UID:8018-1709942400-1710028799@www.dvcta.org
SUMMARY:Blue Goose Snow Flake Series
DESCRIPTION:Dressage Schooling Show Series\nPrix Caprilli | Dressage | Western Dressage
URL:https://www.dvcta.org/event/blue-goose-snow-flake-series/
LOCATION:Blue Goose @ The Stables at Fox Crossing\, 501 Walter Road\, Cochranville\, PA\, 19330\, United States
CATEGORIES:DVCTA Sanctioned Schooling Show
ORGANIZER;CN="Darcy Miller":MAILTO:BlueGooseStableLLC@gmail.com
END:VEVENT
BEGIN:VEVENT
DTSTART;VALUE=DATE:20240303
DTEND;VALUE=DATE:20240304
DTSTAMP:20260424T080536
CREATED:20231208T175523Z
LAST-MODIFIED:20231208T175523Z
UID:7885-1709424000-1709510399@www.dvcta.org
SUMMARY:Line It Up Winter Dressage Show Series
DESCRIPTION:Line It Up Winter Dressage Show Series
URL:https://www.dvcta.org/event/line-it-up-winter-dressage-show-series-6/
LOCATION:Line It Up Farm\, 375 Coffroath Road\, Coatesville\, PA\, 19320\, United States
CATEGORIES:DVCTA Sanctioned Schooling Show
END:VEVENT
END:VCALENDAR