BEGIN:VCALENDAR
VERSION:2.0
PRODID:-//DVCTA - ECPv6.15.20//NONSGML v1.0//EN
CALSCALE:GREGORIAN
METHOD:PUBLISH
X-ORIGINAL-URL:https://www.dvcta.org
X-WR-CALDESC:Events for DVCTA
REFRESH-INTERVAL;VALUE=DURATION:PT1H
X-Robots-Tag:noindex
X-PUBLISHED-TTL:PT1H
BEGIN:VTIMEZONE
TZID:America/New_York
BEGIN:DAYLIGHT
TZOFFSETFROM:-0500
TZOFFSETTO:-0400
TZNAME:EDT
DTSTART:20240310T070000
END:DAYLIGHT
BEGIN:STANDARD
TZOFFSETFROM:-0400
TZOFFSETTO:-0500
TZNAME:EST
DTSTART:20241103T060000
END:STANDARD
BEGIN:DAYLIGHT
TZOFFSETFROM:-0500
TZOFFSETTO:-0400
TZNAME:EDT
DTSTART:20250309T070000
END:DAYLIGHT
BEGIN:STANDARD
TZOFFSETFROM:-0400
TZOFFSETTO:-0500
TZNAME:EST
DTSTART:20251102T060000
END:STANDARD
BEGIN:DAYLIGHT
TZOFFSETFROM:-0500
TZOFFSETTO:-0400
TZNAME:EDT
DTSTART:20260308T070000
END:DAYLIGHT
BEGIN:STANDARD
TZOFFSETFROM:-0400
TZOFFSETTO:-0500
TZNAME:EST
DTSTART:20261101T060000
END:STANDARD
END:VTIMEZONE
BEGIN:VEVENT
DTSTART;VALUE=DATE:20250704
DTEND;VALUE=DATE:20250706
DTSTAMP:20260424T011724
CREATED:20250123T194710Z
LAST-MODIFIED:20250123T195139Z
UID:8961-1751587200-1751759999@www.dvcta.org
SUMMARY:USDF L Education Program - Part 2
DESCRIPTION: \n\n\n\n\n\n\nD1 – 103928 May 3-4\, 2025 \n\n\n Location: Stroud Water Research Center970 Spencer Rd Avondale\, PA 19311 \n\n\n\n\nD2 – 103929 July 4-5\, 2025 \n\n\n Location: WEC\, OH 4095 OH-730 Wilmington\, OH 45177 \n\n\n\n\nFinal Exam – 103930 October 1-3\, 2025 \n\n\n Location: Virginia Horse Center 487 Maury River Rd. Lexington\, VA 24450
URL:https://www.dvcta.org/event/usdf-l-education-program-part-2-2/
LOCATION:WEC\, OH\, 4095 OH-730\, Wilmington\, 45177\, United States
CATEGORIES:Other
END:VEVENT
BEGIN:VEVENT
DTSTART;TZID=America/New_York:20250708T183000
DTEND;TZID=America/New_York:20250708T210000
DTSTAMP:20260424T011724
CREATED:20250612T152824Z
LAST-MODIFIED:20250612T152824Z
UID:9223-1751999400-1752008400@www.dvcta.org
SUMMARY:DVCTA Member Wine Tasting and Board Meeting
DESCRIPTION:DVCTA Member Wine Tasting and Board Meeting\nJuly 8\, 2025\, 6:30pm to 9:00pm\nLocation: The Acadian Wine Company\, 553 South Guernsey Road\, West Grove\, Pennsylvania 19390 \nCome join us before our July 8th Board Meeting to learn about and sample local wines and enjoy light fair. Acadian wines will also be available to purchase. After the wine tasting you are welcome to stay for our business meeting. \nTo ensure we are not oversubscribed\, registration is required by clicking here. \nThis is for DVCTA Members only.\nNote only those 21+ may enjoy the wine tasting.
URL:https://www.dvcta.org/event/dvcta-member-wine-tasting-and-board-meeting/
LOCATION:The Acadian Wine Company\, 553 South Guernsey Road\, West Grove\, PA\, 19390\, United States
CATEGORIES:Meetings,Other
END:VEVENT
BEGIN:VEVENT
DTSTART;VALUE=DATE:20250713
DTEND;VALUE=DATE:20250714
DTSTAMP:20260424T011724
CREATED:20250130T181526Z
LAST-MODIFIED:20250130T181526Z
UID:8996-1752364800-1752451199@www.dvcta.org
SUMMARY:Bally Vae Farm Schooling Show
DESCRIPTION:Schooling Show Series
URL:https://www.dvcta.org/event/bally-vae-farm-schooling-show-39/
LOCATION:Bally Vae Farm\, 369 Lewisville Road\, Lincoln University\, PA\, 19352\, United States
CATEGORIES:DVCTA Sanctioned Schooling Show
END:VEVENT
BEGIN:VEVENT
DTSTART;VALUE=DATE:20250718
DTEND;VALUE=DATE:20250719
DTSTAMP:20260424T011724
CREATED:20250213T175454Z
LAST-MODIFIED:20250213T175454Z
UID:9043-1752796800-1752883199@www.dvcta.org
SUMMARY:Second Nature Dressage Schooling Show
DESCRIPTION:Schooling Dressage Show
URL:https://www.dvcta.org/event/second-nature-dressage-schooling-show-44/
LOCATION:Second Nature Farm\, 420 Catamount Road\, Oxford\, PA\, 19363\, United States
CATEGORIES:DVCTA Sanctioned Schooling Show
END:VEVENT
BEGIN:VEVENT
DTSTART;VALUE=DATE:20250726
DTEND;VALUE=DATE:20250727
DTSTAMP:20260424T011724
CREATED:20250304T192815Z
LAST-MODIFIED:20250304T192815Z
UID:9102-1753488000-1753574399@www.dvcta.org
SUMMARY:DunMovin Dressage Schooling Show
DESCRIPTION:Dressage Schooling Show
URL:https://www.dvcta.org/event/dunmovin-dressage-schooling-show-51/
LOCATION:DunMovin Farm\, 825 Guthrie Road\, West Chester\, PA\, 19380\, United States
CATEGORIES:DVCTA Sanctioned Schooling Show
ORGANIZER;CN="Doreen Garland":MAILTO:Dunmovinenterprisesllc@gmail.com
END:VEVENT
END:VCALENDAR