BEGIN:VCALENDAR
VERSION:2.0
PRODID:-//DVCTA - ECPv6.15.20//NONSGML v1.0//EN
CALSCALE:GREGORIAN
METHOD:PUBLISH
X-ORIGINAL-URL:https://www.dvcta.org
X-WR-CALDESC:Events for DVCTA
REFRESH-INTERVAL;VALUE=DURATION:PT1H
X-Robots-Tag:noindex
X-PUBLISHED-TTL:PT1H
BEGIN:VTIMEZONE
TZID:America/New_York
BEGIN:DAYLIGHT
TZOFFSETFROM:-0500
TZOFFSETTO:-0400
TZNAME:EDT
DTSTART:20250309T070000
END:DAYLIGHT
BEGIN:STANDARD
TZOFFSETFROM:-0400
TZOFFSETTO:-0500
TZNAME:EST
DTSTART:20251102T060000
END:STANDARD
BEGIN:DAYLIGHT
TZOFFSETFROM:-0500
TZOFFSETTO:-0400
TZNAME:EDT
DTSTART:20260308T070000
END:DAYLIGHT
BEGIN:STANDARD
TZOFFSETFROM:-0400
TZOFFSETTO:-0500
TZNAME:EST
DTSTART:20261101T060000
END:STANDARD
BEGIN:DAYLIGHT
TZOFFSETFROM:-0500
TZOFFSETTO:-0400
TZNAME:EDT
DTSTART:20270314T070000
END:DAYLIGHT
BEGIN:STANDARD
TZOFFSETFROM:-0400
TZOFFSETTO:-0500
TZNAME:EST
DTSTART:20271107T060000
END:STANDARD
END:VTIMEZONE
BEGIN:VEVENT
DTSTART;VALUE=DATE:20260207
DTEND;VALUE=DATE:20260208
DTSTAMP:20260423T143745
CREATED:20260105T235819Z
LAST-MODIFIED:20260105T235819Z
UID:9598-1770422400-1770508799@www.dvcta.org
SUMMARY:Blue Goose Snow Flake Series
DESCRIPTION:Dressage Schooling Show Series\nPrix Caprilli | Dressage | Western Dressage
URL:https://www.dvcta.org/event/blue-goose-snow-flake-series-8/
LOCATION:Blue Goose @ The Stables at Fox Crossing\, 501 Walter Road\, Cochranville\, PA\, 19330\, United States
CATEGORIES:DVCTA Sanctioned Schooling Show
ORGANIZER;CN="Darcy Miller":MAILTO:BlueGooseStableLLC@gmail.com
END:VEVENT
BEGIN:VEVENT
DTSTART;VALUE=DATE:20260220
DTEND;VALUE=DATE:20260221
DTSTAMP:20260423T143745
CREATED:20251215T191114Z
LAST-MODIFIED:20251215T191114Z
UID:9563-1771545600-1771631999@www.dvcta.org
SUMMARY:Second Nature Dressage Schooling Show
DESCRIPTION:Schooling Dressage Show
URL:https://www.dvcta.org/event/second-nature-dressage-schooling-show-50/
LOCATION:Second Nature Farm\, 420 Catamount Road\, Oxford\, PA\, 19363\, United States
CATEGORIES:DVCTA Sanctioned Schooling Show
END:VEVENT
BEGIN:VEVENT
DTSTART;TZID=America/New_York:20260222T123000
DTEND;TZID=America/New_York:20260222T163000
DTSTAMP:20260423T143745
CREATED:20251201T223633Z
LAST-MODIFIED:20251210T222003Z
UID:9529-1771763400-1771777800@www.dvcta.org
SUMMARY:DVCTA Annual Banquet
DESCRIPTION:DVCTA Annual Banquet February 22\, 2026 12:30PM-4:30PM\n \n \n\n \n \nBanquet Brunch will be held at: Loch Nairn Farm\, 514 McCue Road\, Avondale\, PA 19311\n \n \nPlease come join your horsey friends\, and their patient non-horsey guests\, for our Annual Banquet. We have a fabulous venue – the Loch Nairn Farm! \n \n \nIt’s sure to be a great time with lively bidding on the DVCTA Silent Auction and the year-end award winners announced. \n \n \nTickets are $45.00 each. Family and friends are welcome! Please complete form below. \n \n \n\n \nThis form is currently closed for submissions.
URL:https://www.dvcta.org/event/dvcta-annual-banquet-5/
LOCATION:Lock Nairn Farm\, 514 MCue Road\, Avondale\, 19311\, United States
CATEGORIES:Other
END:VEVENT
BEGIN:VEVENT
DTSTART;VALUE=DATE:20260228
DTEND;VALUE=DATE:20260301
DTSTAMP:20260423T143745
CREATED:20260406T150806Z
LAST-MODIFIED:20260406T150806Z
UID:9737-1772236800-1772323199@www.dvcta.org
SUMMARY:DunMovin Dressage Schooling Show
DESCRIPTION:Dressage Schooling Show
URL:https://www.dvcta.org/event/dunmovin-dressage-schooling-show-55/
LOCATION:DunMovin Farm\, 825 Guthrie Road\, West Chester\, PA\, 19380\, United States
CATEGORIES:DVCTA Sanctioned Schooling Show
ORGANIZER;CN="Doreen Garland":MAILTO:Dunmovinenterprisesllc@gmail.com
END:VEVENT
END:VCALENDAR