BEGIN:VCALENDAR
VERSION:2.0
PRODID:-//DVCTA - ECPv6.15.20//NONSGML v1.0//EN
CALSCALE:GREGORIAN
METHOD:PUBLISH
X-WR-CALNAME:DVCTA
X-ORIGINAL-URL:https://www.dvcta.org
X-WR-CALDESC:Events for DVCTA
REFRESH-INTERVAL;VALUE=DURATION:PT1H
X-Robots-Tag:noindex
X-PUBLISHED-TTL:PT1H
BEGIN:VTIMEZONE
TZID:America/New_York
BEGIN:DAYLIGHT
TZOFFSETFROM:-0500
TZOFFSETTO:-0400
TZNAME:EDT
DTSTART:20250309T070000
END:DAYLIGHT
BEGIN:STANDARD
TZOFFSETFROM:-0400
TZOFFSETTO:-0500
TZNAME:EST
DTSTART:20251102T060000
END:STANDARD
BEGIN:DAYLIGHT
TZOFFSETFROM:-0500
TZOFFSETTO:-0400
TZNAME:EDT
DTSTART:20260308T070000
END:DAYLIGHT
BEGIN:STANDARD
TZOFFSETFROM:-0400
TZOFFSETTO:-0500
TZNAME:EST
DTSTART:20261101T060000
END:STANDARD
BEGIN:DAYLIGHT
TZOFFSETFROM:-0500
TZOFFSETTO:-0400
TZNAME:EDT
DTSTART:20270314T070000
END:DAYLIGHT
BEGIN:STANDARD
TZOFFSETFROM:-0400
TZOFFSETTO:-0500
TZNAME:EST
DTSTART:20271107T060000
END:STANDARD
END:VTIMEZONE
BEGIN:VEVENT
DTSTART;VALUE=DATE:20260613
DTEND;VALUE=DATE:20260614
DTSTAMP:20260423T131018
CREATED:20260406T151032Z
LAST-MODIFIED:20260406T151032Z
UID:9740-1781308800-1781395199@www.dvcta.org
SUMMARY:DunMovin Dressage Schooling Show
DESCRIPTION:Dressage Schooling Show
URL:https://www.dvcta.org/event/dunmovin-dressage-schooling-show-58/
LOCATION:DunMovin Farm\, 825 Guthrie Road\, West Chester\, PA\, 19380\, United States
CATEGORIES:DVCTA Sanctioned Schooling Show
ORGANIZER;CN="Doreen Garland":MAILTO:Dunmovinenterprisesllc@gmail.com
END:VEVENT
BEGIN:VEVENT
DTSTART;VALUE=DATE:20260725
DTEND;VALUE=DATE:20260726
DTSTAMP:20260423T131018
CREATED:20260406T151119Z
LAST-MODIFIED:20260406T151119Z
UID:9741-1784937600-1785023999@www.dvcta.org
SUMMARY:DunMovin Dressage Schooling Show
DESCRIPTION:Dressage Schooling Show
URL:https://www.dvcta.org/event/dunmovin-dressage-schooling-show-59/
LOCATION:DunMovin Farm\, 825 Guthrie Road\, West Chester\, PA\, 19380\, United States
CATEGORIES:DVCTA Sanctioned Schooling Show
ORGANIZER;CN="Doreen Garland":MAILTO:Dunmovinenterprisesllc@gmail.com
END:VEVENT
BEGIN:VEVENT
DTSTART;VALUE=DATE:20260823
DTEND;VALUE=DATE:20260824
DTSTAMP:20260423T131018
CREATED:20260406T151558Z
LAST-MODIFIED:20260406T151558Z
UID:9743-1787443200-1787529599@www.dvcta.org
SUMMARY:DunMovin Dressage Schooling Show - Amateur Only
DESCRIPTION:Amateur Only Dressage Schooling Show\nheld at Devon Show Grounds\nThe Amateur Only Show would like to extend an invitation to the Junior/Young Riders to join us in the celebration of the partnership shared by the rider and their horse!
URL:https://www.dvcta.org/event/dunmovin-dressage-schooling-show-amateur-only/
LOCATION:Devon Show Grounds\, 23 Dorset Road\, Devon\, PA\, 19333\, United States
CATEGORIES:DVCTA Sanctioned Schooling Show
ORGANIZER;CN="Doreen Garland":MAILTO:Dunmovinenterprisesllc@gmail.com
END:VEVENT
BEGIN:VEVENT
DTSTART;VALUE=DATE:20260905
DTEND;VALUE=DATE:20260906
DTSTAMP:20260423T131018
CREATED:20260406T151657Z
LAST-MODIFIED:20260406T151657Z
UID:9744-1788566400-1788652799@www.dvcta.org
SUMMARY:DunMovin Dressage Schooling Show
DESCRIPTION:Dressage Schooling Show
URL:https://www.dvcta.org/event/dunmovin-dressage-schooling-show-61/
LOCATION:DunMovin Farm\, 825 Guthrie Road\, West Chester\, PA\, 19380\, United States
CATEGORIES:DVCTA Sanctioned Schooling Show
ORGANIZER;CN="Doreen Garland":MAILTO:Dunmovinenterprisesllc@gmail.com
END:VEVENT
BEGIN:VEVENT
DTSTART;VALUE=DATE:20261024
DTEND;VALUE=DATE:20261025
DTSTAMP:20260423T131018
CREATED:20260406T151750Z
LAST-MODIFIED:20260406T151750Z
UID:9754-1792800000-1792886399@www.dvcta.org
SUMMARY:DunMovin Dressage Schooling Show
DESCRIPTION:Dressage Schooling Show
URL:https://www.dvcta.org/event/dunmovin-dressage-schooling-show-62/
LOCATION:DunMovin Farm\, 825 Guthrie Road\, West Chester\, PA\, 19380\, United States
CATEGORIES:DVCTA Sanctioned Schooling Show
ORGANIZER;CN="Doreen Garland":MAILTO:Dunmovinenterprisesllc@gmail.com
END:VEVENT
END:VCALENDAR